BEGIN:VCALENDAR
VERSION:2.0
PRODID:-//Brentwood Theatre - ECPv6.15.13//NONSGML v1.0//EN
CALSCALE:GREGORIAN
METHOD:PUBLISH
X-ORIGINAL-URL:https://brentwood-theatre.co.uk
X-WR-CALDESC:Events for Brentwood Theatre
REFRESH-INTERVAL;VALUE=DURATION:PT1H
X-Robots-Tag:noindex
X-PUBLISHED-TTL:PT1H
BEGIN:VTIMEZONE
TZID:Europe/London
BEGIN:DAYLIGHT
TZOFFSETFROM:+0000
TZOFFSETTO:+0100
TZNAME:BST
DTSTART:20240331T010000
END:DAYLIGHT
BEGIN:STANDARD
TZOFFSETFROM:+0100
TZOFFSETTO:+0000
TZNAME:GMT
DTSTART:20241027T010000
END:STANDARD
BEGIN:DAYLIGHT
TZOFFSETFROM:+0000
TZOFFSETTO:+0100
TZNAME:BST
DTSTART:20250330T010000
END:DAYLIGHT
BEGIN:STANDARD
TZOFFSETFROM:+0100
TZOFFSETTO:+0000
TZNAME:GMT
DTSTART:20251026T010000
END:STANDARD
BEGIN:DAYLIGHT
TZOFFSETFROM:+0000
TZOFFSETTO:+0100
TZNAME:BST
DTSTART:20260329T010000
END:DAYLIGHT
BEGIN:STANDARD
TZOFFSETFROM:+0100
TZOFFSETTO:+0000
TZNAME:GMT
DTSTART:20261025T010000
END:STANDARD
END:VTIMEZONE
BEGIN:VEVENT
DTSTART;TZID=Europe/London:20250125T173000
DTEND;TZID=Europe/London:20250125T190000
DTSTAMP:20260423T010007
CREATED:20241125T114903Z
LAST-MODIFIED:20241126T131006Z
UID:7262-1737826200-1737831600@brentwood-theatre.co.uk
SUMMARY:AMERICA
DESCRIPTION:BMSS PERFORMING ARTS presents\nAMERICA – STREET DANCE PRODUCTION\nDirected and Created by professional performer Sam Fleet with The Plan Street Dance Academy and dancers from BMSS Performing Arts School based in Harold Wood. \nOriginal choreography\, Street Dance and Contemporary Style. \nThere is NO interval during this event. \nRunning time: 80 minutes.
URL:https://brentwood-theatre.co.uk/event/america/2025-01-25/2/
LOCATION:Brentwood Theatre\, 15 Shenfield Road\, Brentwood\, Essex\, CM15 8AG\, United Kingdom
CATEGORIES:Community,Dance,Theatre
ATTACH;FMTTYPE=image/png:https://brentwood-theatre.co.uk/wp-content/uploads/2024/11/The-PlanBaseBluePinkGradient.png
GEO:51.6220985;0.3067854
X-APPLE-STRUCTURED-LOCATION;VALUE=URI;X-ADDRESS=Brentwood Theatre 15 Shenfield Road Brentwood Essex CM15 8AG United Kingdom;X-APPLE-RADIUS=500;X-TITLE=15 Shenfield Road:geo:0.3067854,51.6220985
END:VEVENT
BEGIN:VEVENT
DTSTART;TZID=Europe/London:20250125T150000
DTEND;TZID=Europe/London:20250125T163000
DTSTAMP:20260423T010007
CREATED:20241125T114903Z
LAST-MODIFIED:20241126T131006Z
UID:7244-1737817200-1737822600@brentwood-theatre.co.uk
SUMMARY:AMERICA
DESCRIPTION:BMSS PERFORMING ARTS presents\nAMERICA – STREET DANCE PRODUCTION\nDirected and Created by professional performer Sam Fleet with The Plan Street Dance Academy and dancers from BMSS Performing Arts School based in Harold Wood. \nOriginal choreography\, Street Dance and Contemporary Style. \nThere is NO interval during this event. \nRunning time: 80 minutes.
URL:https://brentwood-theatre.co.uk/event/america/2025-01-25/
LOCATION:Brentwood Theatre\, 15 Shenfield Road\, Brentwood\, Essex\, CM15 8AG\, United Kingdom
CATEGORIES:Community,Dance,Theatre
ATTACH;FMTTYPE=image/png:https://brentwood-theatre.co.uk/wp-content/uploads/2024/11/The-PlanBaseBluePinkGradient.png
GEO:51.6220985;0.3067854
X-APPLE-STRUCTURED-LOCATION;VALUE=URI;X-ADDRESS=Brentwood Theatre 15 Shenfield Road Brentwood Essex CM15 8AG United Kingdom;X-APPLE-RADIUS=500;X-TITLE=15 Shenfield Road:geo:0.3067854,51.6220985
END:VEVENT
END:VCALENDAR