BEGIN:VCALENDAR
VERSION:2.0
PRODID:-//Brentwood Theatre - ECPv6.15.13//NONSGML v1.0//EN
CALSCALE:GREGORIAN
METHOD:PUBLISH
X-WR-CALNAME:Brentwood Theatre
X-ORIGINAL-URL:https://brentwood-theatre.co.uk
X-WR-CALDESC:Events for Brentwood Theatre
REFRESH-INTERVAL;VALUE=DURATION:PT1H
X-Robots-Tag:noindex
X-PUBLISHED-TTL:PT1H
BEGIN:VTIMEZONE
TZID:Europe/London
BEGIN:DAYLIGHT
TZOFFSETFROM:+0000
TZOFFSETTO:+0100
TZNAME:BST
DTSTART:20240331T010000
END:DAYLIGHT
BEGIN:STANDARD
TZOFFSETFROM:+0100
TZOFFSETTO:+0000
TZNAME:GMT
DTSTART:20241027T010000
END:STANDARD
BEGIN:DAYLIGHT
TZOFFSETFROM:+0000
TZOFFSETTO:+0100
TZNAME:BST
DTSTART:20250330T010000
END:DAYLIGHT
BEGIN:STANDARD
TZOFFSETFROM:+0100
TZOFFSETTO:+0000
TZNAME:GMT
DTSTART:20251026T010000
END:STANDARD
BEGIN:DAYLIGHT
TZOFFSETFROM:+0000
TZOFFSETTO:+0100
TZNAME:BST
DTSTART:20260329T010000
END:DAYLIGHT
BEGIN:STANDARD
TZOFFSETFROM:+0100
TZOFFSETTO:+0000
TZNAME:GMT
DTSTART:20261025T010000
END:STANDARD
END:VTIMEZONE
BEGIN:VEVENT
DTSTART;TZID=Europe/London:20250710T193000
DTEND;TZID=Europe/London:20250710T220000
DTSTAMP:20260423T021507
CREATED:20250611T104808Z
LAST-MODIFIED:20250611T105016Z
UID:7777-1752175800-1752184800@brentwood-theatre.co.uk
SUMMARY:Bring It On: The Musical
DESCRIPTION:ZLH Studios presents\nBring It On: The Musical\n“Bring It On: The Musical” is a high-energy\, high-flying musical inspired by the film of the same name. It tells the story of Campbell\, a cheerleading captain at Truman High\, who is forced to move to Jackson High and must rally a new squad to compete in the National  Championships. The show features a sassy script\, original music\, and explosive choreography\, exploring themes of friendship\, jealousy\, betrayal\, and forgiveness within the world of competitive cheerleading. \nApproximate running time 2hr 20min (including intervals)
URL:https://brentwood-theatre.co.uk/event/bring-it-on-the-musical/2025-07-10/
LOCATION:Brentwood Theatre\, 15 Shenfield Road\, Brentwood\, Essex\, CM15 8AG\, United Kingdom
CATEGORIES:Community,Musical,Theatre
ATTACH;FMTTYPE=image/jpeg:https://brentwood-theatre.co.uk/wp-content/uploads/2025/06/ppt-bringiton-1-900x900-1.jpg
GEO:51.6220985;0.3067854
X-APPLE-STRUCTURED-LOCATION;VALUE=URI;X-ADDRESS=Brentwood Theatre 15 Shenfield Road Brentwood Essex CM15 8AG United Kingdom;X-APPLE-RADIUS=500;X-TITLE=15 Shenfield Road:geo:0.3067854,51.6220985
END:VEVENT
BEGIN:VEVENT
DTSTART;TZID=Europe/London:20250709T193000
DTEND;TZID=Europe/London:20250709T220000
DTSTAMP:20260423T021507
CREATED:20250611T104808Z
LAST-MODIFIED:20250611T105015Z
UID:7776-1752089400-1752098400@brentwood-theatre.co.uk
SUMMARY:Bring It On: The Musical
DESCRIPTION:ZLH Studios presents\nBring It On: The Musical\n“Bring It On: The Musical” is a high-energy\, high-flying musical inspired by the film of the same name. It tells the story of Campbell\, a cheerleading captain at Truman High\, who is forced to move to Jackson High and must rally a new squad to compete in the National  Championships. The show features a sassy script\, original music\, and explosive choreography\, exploring themes of friendship\, jealousy\, betrayal\, and forgiveness within the world of competitive cheerleading. \nApproximate running time 2hr 20min (including intervals)
URL:https://brentwood-theatre.co.uk/event/bring-it-on-the-musical/2025-07-09/
LOCATION:Brentwood Theatre\, 15 Shenfield Road\, Brentwood\, Essex\, CM15 8AG\, United Kingdom
CATEGORIES:Community,Musical,Theatre
ATTACH;FMTTYPE=image/jpeg:https://brentwood-theatre.co.uk/wp-content/uploads/2025/06/ppt-bringiton-1-900x900-1.jpg
GEO:51.6220985;0.3067854
X-APPLE-STRUCTURED-LOCATION;VALUE=URI;X-ADDRESS=Brentwood Theatre 15 Shenfield Road Brentwood Essex CM15 8AG United Kingdom;X-APPLE-RADIUS=500;X-TITLE=15 Shenfield Road:geo:0.3067854,51.6220985
END:VEVENT
BEGIN:VEVENT
DTSTART;TZID=Europe/London:20250708T193000
DTEND;TZID=Europe/London:20250708T220000
DTSTAMP:20260423T021507
CREATED:20250611T104808Z
LAST-MODIFIED:20250611T105015Z
UID:7775-1752003000-1752012000@brentwood-theatre.co.uk
SUMMARY:Bring It On: The Musical
DESCRIPTION:ZLH Studios presents\nBring It On: The Musical\n“Bring It On: The Musical” is a high-energy\, high-flying musical inspired by the film of the same name. It tells the story of Campbell\, a cheerleading captain at Truman High\, who is forced to move to Jackson High and must rally a new squad to compete in the National  Championships. The show features a sassy script\, original music\, and explosive choreography\, exploring themes of friendship\, jealousy\, betrayal\, and forgiveness within the world of competitive cheerleading. \nApproximate running time 2hr 20min (including intervals)
URL:https://brentwood-theatre.co.uk/event/bring-it-on-the-musical/2025-07-08/
LOCATION:Brentwood Theatre\, 15 Shenfield Road\, Brentwood\, Essex\, CM15 8AG\, United Kingdom
CATEGORIES:Community,Musical,Theatre
ATTACH;FMTTYPE=image/jpeg:https://brentwood-theatre.co.uk/wp-content/uploads/2025/06/ppt-bringiton-1-900x900-1.jpg
GEO:51.6220985;0.3067854
X-APPLE-STRUCTURED-LOCATION;VALUE=URI;X-ADDRESS=Brentwood Theatre 15 Shenfield Road Brentwood Essex CM15 8AG United Kingdom;X-APPLE-RADIUS=500;X-TITLE=15 Shenfield Road:geo:0.3067854,51.6220985
END:VEVENT
BEGIN:VEVENT
DTSTART;TZID=Europe/London:20250707T193000
DTEND;TZID=Europe/London:20250707T220000
DTSTAMP:20260423T021507
CREATED:20250611T104808Z
LAST-MODIFIED:20250611T105015Z
UID:7772-1751916600-1751925600@brentwood-theatre.co.uk
SUMMARY:Bring It On: The Musical
DESCRIPTION:ZLH Studios presents\nBring It On: The Musical\n“Bring It On: The Musical” is a high-energy\, high-flying musical inspired by the film of the same name. It tells the story of Campbell\, a cheerleading captain at Truman High\, who is forced to move to Jackson High and must rally a new squad to compete in the National  Championships. The show features a sassy script\, original music\, and explosive choreography\, exploring themes of friendship\, jealousy\, betrayal\, and forgiveness within the world of competitive cheerleading. \nApproximate running time 2hr 20min (including intervals)
URL:https://brentwood-theatre.co.uk/event/bring-it-on-the-musical/2025-07-07/
LOCATION:Brentwood Theatre\, 15 Shenfield Road\, Brentwood\, Essex\, CM15 8AG\, United Kingdom
CATEGORIES:Community,Musical,Theatre
ATTACH;FMTTYPE=image/jpeg:https://brentwood-theatre.co.uk/wp-content/uploads/2025/06/ppt-bringiton-1-900x900-1.jpg
GEO:51.6220985;0.3067854
X-APPLE-STRUCTURED-LOCATION;VALUE=URI;X-ADDRESS=Brentwood Theatre 15 Shenfield Road Brentwood Essex CM15 8AG United Kingdom;X-APPLE-RADIUS=500;X-TITLE=15 Shenfield Road:geo:0.3067854,51.6220985
END:VEVENT
END:VCALENDAR