BEGIN:VCALENDAR
VERSION:2.0
PRODID:-//Brentwood Theatre - ECPv6.15.13//NONSGML v1.0//EN
CALSCALE:GREGORIAN
METHOD:PUBLISH
X-WR-CALNAME:Brentwood Theatre
X-ORIGINAL-URL:https://brentwood-theatre.co.uk
X-WR-CALDESC:Events for Brentwood Theatre
REFRESH-INTERVAL;VALUE=DURATION:PT1H
X-Robots-Tag:noindex
X-PUBLISHED-TTL:PT1H
BEGIN:VTIMEZONE
TZID:Europe/London
BEGIN:DAYLIGHT
TZOFFSETFROM:+0000
TZOFFSETTO:+0100
TZNAME:BST
DTSTART:20240331T010000
END:DAYLIGHT
BEGIN:STANDARD
TZOFFSETFROM:+0100
TZOFFSETTO:+0000
TZNAME:GMT
DTSTART:20241027T010000
END:STANDARD
BEGIN:DAYLIGHT
TZOFFSETFROM:+0000
TZOFFSETTO:+0100
TZNAME:BST
DTSTART:20250330T010000
END:DAYLIGHT
BEGIN:STANDARD
TZOFFSETFROM:+0100
TZOFFSETTO:+0000
TZNAME:GMT
DTSTART:20251026T010000
END:STANDARD
BEGIN:DAYLIGHT
TZOFFSETFROM:+0000
TZOFFSETTO:+0100
TZNAME:BST
DTSTART:20260329T010000
END:DAYLIGHT
BEGIN:STANDARD
TZOFFSETFROM:+0100
TZOFFSETTO:+0000
TZNAME:GMT
DTSTART:20261025T010000
END:STANDARD
END:VTIMEZONE
BEGIN:VEVENT
DTSTART;TZID=Europe/London:20250503T193000
DTEND;TZID=Europe/London:20250503T220000
DTSTAMP:20260424T075022
CREATED:20250301T100022Z
LAST-MODIFIED:20250221T172948Z
UID:7437-1746300600-1746309600@brentwood-theatre.co.uk
SUMMARY:House Guest
DESCRIPTION:Spotlight Theatre Company presents\,\nHOUSE GUEST\na thriller by Francis Durbridge in conjunction with Concord Theatrical Ltd. on behalf of Samuel French \nRunning time: approx 2 hours with a 20 minute interval. \n– There are gunshot/gunshot effects during this event.\n– Adult content – there are aspects of this event which may be unsuitable for all ages and therefore parental guidance is advised.
URL:https://brentwood-theatre.co.uk/event/house-guest/2025-05-03/
LOCATION:Brentwood Theatre\, 15 Shenfield Road\, Brentwood\, Essex\, CM15 8AG\, United Kingdom
ATTACH;FMTTYPE=image/jpeg:https://brentwood-theatre.co.uk/wp-content/uploads/2025/02/House-Guest-Poster.jpg
GEO:51.6220985;0.3067854
X-APPLE-STRUCTURED-LOCATION;VALUE=URI;X-ADDRESS=Brentwood Theatre 15 Shenfield Road Brentwood Essex CM15 8AG United Kingdom;X-APPLE-RADIUS=500;X-TITLE=15 Shenfield Road:geo:0.3067854,51.6220985
END:VEVENT
BEGIN:VEVENT
DTSTART;TZID=Europe/London:20250502T193000
DTEND;TZID=Europe/London:20250502T220000
DTSTAMP:20260424T075022
CREATED:20250301T100022Z
LAST-MODIFIED:20250221T172948Z
UID:7435-1746214200-1746223200@brentwood-theatre.co.uk
SUMMARY:House Guest
DESCRIPTION:Spotlight Theatre Company presents\,\nHOUSE GUEST\na thriller by Francis Durbridge in conjunction with Concord Theatrical Ltd. on behalf of Samuel French \nRunning time: approx 2 hours with a 20 minute interval. \n– There are gunshot/gunshot effects during this event.\n– Adult content – there are aspects of this event which may be unsuitable for all ages and therefore parental guidance is advised.
URL:https://brentwood-theatre.co.uk/event/house-guest/2025-05-02/
LOCATION:Brentwood Theatre\, 15 Shenfield Road\, Brentwood\, Essex\, CM15 8AG\, United Kingdom
ATTACH;FMTTYPE=image/jpeg:https://brentwood-theatre.co.uk/wp-content/uploads/2025/02/House-Guest-Poster.jpg
GEO:51.6220985;0.3067854
X-APPLE-STRUCTURED-LOCATION;VALUE=URI;X-ADDRESS=Brentwood Theatre 15 Shenfield Road Brentwood Essex CM15 8AG United Kingdom;X-APPLE-RADIUS=500;X-TITLE=15 Shenfield Road:geo:0.3067854,51.6220985
END:VEVENT
END:VCALENDAR