BEGIN:VCALENDAR
VERSION:2.0
PRODID:-//Brentwood Theatre - ECPv6.15.13//NONSGML v1.0//EN
CALSCALE:GREGORIAN
METHOD:PUBLISH
X-ORIGINAL-URL:https://brentwood-theatre.co.uk
X-WR-CALDESC:Events for Brentwood Theatre
REFRESH-INTERVAL;VALUE=DURATION:PT1H
X-Robots-Tag:noindex
X-PUBLISHED-TTL:PT1H
BEGIN:VTIMEZONE
TZID:Europe/London
BEGIN:DAYLIGHT
TZOFFSETFROM:+0000
TZOFFSETTO:+0100
TZNAME:BST
DTSTART:20180325T010000
END:DAYLIGHT
BEGIN:STANDARD
TZOFFSETFROM:+0100
TZOFFSETTO:+0000
TZNAME:GMT
DTSTART:20181028T010000
END:STANDARD
BEGIN:DAYLIGHT
TZOFFSETFROM:+0000
TZOFFSETTO:+0100
TZNAME:BST
DTSTART:20190331T010000
END:DAYLIGHT
BEGIN:STANDARD
TZOFFSETFROM:+0100
TZOFFSETTO:+0000
TZNAME:GMT
DTSTART:20191027T010000
END:STANDARD
BEGIN:DAYLIGHT
TZOFFSETFROM:+0000
TZOFFSETTO:+0100
TZNAME:BST
DTSTART:20200329T010000
END:DAYLIGHT
BEGIN:STANDARD
TZOFFSETFROM:+0100
TZOFFSETTO:+0000
TZNAME:GMT
DTSTART:20201025T010000
END:STANDARD
END:VTIMEZONE
BEGIN:VEVENT
DTSTART;TZID=Europe/London:20190404T200000
DTEND;TZID=Europe/London:20190404T220000
DTSTAMP:20260421T005428
CREATED:20190110T111027Z
LAST-MODIFIED:20190110T111027Z
UID:2292-1554408000-1554415200@brentwood-theatre.co.uk
SUMMARY:Kindertransport
DESCRIPTION:“Didn’t it ever occur to you that I might have wanted to die with you. Because I did. I never wanted to live without you.” \n1930s Germany: a young Jewish girl flees Nazi persecution on a train bound for England. Finding herself in a strange country and unable to speak the language\, she must shed her past in order to survive an uncertain future. \n1980s England: a woman sifts through the attic as she prepares for her daughter to leave home. Memories are unearthed among the boxes and questions must be answered about a life long-buried. \nKindertransport tackles the story of thousands of Jewish child refugees who were separated from their parents and uprooted from Europe to England during World War II. With the current state of the world and hundreds of thousands of unaccompanied child refugees\, Kindertransport asks pertinent questions about our responsibility to those in need right now by looking back to the past.
URL:https://brentwood-theatre.co.uk/event/kindertransport/2019-04-04/
LOCATION:Brentwood Theatre\, 15 Shenfield Road\, Brentwood\, Essex\, CM15 8AG\, United Kingdom
CATEGORIES:Drama,Theatre
ATTACH;FMTTYPE=image/jpeg:https://brentwood-theatre.co.uk/wp-content/uploads/2019/01/Kindertransport-2.jpg
GEO:51.6220985;0.3067854
X-APPLE-STRUCTURED-LOCATION;VALUE=URI;X-ADDRESS=Brentwood Theatre 15 Shenfield Road Brentwood Essex CM15 8AG United Kingdom;X-APPLE-RADIUS=500;X-TITLE=15 Shenfield Road:geo:0.3067854,51.6220985
END:VEVENT
END:VCALENDAR