BEGIN:VCALENDAR
VERSION:2.0
PRODID:-//Brentwood Theatre - ECPv6.15.13//NONSGML v1.0//EN
CALSCALE:GREGORIAN
METHOD:PUBLISH
X-ORIGINAL-URL:https://brentwood-theatre.co.uk
X-WR-CALDESC:Events for Brentwood Theatre
REFRESH-INTERVAL;VALUE=DURATION:PT1H
X-Robots-Tag:noindex
X-PUBLISHED-TTL:PT1H
BEGIN:VTIMEZONE
TZID:Europe/London
BEGIN:DAYLIGHT
TZOFFSETFROM:+0000
TZOFFSETTO:+0100
TZNAME:BST
DTSTART:20210328T010000
END:DAYLIGHT
BEGIN:STANDARD
TZOFFSETFROM:+0100
TZOFFSETTO:+0000
TZNAME:GMT
DTSTART:20211031T010000
END:STANDARD
BEGIN:DAYLIGHT
TZOFFSETFROM:+0000
TZOFFSETTO:+0100
TZNAME:BST
DTSTART:20220327T010000
END:DAYLIGHT
BEGIN:STANDARD
TZOFFSETFROM:+0100
TZOFFSETTO:+0000
TZNAME:GMT
DTSTART:20221030T010000
END:STANDARD
BEGIN:DAYLIGHT
TZOFFSETFROM:+0000
TZOFFSETTO:+0100
TZNAME:BST
DTSTART:20230326T010000
END:DAYLIGHT
BEGIN:STANDARD
TZOFFSETFROM:+0100
TZOFFSETTO:+0000
TZNAME:GMT
DTSTART:20231029T010000
END:STANDARD
END:VTIMEZONE
BEGIN:VEVENT
DTSTART;TZID=Europe/London:20220629T193000
DTEND;TZID=Europe/London:20220629T220000
DTSTAMP:20260423T165503
CREATED:20220322T090038Z
LAST-MODIFIED:20220321T131816Z
UID:4600-1656531000-1656540000@brentwood-theatre.co.uk
SUMMARY:Lend Me A Tenor
DESCRIPTION:Firebirds presents\nLend Me A Tenor\nHilarity ensues when famous operatic tenor goes missing – because the show must go on!  \nFirebirds return to bring you this hilarious farce based on the play Lend Me A Tenor by Ken Ludwig – with music by Brad Carroll and book and lyrics by Peter Sham. Cleveland Opera House has a big opening night planned and is expecting world-famous operatic tenor Tito Merelli to head the cast – but where is he? After much confusion and mayhem someone must go on to play the lead role and save the day – but who? \nThis amateur production is presented by arrangement with Music Theatre International. \nApprox. run time 2hrs 40mins
URL:https://brentwood-theatre.co.uk/event/lend-me-a-tenor/2022-06-29/
LOCATION:Brentwood Theatre\, 15 Shenfield Road\, Brentwood\, Essex\, CM15 8AG\, United Kingdom
CATEGORIES:Comedy,Musical
ATTACH;FMTTYPE=image/jpeg:https://brentwood-theatre.co.uk/wp-content/uploads/2022/03/Lend-me-a-Tenor-A5-Flyer-Web.jpg
GEO:51.6220985;0.3067854
X-APPLE-STRUCTURED-LOCATION;VALUE=URI;X-ADDRESS=Brentwood Theatre 15 Shenfield Road Brentwood Essex CM15 8AG United Kingdom;X-APPLE-RADIUS=500;X-TITLE=15 Shenfield Road:geo:0.3067854,51.6220985
END:VEVENT
END:VCALENDAR