BEGIN:VCALENDAR
VERSION:2.0
PRODID:-//Brentwood Theatre - ECPv6.15.13//NONSGML v1.0//EN
CALSCALE:GREGORIAN
METHOD:PUBLISH
X-WR-CALNAME:Brentwood Theatre
X-ORIGINAL-URL:https://brentwood-theatre.co.uk
X-WR-CALDESC:Events for Brentwood Theatre
REFRESH-INTERVAL;VALUE=DURATION:PT1H
X-Robots-Tag:noindex
X-PUBLISHED-TTL:PT1H
BEGIN:VTIMEZONE
TZID:Europe/London
BEGIN:DAYLIGHT
TZOFFSETFROM:+0000
TZOFFSETTO:+0100
TZNAME:BST
DTSTART:20220327T010000
END:DAYLIGHT
BEGIN:STANDARD
TZOFFSETFROM:+0100
TZOFFSETTO:+0000
TZNAME:GMT
DTSTART:20221030T010000
END:STANDARD
BEGIN:DAYLIGHT
TZOFFSETFROM:+0000
TZOFFSETTO:+0100
TZNAME:BST
DTSTART:20230326T010000
END:DAYLIGHT
BEGIN:STANDARD
TZOFFSETFROM:+0100
TZOFFSETTO:+0000
TZNAME:GMT
DTSTART:20231029T010000
END:STANDARD
BEGIN:DAYLIGHT
TZOFFSETFROM:+0000
TZOFFSETTO:+0100
TZNAME:BST
DTSTART:20240331T010000
END:DAYLIGHT
BEGIN:STANDARD
TZOFFSETFROM:+0100
TZOFFSETTO:+0000
TZNAME:GMT
DTSTART:20241027T010000
END:STANDARD
END:VTIMEZONE
BEGIN:VEVENT
DTSTART;TZID=Europe/London:20231215T100000
DTEND;TZID=Europe/London:20231215T113000
DTSTAMP:20260426T024734
CREATED:20230804T090003Z
LAST-MODIFIED:20231128T161059Z
UID:5958-1702634400-1702639800@brentwood-theatre.co.uk
SUMMARY:Let It Snow!
DESCRIPTION:From the creative team behind the acclaimed The Night Before Christmas and The Twelve Days of Christmas comes a brand new musical adventure ​featuring two penguins\, Jack Frost…and a Yeti! \nGwen is the finest of the North Pole’s Penguin Postal Officers\, thank you very much. Hopper is the newest\, he thinks…maybe? Together they are responsible for getting all the post to the right places at the right time\, but when Jack Frost doesn’t get his post\, Winter doesn’t arrive and without Winter\, will there be Christmas? Can Gwen and Hopper get things back on track in time to save Winter? \nJoin our two penguin posties as they set out on a journey to discover the magic of the most festive season of all! \nSuitable for all the family \nHere at Brentwood Theatre we believe that everyone should have access to theatre and we’re thrilled to be able to support two special Pay What You Can performances of our Christmas family musical “Let It Snow!” on Friday 15 and Monday 18 December at 6pm – please pay what you can and we look forward to seeing you soon.
URL:https://brentwood-theatre.co.uk/event/let-it-snow/2023-12-15/
LOCATION:Brentwood Theatre\, 15 Shenfield Road\, Brentwood\, Essex\, CM15 8AG\, United Kingdom
CATEGORIES:Children's Theatre,Community,Family,Family Musical,Get into ARTS!,Musical,Pantomime,Professional,Theatre
ATTACH;FMTTYPE=image/png:https://brentwood-theatre.co.uk/wp-content/uploads/2023/08/Let-it-Snow-Temp-Image.png
GEO:51.6220985;0.3067854
X-APPLE-STRUCTURED-LOCATION;VALUE=URI;X-ADDRESS=Brentwood Theatre 15 Shenfield Road Brentwood Essex CM15 8AG United Kingdom;X-APPLE-RADIUS=500;X-TITLE=15 Shenfield Road:geo:0.3067854,51.6220985
END:VEVENT
END:VCALENDAR