BEGIN:VCALENDAR
VERSION:2.0
PRODID:-//Brentwood Theatre - ECPv6.15.13//NONSGML v1.0//EN
CALSCALE:GREGORIAN
METHOD:PUBLISH
X-ORIGINAL-URL:https://brentwood-theatre.co.uk
X-WR-CALDESC:Events for Brentwood Theatre
REFRESH-INTERVAL;VALUE=DURATION:PT1H
X-Robots-Tag:noindex
X-PUBLISHED-TTL:PT1H
BEGIN:VTIMEZONE
TZID:Europe/London
BEGIN:DAYLIGHT
TZOFFSETFROM:+0000
TZOFFSETTO:+0100
TZNAME:BST
DTSTART:20180325T010000
END:DAYLIGHT
BEGIN:STANDARD
TZOFFSETFROM:+0100
TZOFFSETTO:+0000
TZNAME:GMT
DTSTART:20181028T010000
END:STANDARD
BEGIN:DAYLIGHT
TZOFFSETFROM:+0000
TZOFFSETTO:+0100
TZNAME:BST
DTSTART:20190331T010000
END:DAYLIGHT
BEGIN:STANDARD
TZOFFSETFROM:+0100
TZOFFSETTO:+0000
TZNAME:GMT
DTSTART:20191027T010000
END:STANDARD
BEGIN:DAYLIGHT
TZOFFSETFROM:+0000
TZOFFSETTO:+0100
TZNAME:BST
DTSTART:20200329T010000
END:DAYLIGHT
BEGIN:STANDARD
TZOFFSETFROM:+0100
TZOFFSETTO:+0000
TZNAME:GMT
DTSTART:20201025T010000
END:STANDARD
END:VTIMEZONE
BEGIN:VEVENT
DTSTART;TZID=Europe/London:20190408T100000
DTEND;TZID=Europe/London:20190408T110000
DTSTAMP:20260421T002848
CREATED:20181130T172026Z
LAST-MODIFIED:20181130T172026Z
UID:2198-1554717600-1554721200@brentwood-theatre.co.uk
SUMMARY:Rhyme Time at Brentwood Theatre
DESCRIPTION:Join Brentwood Theatre and Newton Park for unique\, fun and friendly Song and Rhyme Time sessions mixing conventional nursery rhymes\, modern songs and also some Disney classics on guitar and ukelele.\n\n\n \n\n\nThe sessions will be led by local musician Graham Newton\, who under the pen name of Newton Park writes and illustrates his own children’s books.\n\n\nSessions will be held on the following Mondays through to Easter: \n  \nJanuary – 14 & 28 \nFebruary – 11 & 25 \nMarch – 11 & 25 \nApril – 8 \n  \n\n10am & 11am | £5 per child – includes a free tea/coffee for accompanying adult\n\n\n \n\n\n(recommended for children under 5)
URL:https://brentwood-theatre.co.uk/event/rhyme-time-at-brentwood-theatre-7/2019-04-08/
LOCATION:Brentwood Theatre\, 15 Shenfield Road\, Brentwood\, Essex\, CM15 8AG\, United Kingdom
CATEGORIES:Children's Theatre,Family,Get into ARTS!,Live Music,Rhyme Time
ATTACH;FMTTYPE=image/png:https://brentwood-theatre.co.uk/wp-content/uploads/2018/11/Rhyme-Time-Logo-GiA-e1546429121231.png
ORGANIZER;CN="Get into ARTS!":MAILTO:getintoarts@brentwood-theatre.org
GEO:51.6220985;0.3067854
X-APPLE-STRUCTURED-LOCATION;VALUE=URI;X-ADDRESS=Brentwood Theatre 15 Shenfield Road Brentwood Essex CM15 8AG United Kingdom;X-APPLE-RADIUS=500;X-TITLE=15 Shenfield Road:geo:0.3067854,51.6220985
END:VEVENT
END:VCALENDAR