BEGIN:VCALENDAR
VERSION:2.0
PRODID:-//Brentwood Theatre - ECPv6.15.13//NONSGML v1.0//EN
CALSCALE:GREGORIAN
METHOD:PUBLISH
X-ORIGINAL-URL:https://brentwood-theatre.co.uk
X-WR-CALDESC:Events for Brentwood Theatre
REFRESH-INTERVAL;VALUE=DURATION:PT1H
X-Robots-Tag:noindex
X-PUBLISHED-TTL:PT1H
BEGIN:VTIMEZONE
TZID:Europe/London
BEGIN:DAYLIGHT
TZOFFSETFROM:+0000
TZOFFSETTO:+0100
TZNAME:BST
DTSTART:20240331T010000
END:DAYLIGHT
BEGIN:STANDARD
TZOFFSETFROM:+0100
TZOFFSETTO:+0000
TZNAME:GMT
DTSTART:20241027T010000
END:STANDARD
BEGIN:DAYLIGHT
TZOFFSETFROM:+0000
TZOFFSETTO:+0100
TZNAME:BST
DTSTART:20250330T010000
END:DAYLIGHT
BEGIN:STANDARD
TZOFFSETFROM:+0100
TZOFFSETTO:+0000
TZNAME:GMT
DTSTART:20251026T010000
END:STANDARD
BEGIN:DAYLIGHT
TZOFFSETFROM:+0000
TZOFFSETTO:+0100
TZNAME:BST
DTSTART:20260329T010000
END:DAYLIGHT
BEGIN:STANDARD
TZOFFSETFROM:+0100
TZOFFSETTO:+0000
TZNAME:GMT
DTSTART:20261025T010000
END:STANDARD
END:VTIMEZONE
BEGIN:VEVENT
DTSTART;TZID=Europe/London:20250315T193000
DTEND;TZID=Europe/London:20250315T223000
DTSTAMP:20260423T154244
CREATED:20241108T155525Z
LAST-MODIFIED:20250314T123824Z
UID:7552-1742067000-1742077800@brentwood-theatre.co.uk
SUMMARY:Richard III
DESCRIPTION:Richard III\n“Every tale condemns me for a villain.”\n“Now is the winter of our discontent\,” when evil stalks the corridors of power. Richard\, the Duke of Gloucester\, wants the throne of England and is prepared to stop at nothing to get it. As the drama unfolds\, the body count increases\, whilst Richard removes one obstacle after another. Graham Poulteney directs this exciting production of William Shakespeare’s brutal history of the notorious monarch. “A horse\, a horse\, my kingdom for a horse\,” but has time already run out? \nRunning Time: Approx 3 hours\, including two 15 minute intervals. \n\nThere are gunshot/gunshot effects during this event.\nStroboscopic Lighting effects (flashing/pulsating lights) will be used during this event.\nAdult content – there are aspects of this event which may be unsuitable for all ages and therefore parental\nguidance is advised.\n\n*School Bookings available on request. \n 
URL:https://brentwood-theatre.co.uk/event/richard-iii/2025-03-15/2/
LOCATION:Brentwood Theatre\, 15 Shenfield Road\, Brentwood\, Essex\, CM15 8AG\, United Kingdom
CATEGORIES:Drama
ATTACH;FMTTYPE=image/png:https://brentwood-theatre.co.uk/wp-content/uploads/2024/11/Richard-III-poster.png
GEO:51.6220985;0.3067854
X-APPLE-STRUCTURED-LOCATION;VALUE=URI;X-ADDRESS=Brentwood Theatre 15 Shenfield Road Brentwood Essex CM15 8AG United Kingdom;X-APPLE-RADIUS=500;X-TITLE=15 Shenfield Road:geo:0.3067854,51.6220985
END:VEVENT
BEGIN:VEVENT
DTSTART;TZID=Europe/London:20250315T140000
DTEND;TZID=Europe/London:20250315T170000
DTSTAMP:20260423T154244
CREATED:20241108T155525Z
LAST-MODIFIED:20250314T123824Z
UID:7551-1742047200-1742058000@brentwood-theatre.co.uk
SUMMARY:Richard III
DESCRIPTION:Richard III\n“Every tale condemns me for a villain.”\n“Now is the winter of our discontent\,” when evil stalks the corridors of power. Richard\, the Duke of Gloucester\, wants the throne of England and is prepared to stop at nothing to get it. As the drama unfolds\, the body count increases\, whilst Richard removes one obstacle after another. Graham Poulteney directs this exciting production of William Shakespeare’s brutal history of the notorious monarch. “A horse\, a horse\, my kingdom for a horse\,” but has time already run out? \nRunning Time: Approx 3 hours\, including two 15 minute intervals. \n\nThere are gunshot/gunshot effects during this event.\nStroboscopic Lighting effects (flashing/pulsating lights) will be used during this event.\nAdult content – there are aspects of this event which may be unsuitable for all ages and therefore parental\nguidance is advised.\n\n*School Bookings available on request. \n 
URL:https://brentwood-theatre.co.uk/event/richard-iii/2025-03-15/
LOCATION:Brentwood Theatre\, 15 Shenfield Road\, Brentwood\, Essex\, CM15 8AG\, United Kingdom
CATEGORIES:Drama
ATTACH;FMTTYPE=image/png:https://brentwood-theatre.co.uk/wp-content/uploads/2024/11/Richard-III-poster.png
GEO:51.6220985;0.3067854
X-APPLE-STRUCTURED-LOCATION;VALUE=URI;X-ADDRESS=Brentwood Theatre 15 Shenfield Road Brentwood Essex CM15 8AG United Kingdom;X-APPLE-RADIUS=500;X-TITLE=15 Shenfield Road:geo:0.3067854,51.6220985
END:VEVENT
BEGIN:VEVENT
DTSTART;TZID=Europe/London:20250314T193000
DTEND;TZID=Europe/London:20250314T223000
DTSTAMP:20260423T154244
CREATED:20241108T155525Z
LAST-MODIFIED:20250314T123823Z
UID:7550-1741980600-1741991400@brentwood-theatre.co.uk
SUMMARY:Richard III
DESCRIPTION:Richard III\n“Every tale condemns me for a villain.”\n“Now is the winter of our discontent\,” when evil stalks the corridors of power. Richard\, the Duke of Gloucester\, wants the throne of England and is prepared to stop at nothing to get it. As the drama unfolds\, the body count increases\, whilst Richard removes one obstacle after another. Graham Poulteney directs this exciting production of William Shakespeare’s brutal history of the notorious monarch. “A horse\, a horse\, my kingdom for a horse\,” but has time already run out? \nRunning Time: Approx 3 hours\, including two 15 minute intervals. \n\nThere are gunshot/gunshot effects during this event.\nStroboscopic Lighting effects (flashing/pulsating lights) will be used during this event.\nAdult content – there are aspects of this event which may be unsuitable for all ages and therefore parental\nguidance is advised.\n\n*School Bookings available on request. \n 
URL:https://brentwood-theatre.co.uk/event/richard-iii/2025-03-14/
LOCATION:Brentwood Theatre\, 15 Shenfield Road\, Brentwood\, Essex\, CM15 8AG\, United Kingdom
CATEGORIES:Drama
ATTACH;FMTTYPE=image/png:https://brentwood-theatre.co.uk/wp-content/uploads/2024/11/Richard-III-poster.png
GEO:51.6220985;0.3067854
X-APPLE-STRUCTURED-LOCATION;VALUE=URI;X-ADDRESS=Brentwood Theatre 15 Shenfield Road Brentwood Essex CM15 8AG United Kingdom;X-APPLE-RADIUS=500;X-TITLE=15 Shenfield Road:geo:0.3067854,51.6220985
END:VEVENT
BEGIN:VEVENT
DTSTART;TZID=Europe/London:20250313T193000
DTEND;TZID=Europe/London:20250313T223000
DTSTAMP:20260423T154244
CREATED:20241108T155525Z
LAST-MODIFIED:20250314T123823Z
UID:7213-1741894200-1741905000@brentwood-theatre.co.uk
SUMMARY:Richard III
DESCRIPTION:Richard III\n“Every tale condemns me for a villain.”\n“Now is the winter of our discontent\,” when evil stalks the corridors of power. Richard\, the Duke of Gloucester\, wants the throne of England and is prepared to stop at nothing to get it. As the drama unfolds\, the body count increases\, whilst Richard removes one obstacle after another. Graham Poulteney directs this exciting production of William Shakespeare’s brutal history of the notorious monarch. “A horse\, a horse\, my kingdom for a horse\,” but has time already run out? \nRunning Time: Approx 3 hours\, including two 15 minute intervals. \n\nThere are gunshot/gunshot effects during this event.\nStroboscopic Lighting effects (flashing/pulsating lights) will be used during this event.\nAdult content – there are aspects of this event which may be unsuitable for all ages and therefore parental\nguidance is advised.\n\n*School Bookings available on request. \n 
URL:https://brentwood-theatre.co.uk/event/richard-iii/2025-03-13/
LOCATION:Brentwood Theatre\, 15 Shenfield Road\, Brentwood\, Essex\, CM15 8AG\, United Kingdom
CATEGORIES:Drama
ATTACH;FMTTYPE=image/png:https://brentwood-theatre.co.uk/wp-content/uploads/2024/11/Richard-III-poster.png
GEO:51.6220985;0.3067854
X-APPLE-STRUCTURED-LOCATION;VALUE=URI;X-ADDRESS=Brentwood Theatre 15 Shenfield Road Brentwood Essex CM15 8AG United Kingdom;X-APPLE-RADIUS=500;X-TITLE=15 Shenfield Road:geo:0.3067854,51.6220985
END:VEVENT
END:VCALENDAR