BEGIN:VCALENDAR
VERSION:2.0
PRODID:-//Brentwood Theatre - ECPv6.15.13//NONSGML v1.0//EN
CALSCALE:GREGORIAN
METHOD:PUBLISH
X-WR-CALNAME:Brentwood Theatre
X-ORIGINAL-URL:https://brentwood-theatre.co.uk
X-WR-CALDESC:Events for Brentwood Theatre
REFRESH-INTERVAL;VALUE=DURATION:PT1H
X-Robots-Tag:noindex
X-PUBLISHED-TTL:PT1H
BEGIN:VTIMEZONE
TZID:Europe/London
BEGIN:DAYLIGHT
TZOFFSETFROM:+0000
TZOFFSETTO:+0100
TZNAME:BST
DTSTART:20210328T010000
END:DAYLIGHT
BEGIN:STANDARD
TZOFFSETFROM:+0100
TZOFFSETTO:+0000
TZNAME:GMT
DTSTART:20211031T010000
END:STANDARD
BEGIN:DAYLIGHT
TZOFFSETFROM:+0000
TZOFFSETTO:+0100
TZNAME:BST
DTSTART:20220327T010000
END:DAYLIGHT
BEGIN:STANDARD
TZOFFSETFROM:+0100
TZOFFSETTO:+0000
TZNAME:GMT
DTSTART:20221030T010000
END:STANDARD
BEGIN:DAYLIGHT
TZOFFSETFROM:+0000
TZOFFSETTO:+0100
TZNAME:BST
DTSTART:20230326T010000
END:DAYLIGHT
BEGIN:STANDARD
TZOFFSETFROM:+0100
TZOFFSETTO:+0000
TZNAME:GMT
DTSTART:20231029T010000
END:STANDARD
END:VTIMEZONE
BEGIN:VEVENT
DTSTART;TZID=Europe/London:20220924T191500
DTEND;TZID=Europe/London:20220924T214500
DTSTAMP:20260421T030849
CREATED:20220801T120040Z
LAST-MODIFIED:20220827T151143Z
UID:5141-1664046900-1664055900@brentwood-theatre.co.uk
SUMMARY:Short+Sweet Essex
DESCRIPTION:Short+Sweet the biggest little play festival in the world \nAn evening of original short 10 minute plays\, written\, directed and performed by local writers\, directors and actors. A fantastic chance to see an assortment of different genres performed 10 minutes at a time. There’s murder\, mobile phones\, tea party’s and train journeys\, life changing decisions\, friendships made and lost\, even Pavlov’s dog makes an appearance. \nA diverse fun evening which will make you laugh and cry and maybe think a bit. \nThe festival is a unique opportunity for developing and established writers\, directors and actors who want to share their talent in a professional theatre environment. \nIt began in Sydney\, Australia\, over 20 years ago and is now running in 34 cities all over the world\, including Sydney\, Melbourne\, Illawarra\, Mumbai\, Hollywood and Dubai. And we are delighted to be hosting the first one here in England. \nOur vision is simple – a more creative world 10 minutes at a time. \nAdult content – there are aspects of this event which may be unsuitable for all ages and therefore parental guidance is advised\nAdult content – there are scenes of an adult nature in this production which may be unsuitable for all ages\nThere is strong language in this event \nThe running time for this performance is approximately two hours and thirty minutes.
URL:https://brentwood-theatre.co.uk/event/shortsweet-essex-2022-09-24/2022-09-24/
LOCATION:Brentwood Theatre\, 15 Shenfield Road\, Brentwood\, Essex\, CM15 8AG\, United Kingdom
CATEGORIES:Drama
ATTACH;FMTTYPE=image/jpeg:https://brentwood-theatre.co.uk/wp-content/uploads/2022/07/Square-People-Jul22.jpg
GEO:51.6220985;0.3067854
X-APPLE-STRUCTURED-LOCATION;VALUE=URI;X-ADDRESS=Brentwood Theatre 15 Shenfield Road Brentwood Essex CM15 8AG United Kingdom;X-APPLE-RADIUS=500;X-TITLE=15 Shenfield Road:geo:0.3067854,51.6220985
END:VEVENT
END:VCALENDAR