BEGIN:VCALENDAR
VERSION:2.0
PRODID:-//Brentwood Theatre - ECPv6.15.13//NONSGML v1.0//EN
CALSCALE:GREGORIAN
METHOD:PUBLISH
X-ORIGINAL-URL:https://brentwood-theatre.co.uk
X-WR-CALDESC:Events for Brentwood Theatre
REFRESH-INTERVAL;VALUE=DURATION:PT1H
X-Robots-Tag:noindex
X-PUBLISHED-TTL:PT1H
BEGIN:VTIMEZONE
TZID:Europe/London
BEGIN:DAYLIGHT
TZOFFSETFROM:+0000
TZOFFSETTO:+0100
TZNAME:BST
DTSTART:20240331T010000
END:DAYLIGHT
BEGIN:STANDARD
TZOFFSETFROM:+0100
TZOFFSETTO:+0000
TZNAME:GMT
DTSTART:20241027T010000
END:STANDARD
BEGIN:DAYLIGHT
TZOFFSETFROM:+0000
TZOFFSETTO:+0100
TZNAME:BST
DTSTART:20250330T010000
END:DAYLIGHT
BEGIN:STANDARD
TZOFFSETFROM:+0100
TZOFFSETTO:+0000
TZNAME:GMT
DTSTART:20251026T010000
END:STANDARD
BEGIN:DAYLIGHT
TZOFFSETFROM:+0000
TZOFFSETTO:+0100
TZNAME:BST
DTSTART:20260329T010000
END:DAYLIGHT
BEGIN:STANDARD
TZOFFSETFROM:+0100
TZOFFSETTO:+0000
TZNAME:GMT
DTSTART:20261025T010000
END:STANDARD
END:VTIMEZONE
BEGIN:VEVENT
DTSTART;TZID=Europe/London:20250504T150000
DTEND;TZID=Europe/London:20250504T170000
DTSTAMP:20260424T063948
CREATED:20250327T122402Z
LAST-MODIFIED:20250327T122946Z
UID:7610-1746370800-1746378000@brentwood-theatre.co.uk
SUMMARY:Standout presents Magic At The Musicals
DESCRIPTION:Standout Theatre Company presents\nMagic at the Musicals\nExperience Magic At The Musicals with the Standout Theatre Company \nGet ready for a night of sheer enchantment as Standout presents Magic At The Musicals! This electrifying youth theatre variety show is set to whisk audiences away on a thrilling adventure through the iconic and unforgettable world of West End musicals. \nFrom start to finish\, Magic at the Musicals is a celebration of everything Standout and all that we love about musical theatre! The stage will light up with dazzling performances from our talented cast of young stars. \nSo\, grab your tickets\, prepare for an unforgettable night\, and get ready to experience the magic of musical theatre like never before! \nApprox. running time 2hrs (including interval)
URL:https://brentwood-theatre.co.uk/event/standout-presents-magic-at-the-musicals/2025-05-04/2/
LOCATION:Brentwood Theatre\, 15 Shenfield Road\, Brentwood\, Essex\, CM15 8AG\, United Kingdom
CATEGORIES:Community,Dance,Musical,Theatre
ATTACH;FMTTYPE=image/png:https://brentwood-theatre.co.uk/wp-content/uploads/2025/03/Standout-Theatre-Co-1.png
GEO:51.6220985;0.3067854
X-APPLE-STRUCTURED-LOCATION;VALUE=URI;X-ADDRESS=Brentwood Theatre 15 Shenfield Road Brentwood Essex CM15 8AG United Kingdom;X-APPLE-RADIUS=500;X-TITLE=15 Shenfield Road:geo:0.3067854,51.6220985
END:VEVENT
BEGIN:VEVENT
DTSTART;TZID=Europe/London:20250504T120000
DTEND;TZID=Europe/London:20250504T140000
DTSTAMP:20260424T063948
CREATED:20250327T122402Z
LAST-MODIFIED:20250327T122946Z
UID:7607-1746360000-1746367200@brentwood-theatre.co.uk
SUMMARY:Standout presents Magic At The Musicals
DESCRIPTION:Standout Theatre Company presents\nMagic at the Musicals\nExperience Magic At The Musicals with the Standout Theatre Company \nGet ready for a night of sheer enchantment as Standout presents Magic At The Musicals! This electrifying youth theatre variety show is set to whisk audiences away on a thrilling adventure through the iconic and unforgettable world of West End musicals. \nFrom start to finish\, Magic at the Musicals is a celebration of everything Standout and all that we love about musical theatre! The stage will light up with dazzling performances from our talented cast of young stars. \nSo\, grab your tickets\, prepare for an unforgettable night\, and get ready to experience the magic of musical theatre like never before! \nApprox. running time 2hrs (including interval)
URL:https://brentwood-theatre.co.uk/event/standout-presents-magic-at-the-musicals/2025-05-04/
LOCATION:Brentwood Theatre\, 15 Shenfield Road\, Brentwood\, Essex\, CM15 8AG\, United Kingdom
CATEGORIES:Community,Dance,Musical,Theatre
ATTACH;FMTTYPE=image/png:https://brentwood-theatre.co.uk/wp-content/uploads/2025/03/Standout-Theatre-Co-1.png
GEO:51.6220985;0.3067854
X-APPLE-STRUCTURED-LOCATION;VALUE=URI;X-ADDRESS=Brentwood Theatre 15 Shenfield Road Brentwood Essex CM15 8AG United Kingdom;X-APPLE-RADIUS=500;X-TITLE=15 Shenfield Road:geo:0.3067854,51.6220985
END:VEVENT
END:VCALENDAR