BEGIN:VCALENDAR
VERSION:2.0
PRODID:-//Brentwood Theatre - ECPv6.15.13//NONSGML v1.0//EN
CALSCALE:GREGORIAN
METHOD:PUBLISH
X-WR-CALNAME:Brentwood Theatre
X-ORIGINAL-URL:https://brentwood-theatre.co.uk
X-WR-CALDESC:Events for Brentwood Theatre
REFRESH-INTERVAL;VALUE=DURATION:PT1H
X-Robots-Tag:noindex
X-PUBLISHED-TTL:PT1H
BEGIN:VTIMEZONE
TZID:Europe/London
BEGIN:DAYLIGHT
TZOFFSETFROM:+0000
TZOFFSETTO:+0100
TZNAME:BST
DTSTART:20180325T010000
END:DAYLIGHT
BEGIN:STANDARD
TZOFFSETFROM:+0100
TZOFFSETTO:+0000
TZNAME:GMT
DTSTART:20181028T010000
END:STANDARD
BEGIN:DAYLIGHT
TZOFFSETFROM:+0000
TZOFFSETTO:+0100
TZNAME:BST
DTSTART:20190331T010000
END:DAYLIGHT
BEGIN:STANDARD
TZOFFSETFROM:+0100
TZOFFSETTO:+0000
TZNAME:GMT
DTSTART:20191027T010000
END:STANDARD
BEGIN:DAYLIGHT
TZOFFSETFROM:+0000
TZOFFSETTO:+0100
TZNAME:BST
DTSTART:20200329T010000
END:DAYLIGHT
BEGIN:STANDARD
TZOFFSETFROM:+0100
TZOFFSETTO:+0000
TZNAME:GMT
DTSTART:20201025T010000
END:STANDARD
END:VTIMEZONE
BEGIN:VEVENT
DTSTART;TZID=Europe/London:20190328T200000
DTEND;TZID=Europe/London:20190328T221500
DTSTAMP:20260421T065424
CREATED:20180104T130007Z
LAST-MODIFIED:20181207T103739Z
UID:2250-1553803200-1553811300@brentwood-theatre.co.uk
SUMMARY:The Dresser
DESCRIPTION:The Hutton Players presents…\nRonald Harwood’s award winning backstage tragicomedy starring Sir and his Dresser. \nSet in 1942 in a provincial English theatre\, ‘The Dresser’ takes us into the backstage world of Sir\, the last of the great\, but dying breed of English actor-managers as he struggles through Lear with the aid of his dresser. \nSir appears to be falling apart\, but the show must go on – despite the air raid and shortage of performers. \nSupporting characters of  ‘Her Ladyship’\, Stage Manager Madge\, young aspiring actress Irene and a motley variety of actors (too old or unfit to join the forces) add colour to this powerful play. \nBy kind permission of Samuel French
URL:https://brentwood-theatre.co.uk/event/the-dresser/2019-03-28/
LOCATION:Brentwood Theatre\, 15 Shenfield Road\, Brentwood\, Essex\, CM15 8AG\, United Kingdom
CATEGORIES:Drama,Theatre
GEO:51.6220985;0.3067854
X-APPLE-STRUCTURED-LOCATION;VALUE=URI;X-ADDRESS=Brentwood Theatre 15 Shenfield Road Brentwood Essex CM15 8AG United Kingdom;X-APPLE-RADIUS=500;X-TITLE=15 Shenfield Road:geo:0.3067854,51.6220985
END:VEVENT
END:VCALENDAR