BEGIN:VCALENDAR
VERSION:2.0
PRODID:-//Brentwood Theatre - ECPv6.15.13//NONSGML v1.0//EN
CALSCALE:GREGORIAN
METHOD:PUBLISH
X-WR-CALNAME:Brentwood Theatre
X-ORIGINAL-URL:https://brentwood-theatre.co.uk
X-WR-CALDESC:Events for Brentwood Theatre
REFRESH-INTERVAL;VALUE=DURATION:PT1H
X-Robots-Tag:noindex
X-PUBLISHED-TTL:PT1H
BEGIN:VTIMEZONE
TZID:Europe/London
BEGIN:DAYLIGHT
TZOFFSETFROM:+0000
TZOFFSETTO:+0100
TZNAME:BST
DTSTART:20230326T010000
END:DAYLIGHT
BEGIN:STANDARD
TZOFFSETFROM:+0100
TZOFFSETTO:+0000
TZNAME:GMT
DTSTART:20231029T010000
END:STANDARD
BEGIN:DAYLIGHT
TZOFFSETFROM:+0000
TZOFFSETTO:+0100
TZNAME:BST
DTSTART:20240331T010000
END:DAYLIGHT
BEGIN:STANDARD
TZOFFSETFROM:+0100
TZOFFSETTO:+0000
TZNAME:GMT
DTSTART:20241027T010000
END:STANDARD
BEGIN:DAYLIGHT
TZOFFSETFROM:+0000
TZOFFSETTO:+0100
TZNAME:BST
DTSTART:20250330T010000
END:DAYLIGHT
BEGIN:STANDARD
TZOFFSETFROM:+0100
TZOFFSETTO:+0000
TZNAME:GMT
DTSTART:20251026T010000
END:STANDARD
END:VTIMEZONE
BEGIN:VEVENT
DTSTART;TZID=Europe/London:20240811T180000
DTEND;TZID=Europe/London:20240811T200000
DTSTAMP:20260424T035156
CREATED:20240510T120423Z
LAST-MODIFIED:20240510T120512Z
UID:6795-1723399200-1723406400@brentwood-theatre.co.uk
SUMMARY:Wizard of Oz
DESCRIPTION:Join Sophisticated Entertainment this summer in Wizard of Oz\, a brand new jukebox musical spectacular pantomime.\nJoin us as we journey down the yellow brick road in an all singing\, all dancing family show all gloriously combined with a comedic twist! We need your help to find the wizard so grab your broom sticks\, and don’t forget those sparkly red slippers and remember there’s no place like home…unless it’s at the Brentwood Theatre this Summer! \nStarring local favourite Joshua Handley as The Wicked Witch of the West\, Sophisticated Entertainment’s resident Dame Philip McParland as the Lion and Charlotte Hayes as Dorothy! \nProudly produced by the creatives of Aladdin & Cinderella at The Brentwood Theatre\, this show is not to be missed! \nRecommended for all ages
URL:https://brentwood-theatre.co.uk/event/wizard-of-oz/2024-08-11/3/
LOCATION:Brentwood Theatre\, 15 Shenfield Road\, Brentwood\, Essex\, CM15 8AG\, United Kingdom
CATEGORIES:Children's Theatre,Comedy,Community,Dance,Family,Family Musical,Musical,Pantomime,Professional,Theatre
ATTACH;FMTTYPE=image/png:https://brentwood-theatre.co.uk/wp-content/uploads/2024/05/WoOz.png
ORGANIZER;CN="Sophisticated Entertainment":MAILTO:info@sophisticatedentertainment.com
GEO:51.6220985;0.3067854
X-APPLE-STRUCTURED-LOCATION;VALUE=URI;X-ADDRESS=Brentwood Theatre 15 Shenfield Road Brentwood Essex CM15 8AG United Kingdom;X-APPLE-RADIUS=500;X-TITLE=15 Shenfield Road:geo:0.3067854,51.6220985
END:VEVENT
BEGIN:VEVENT
DTSTART;TZID=Europe/London:20240811T140000
DTEND;TZID=Europe/London:20240811T160000
DTSTAMP:20260424T035156
CREATED:20240510T120423Z
LAST-MODIFIED:20240510T120512Z
UID:6794-1723384800-1723392000@brentwood-theatre.co.uk
SUMMARY:Wizard of Oz
DESCRIPTION:Join Sophisticated Entertainment this summer in Wizard of Oz\, a brand new jukebox musical spectacular pantomime.\nJoin us as we journey down the yellow brick road in an all singing\, all dancing family show all gloriously combined with a comedic twist! We need your help to find the wizard so grab your broom sticks\, and don’t forget those sparkly red slippers and remember there’s no place like home…unless it’s at the Brentwood Theatre this Summer! \nStarring local favourite Joshua Handley as The Wicked Witch of the West\, Sophisticated Entertainment’s resident Dame Philip McParland as the Lion and Charlotte Hayes as Dorothy! \nProudly produced by the creatives of Aladdin & Cinderella at The Brentwood Theatre\, this show is not to be missed! \nRecommended for all ages
URL:https://brentwood-theatre.co.uk/event/wizard-of-oz/2024-08-11/
LOCATION:Brentwood Theatre\, 15 Shenfield Road\, Brentwood\, Essex\, CM15 8AG\, United Kingdom
CATEGORIES:Children's Theatre,Comedy,Community,Dance,Family,Family Musical,Musical,Pantomime,Professional,Theatre
ATTACH;FMTTYPE=image/png:https://brentwood-theatre.co.uk/wp-content/uploads/2024/05/WoOz.png
ORGANIZER;CN="Sophisticated Entertainment":MAILTO:info@sophisticatedentertainment.com
GEO:51.6220985;0.3067854
X-APPLE-STRUCTURED-LOCATION;VALUE=URI;X-ADDRESS=Brentwood Theatre 15 Shenfield Road Brentwood Essex CM15 8AG United Kingdom;X-APPLE-RADIUS=500;X-TITLE=15 Shenfield Road:geo:0.3067854,51.6220985
END:VEVENT
BEGIN:VEVENT
DTSTART;TZID=Europe/London:20240810T180000
DTEND;TZID=Europe/London:20240810T200000
DTSTAMP:20260424T035156
CREATED:20240510T120423Z
LAST-MODIFIED:20240510T120512Z
UID:6793-1723312800-1723320000@brentwood-theatre.co.uk
SUMMARY:Wizard of Oz
DESCRIPTION:Join Sophisticated Entertainment this summer in Wizard of Oz\, a brand new jukebox musical spectacular pantomime.\nJoin us as we journey down the yellow brick road in an all singing\, all dancing family show all gloriously combined with a comedic twist! We need your help to find the wizard so grab your broom sticks\, and don’t forget those sparkly red slippers and remember there’s no place like home…unless it’s at the Brentwood Theatre this Summer! \nStarring local favourite Joshua Handley as The Wicked Witch of the West\, Sophisticated Entertainment’s resident Dame Philip McParland as the Lion and Charlotte Hayes as Dorothy! \nProudly produced by the creatives of Aladdin & Cinderella at The Brentwood Theatre\, this show is not to be missed! \nRecommended for all ages
URL:https://brentwood-theatre.co.uk/event/wizard-of-oz/2024-08-10/2/
LOCATION:Brentwood Theatre\, 15 Shenfield Road\, Brentwood\, Essex\, CM15 8AG\, United Kingdom
CATEGORIES:Children's Theatre,Comedy,Community,Dance,Family,Family Musical,Musical,Pantomime,Professional,Theatre
ATTACH;FMTTYPE=image/png:https://brentwood-theatre.co.uk/wp-content/uploads/2024/05/WoOz.png
ORGANIZER;CN="Sophisticated Entertainment":MAILTO:info@sophisticatedentertainment.com
GEO:51.6220985;0.3067854
X-APPLE-STRUCTURED-LOCATION;VALUE=URI;X-ADDRESS=Brentwood Theatre 15 Shenfield Road Brentwood Essex CM15 8AG United Kingdom;X-APPLE-RADIUS=500;X-TITLE=15 Shenfield Road:geo:0.3067854,51.6220985
END:VEVENT
BEGIN:VEVENT
DTSTART;TZID=Europe/London:20240810T140000
DTEND;TZID=Europe/London:20240810T160000
DTSTAMP:20260424T035156
CREATED:20240510T120423Z
LAST-MODIFIED:20240510T120511Z
UID:6792-1723298400-1723305600@brentwood-theatre.co.uk
SUMMARY:Wizard of Oz
DESCRIPTION:Join Sophisticated Entertainment this summer in Wizard of Oz\, a brand new jukebox musical spectacular pantomime.\nJoin us as we journey down the yellow brick road in an all singing\, all dancing family show all gloriously combined with a comedic twist! We need your help to find the wizard so grab your broom sticks\, and don’t forget those sparkly red slippers and remember there’s no place like home…unless it’s at the Brentwood Theatre this Summer! \nStarring local favourite Joshua Handley as The Wicked Witch of the West\, Sophisticated Entertainment’s resident Dame Philip McParland as the Lion and Charlotte Hayes as Dorothy! \nProudly produced by the creatives of Aladdin & Cinderella at The Brentwood Theatre\, this show is not to be missed! \nRecommended for all ages
URL:https://brentwood-theatre.co.uk/event/wizard-of-oz/2024-08-10/
LOCATION:Brentwood Theatre\, 15 Shenfield Road\, Brentwood\, Essex\, CM15 8AG\, United Kingdom
CATEGORIES:Children's Theatre,Comedy,Community,Dance,Family,Family Musical,Musical,Pantomime,Professional,Theatre
ATTACH;FMTTYPE=image/png:https://brentwood-theatre.co.uk/wp-content/uploads/2024/05/WoOz.png
ORGANIZER;CN="Sophisticated Entertainment":MAILTO:info@sophisticatedentertainment.com
GEO:51.6220985;0.3067854
X-APPLE-STRUCTURED-LOCATION;VALUE=URI;X-ADDRESS=Brentwood Theatre 15 Shenfield Road Brentwood Essex CM15 8AG United Kingdom;X-APPLE-RADIUS=500;X-TITLE=15 Shenfield Road:geo:0.3067854,51.6220985
END:VEVENT
BEGIN:VEVENT
DTSTART;TZID=Europe/London:20240809T180000
DTEND;TZID=Europe/London:20240809T200000
DTSTAMP:20260424T035156
CREATED:20240510T120423Z
LAST-MODIFIED:20240510T120511Z
UID:6789-1723226400-1723233600@brentwood-theatre.co.uk
SUMMARY:Wizard of Oz
DESCRIPTION:Join Sophisticated Entertainment this summer in Wizard of Oz\, a brand new jukebox musical spectacular pantomime.\nJoin us as we journey down the yellow brick road in an all singing\, all dancing family show all gloriously combined with a comedic twist! We need your help to find the wizard so grab your broom sticks\, and don’t forget those sparkly red slippers and remember there’s no place like home…unless it’s at the Brentwood Theatre this Summer! \nStarring local favourite Joshua Handley as The Wicked Witch of the West\, Sophisticated Entertainment’s resident Dame Philip McParland as the Lion and Charlotte Hayes as Dorothy! \nProudly produced by the creatives of Aladdin & Cinderella at The Brentwood Theatre\, this show is not to be missed! \nRecommended for all ages
URL:https://brentwood-theatre.co.uk/event/wizard-of-oz/2024-08-09/
LOCATION:Brentwood Theatre\, 15 Shenfield Road\, Brentwood\, Essex\, CM15 8AG\, United Kingdom
CATEGORIES:Children's Theatre,Comedy,Community,Dance,Family,Family Musical,Musical,Pantomime,Professional,Theatre
ATTACH;FMTTYPE=image/png:https://brentwood-theatre.co.uk/wp-content/uploads/2024/05/WoOz.png
ORGANIZER;CN="Sophisticated Entertainment":MAILTO:info@sophisticatedentertainment.com
GEO:51.6220985;0.3067854
X-APPLE-STRUCTURED-LOCATION;VALUE=URI;X-ADDRESS=Brentwood Theatre 15 Shenfield Road Brentwood Essex CM15 8AG United Kingdom;X-APPLE-RADIUS=500;X-TITLE=15 Shenfield Road:geo:0.3067854,51.6220985
END:VEVENT
END:VCALENDAR