BEGIN:VCALENDAR
VERSION:2.0
PRODID:-//Brentwood Theatre - ECPv6.15.13//NONSGML v1.0//EN
CALSCALE:GREGORIAN
METHOD:PUBLISH
X-ORIGINAL-URL:https://brentwood-theatre.co.uk
X-WR-CALDESC:Events for Brentwood Theatre
REFRESH-INTERVAL;VALUE=DURATION:PT1H
X-Robots-Tag:noindex
X-PUBLISHED-TTL:PT1H
BEGIN:VTIMEZONE
TZID:Europe/London
BEGIN:DAYLIGHT
TZOFFSETFROM:+0000
TZOFFSETTO:+0100
TZNAME:BST
DTSTART:20170326T010000
END:DAYLIGHT
BEGIN:STANDARD
TZOFFSETFROM:+0100
TZOFFSETTO:+0000
TZNAME:GMT
DTSTART:20171029T010000
END:STANDARD
BEGIN:DAYLIGHT
TZOFFSETFROM:+0000
TZOFFSETTO:+0100
TZNAME:BST
DTSTART:20180325T010000
END:DAYLIGHT
BEGIN:STANDARD
TZOFFSETFROM:+0100
TZOFFSETTO:+0000
TZNAME:GMT
DTSTART:20181028T010000
END:STANDARD
BEGIN:DAYLIGHT
TZOFFSETFROM:+0000
TZOFFSETTO:+0100
TZNAME:BST
DTSTART:20190331T010000
END:DAYLIGHT
BEGIN:STANDARD
TZOFFSETFROM:+0100
TZOFFSETTO:+0000
TZNAME:GMT
DTSTART:20191027T010000
END:STANDARD
BEGIN:DAYLIGHT
TZOFFSETFROM:+0000
TZOFFSETTO:+0100
TZNAME:BST
DTSTART:20200329T010000
END:DAYLIGHT
BEGIN:STANDARD
TZOFFSETFROM:+0100
TZOFFSETTO:+0000
TZNAME:GMT
DTSTART:20201025T010000
END:STANDARD
END:VTIMEZONE
BEGIN:VEVENT
DTSTART;TZID=Europe/London:20191129T193000
DTEND;TZID=Europe/London:20191129T213000
DTSTAMP:20260420T225434
CREATED:20191108T140001Z
LAST-MODIFIED:20191108T140001Z
UID:3084-1575055800-1575063000@brentwood-theatre.co.uk
SUMMARY:DKW Wrestling Endgame
DESCRIPTION:Dropkixx Wrestling Academy presents…\nDKW Endgame\nThis winter join the larger than life superstars of the DKW Academy for END GAME at the Brentwood Theatre. Named after the biggest blockbuster movie of the year\, this is set to be a show of truly epic proportions with no green screen or SFX in sight! We offer fun for all the family as well as BLOCKBUSTER title fights\, ACTION PACKED EXTREME RULES matches\, OMG TAG TEAM action and much more. If you’ve never been to the wrestling then prepare yourself as we are THE force of wrestling in Essex!
URL:https://brentwood-theatre.co.uk/event/dkw-wrestling-endgame/
LOCATION:Brentwood Theatre\, 15 Shenfield Road\, Brentwood\, Essex\, CM15 8AG\, United Kingdom
CATEGORIES:Wrestling
ATTACH;FMTTYPE=image/jpeg:https://brentwood-theatre.co.uk/wp-content/uploads/2019/11/image0.jpeg
GEO:51.6220985;0.3067854
X-APPLE-STRUCTURED-LOCATION;VALUE=URI;X-ADDRESS=Brentwood Theatre 15 Shenfield Road Brentwood Essex CM15 8AG United Kingdom;X-APPLE-RADIUS=500;X-TITLE=15 Shenfield Road:geo:0.3067854,51.6220985
END:VEVENT
BEGIN:VEVENT
DTSTART;TZID=Europe/London:20190721T150000
DTEND;TZID=Europe/London:20190721T170000
DTSTAMP:20260420T225434
CREATED:20190605T094922Z
LAST-MODIFIED:20190605T094922Z
UID:2735-1563721200-1563728400@brentwood-theatre.co.uk
SUMMARY:Dropkixx Wrestling - DKW Summer Super Show
DESCRIPTION:This summer join the larger than life superstars of the DKW Academy for the SUMMER SUPERSHOW at the Brentwood Theatre.  With the sun – hopefully – beating down we have fun for all the family as well as BIG TIME title fights\, EXTREME RULES action\, HUGE TAG TEAM action and much more. \nIf you’ve never been to the wrestling then prepare yourself as we are THE force of wrestling in Essex! \n  \nFAMILY TICKET AVAILABLE
URL:https://brentwood-theatre.co.uk/event/dropkixx-wrestling-dkw-summer-super-show/
LOCATION:Brentwood Theatre\, 15 Shenfield Road\, Brentwood\, Essex\, CM15 8AG\, United Kingdom
CATEGORIES:Wrestling
ATTACH;FMTTYPE=image/jpeg:https://brentwood-theatre.co.uk/wp-content/uploads/2019/06/dkwjuly.jpg
GEO:51.6220985;0.3067854
X-APPLE-STRUCTURED-LOCATION;VALUE=URI;X-ADDRESS=Brentwood Theatre 15 Shenfield Road Brentwood Essex CM15 8AG United Kingdom;X-APPLE-RADIUS=500;X-TITLE=15 Shenfield Road:geo:0.3067854,51.6220985
END:VEVENT
BEGIN:VEVENT
DTSTART;TZID=Europe/London:20190407T150000
DTEND;TZID=Europe/London:20190407T173000
DTSTAMP:20260420T225434
CREATED:20190125T130044Z
LAST-MODIFIED:20190215T173313Z
UID:2338-1554649200-1554658200@brentwood-theatre.co.uk
SUMMARY:Dropkixx Wrestling Brentwood 21 - Live Wrestling Action
DESCRIPTION:Dropkixx Wrestling Brentwood 21 – Live Wrestling Action\n\n\n\n\nThe larger than life wrestling superstars and personalities of the DKW Academy will come HEAD TO HEAD this Easter holiday for a show where the entire complexion and landscape could change. The winner of the 2019 Rumble match meets the British champion in our main event. \nThere will also be matches for other championships\, personal pride and more! Fun for all the family! \nFAMILY TICKET AVAILABLE for only £30!
URL:https://brentwood-theatre.co.uk/event/dropkixx-wrestling-brentwood-21-live-wrestling-action/
LOCATION:Brentwood Theatre\, 15 Shenfield Road\, Brentwood\, Essex\, CM15 8AG\, United Kingdom
CATEGORIES:Family,Wrestling
ATTACH;FMTTYPE=image/jpeg:https://brentwood-theatre.co.uk/wp-content/uploads/2019/01/image12.jpg
GEO:51.6220985;0.3067854
X-APPLE-STRUCTURED-LOCATION;VALUE=URI;X-ADDRESS=Brentwood Theatre 15 Shenfield Road Brentwood Essex CM15 8AG United Kingdom;X-APPLE-RADIUS=500;X-TITLE=15 Shenfield Road:geo:0.3067854,51.6220985
END:VEVENT
BEGIN:VEVENT
DTSTART;TZID=Europe/London:20181021T150000
DTEND;TZID=Europe/London:20181021T170000
DTSTAMP:20260420T225434
CREATED:20180917T120055Z
LAST-MODIFIED:20180913T113300Z
UID:2018-1540134000-1540141200@brentwood-theatre.co.uk
SUMMARY:Dropkixx Wrestling's Brentwood XX - End of the Line
DESCRIPTION:DKW Brentwood XX – Live Wrestling Action\nThe larger than life wrestling superstars and personalities of the DKW Academy will come HEAD TO HEAD this October half term for a show where the entire complexion and landscape could change. After months of the roster suffering st the hands of drunk with power management by Commissioner Vinny Daniels\, the time has come for DKW to try and win it back. Lucas jackson has returned and has challenged Daniels to an I Quit match at the event! And the winner will become the undisputed owner of DKW. Meanwhile The ReBellion will be in action\, including your British champion Jack Toreno\, as well as matches for the Showcase and Chaos titles! So get yourselves a ticket to the hottest show in town!
URL:https://brentwood-theatre.co.uk/event/dropkixx-wrestlings-brentwood-xx-end-of-the-line/
LOCATION:Brentwood Theatre\, 15 Shenfield Road\, Brentwood\, Essex\, CM15 8AG\, United Kingdom
CATEGORIES:Family,Wrestling
ATTACH;FMTTYPE=image/jpeg:https://brentwood-theatre.co.uk/wp-content/uploads/2018/09/40694627_2007679395962947_7114333749222834176_n.jpg
GEO:51.6220985;0.3067854
X-APPLE-STRUCTURED-LOCATION;VALUE=URI;X-ADDRESS=Brentwood Theatre 15 Shenfield Road Brentwood Essex CM15 8AG United Kingdom;X-APPLE-RADIUS=500;X-TITLE=15 Shenfield Road:geo:0.3067854,51.6220985
END:VEVENT
BEGIN:VEVENT
DTSTART;TZID=Europe/London:20180722T150000
DTEND;TZID=Europe/London:20180722T170000
DTSTAMP:20260420T225434
CREATED:20180619T111747Z
LAST-MODIFIED:20180627T144449Z
UID:1776-1532271600-1532278800@brentwood-theatre.co.uk
SUMMARY:Dropkixx Wrestling’s Brentwood XIX
DESCRIPTION:Price: £15 Vip / £12 Adult / £8 Children / £35 Family (As part of the group of four\, there may be one or two adults)\nDKW Brentwood XIX – Live Wrestling.\nThis summer all your favourite DKW Wrestlers return to the Brentwood Theatre for an afternoon of professional wrestling! There will be championship matches as well as the final of the 2018 Tag Team World Cup. This event is suitable for all ages! \nTo visit Dropkixx website please click here\nTo visit Dropkixx’ Facebook please click here \nTo view their Twitter page please click here \nInstagram: @dkw_shows.
URL:https://brentwood-theatre.co.uk/event/dropkixx-wrestlings-brentwood-xix/
LOCATION:Brentwood Theatre\, 15 Shenfield Road\, Brentwood\, Essex\, CM15 8AG\, United Kingdom
CATEGORIES:Wrestling
ATTACH;FMTTYPE=image/jpeg:https://brentwood-theatre.co.uk/wp-content/uploads/2018/06/dropkix-wrestling-july.jpg
GEO:51.6220985;0.3067854
X-APPLE-STRUCTURED-LOCATION;VALUE=URI;X-ADDRESS=Brentwood Theatre 15 Shenfield Road Brentwood Essex CM15 8AG United Kingdom;X-APPLE-RADIUS=500;X-TITLE=15 Shenfield Road:geo:0.3067854,51.6220985
END:VEVENT
END:VCALENDAR