BEGIN:VCALENDAR
VERSION:2.0
PRODID:-//Brentwood Theatre - ECPv6.15.13//NONSGML v1.0//EN
CALSCALE:GREGORIAN
METHOD:PUBLISH
X-ORIGINAL-URL:https://brentwood-theatre.co.uk
X-WR-CALDESC:Events for Brentwood Theatre
REFRESH-INTERVAL;VALUE=DURATION:PT1H
X-Robots-Tag:noindex
X-PUBLISHED-TTL:PT1H
BEGIN:VTIMEZONE
TZID:Europe/London
BEGIN:DAYLIGHT
TZOFFSETFROM:+0000
TZOFFSETTO:+0100
TZNAME:BST
DTSTART:20180325T010000
END:DAYLIGHT
BEGIN:STANDARD
TZOFFSETFROM:+0100
TZOFFSETTO:+0000
TZNAME:GMT
DTSTART:20181028T010000
END:STANDARD
BEGIN:DAYLIGHT
TZOFFSETFROM:+0000
TZOFFSETTO:+0100
TZNAME:BST
DTSTART:20190331T010000
END:DAYLIGHT
BEGIN:STANDARD
TZOFFSETFROM:+0100
TZOFFSETTO:+0000
TZNAME:GMT
DTSTART:20191027T010000
END:STANDARD
BEGIN:DAYLIGHT
TZOFFSETFROM:+0000
TZOFFSETTO:+0100
TZNAME:BST
DTSTART:20200329T010000
END:DAYLIGHT
BEGIN:STANDARD
TZOFFSETFROM:+0100
TZOFFSETTO:+0000
TZNAME:GMT
DTSTART:20201025T010000
END:STANDARD
END:VTIMEZONE
BEGIN:VEVENT
DTSTART;TZID=Europe/London:20190425T200000
DTEND;TZID=Europe/London:20190425T211500
DTSTAMP:20260421T062950
CREATED:20190315T130017Z
LAST-MODIFIED:20190314T134247Z
UID:2466-1556222400-1556226900@brentwood-theatre.co.uk
SUMMARY:Her and the Change in Me
DESCRIPTION:Her and the Change in Me\nOne woman\, one show\, four voices of the Menopause\nDebbie Baisden talks about the menopause and the arrival of her alter ego Dolly Slatemen. This includes appearances from the Doctor and the Judge. All discuss this phenomenon that affects half the planet. If you or you know someone who is peri menopause\, in the menopause or post menopause\, come along you may even discover your own alter ego. \nThere will be a light buffet and free drink after the show in the ‘Menopause Cafe’ \nRecommended age 16+ \nThis production is supported by Leicester University.
URL:https://brentwood-theatre.co.uk/event/her-and-the-change-in-me/
LOCATION:Brentwood Theatre\, 15 Shenfield Road\, Brentwood\, Essex\, CM15 8AG\, United Kingdom
CATEGORIES:Comedy,Theatre
ATTACH;FMTTYPE=image/jpeg:https://brentwood-theatre.co.uk/wp-content/uploads/2019/03/HATCIM-Jpeg.jpg
GEO:51.6220985;0.3067854
X-APPLE-STRUCTURED-LOCATION;VALUE=URI;X-ADDRESS=Brentwood Theatre 15 Shenfield Road Brentwood Essex CM15 8AG United Kingdom;X-APPLE-RADIUS=500;X-TITLE=15 Shenfield Road:geo:0.3067854,51.6220985
END:VEVENT
END:VCALENDAR