BEGIN:VCALENDAR
VERSION:2.0
PRODID:-//Brentwood Theatre - ECPv6.15.13//NONSGML v1.0//EN
CALSCALE:GREGORIAN
METHOD:PUBLISH
X-WR-CALNAME:Brentwood Theatre
X-ORIGINAL-URL:https://brentwood-theatre.co.uk
X-WR-CALDESC:Events for Brentwood Theatre
REFRESH-INTERVAL;VALUE=DURATION:PT1H
X-Robots-Tag:noindex
X-PUBLISHED-TTL:PT1H
BEGIN:VTIMEZONE
TZID:Europe/London
BEGIN:DAYLIGHT
TZOFFSETFROM:+0000
TZOFFSETTO:+0100
TZNAME:BST
DTSTART:20230326T010000
END:DAYLIGHT
BEGIN:STANDARD
TZOFFSETFROM:+0100
TZOFFSETTO:+0000
TZNAME:GMT
DTSTART:20231029T010000
END:STANDARD
BEGIN:DAYLIGHT
TZOFFSETFROM:+0000
TZOFFSETTO:+0100
TZNAME:BST
DTSTART:20240331T010000
END:DAYLIGHT
BEGIN:STANDARD
TZOFFSETFROM:+0100
TZOFFSETTO:+0000
TZNAME:GMT
DTSTART:20241027T010000
END:STANDARD
BEGIN:DAYLIGHT
TZOFFSETFROM:+0000
TZOFFSETTO:+0100
TZNAME:BST
DTSTART:20250330T010000
END:DAYLIGHT
BEGIN:STANDARD
TZOFFSETFROM:+0100
TZOFFSETTO:+0000
TZNAME:GMT
DTSTART:20251026T010000
END:STANDARD
END:VTIMEZONE
BEGIN:VEVENT
DTSTART;TZID=Europe/London:20240707T143000
DTEND;TZID=Europe/London:20240707T163000
DTSTAMP:20260423T210602
CREATED:20240522T104256Z
LAST-MODIFIED:20240522T104304Z
UID:6845-1720362600-1720369800@brentwood-theatre.co.uk
SUMMARY:Going Back To The Roots: Part Two!
DESCRIPTION:JSD Dance & Musical Theatre\nGoing Back To The Roots: Part Two!\nA variety performance of yesteryear musicals from stage and screen. \nIn 2010\, JSD put on a production called ‘Going Back To The Roots’ – and now we are back again for part two! Short excerpts from those wonderful old movies and stage musicals that we all remember! From the 50’s to the 90’s\, there is something for everyone! A performance full of variety of yesteryear musicals from stage and screen; the ones that inspired our love of Musical Theatre and showed the children where today’s musicals had come from. We were\, indeed\, going back to our roots! In Part Two\, we will be going through some more of the classics\, showing the new generation of JSD Musical Theatre family just how amazing those musicals and their stars really were. This will be a variety production full of the songs you grew up listening to and the stars and scripts you watched! Because there’s no business\, like show business! \nRunning time (approx.) 2hrs
URL:https://brentwood-theatre.co.uk/event/going-back-to-the-roots-part-two/2024-07-07/
LOCATION:Brentwood Theatre\, 15 Shenfield Road\, Brentwood\, Essex\, CM15 8AG\, United Kingdom
CATEGORIES:Dance,Musical
ATTACH;FMTTYPE=image/jpeg:https://brentwood-theatre.co.uk/wp-content/uploads/2024/05/JSD-logo.jpg
GEO:51.6220985;0.3067854
X-APPLE-STRUCTURED-LOCATION;VALUE=URI;X-ADDRESS=Brentwood Theatre 15 Shenfield Road Brentwood Essex CM15 8AG United Kingdom;X-APPLE-RADIUS=500;X-TITLE=15 Shenfield Road:geo:0.3067854,51.6220985
END:VEVENT
END:VCALENDAR