BEGIN:VCALENDAR
VERSION:2.0
PRODID:-//Brentwood Theatre - ECPv6.15.13//NONSGML v1.0//EN
CALSCALE:GREGORIAN
METHOD:PUBLISH
X-ORIGINAL-URL:https://brentwood-theatre.co.uk
X-WR-CALDESC:Events for Brentwood Theatre
REFRESH-INTERVAL;VALUE=DURATION:PT1H
X-Robots-Tag:noindex
X-PUBLISHED-TTL:PT1H
BEGIN:VTIMEZONE
TZID:Europe/London
BEGIN:DAYLIGHT
TZOFFSETFROM:+0000
TZOFFSETTO:+0100
TZNAME:BST
DTSTART:20170326T010000
END:DAYLIGHT
BEGIN:STANDARD
TZOFFSETFROM:+0100
TZOFFSETTO:+0000
TZNAME:GMT
DTSTART:20171029T010000
END:STANDARD
BEGIN:DAYLIGHT
TZOFFSETFROM:+0000
TZOFFSETTO:+0100
TZNAME:BST
DTSTART:20180325T010000
END:DAYLIGHT
BEGIN:STANDARD
TZOFFSETFROM:+0100
TZOFFSETTO:+0000
TZNAME:GMT
DTSTART:20181028T010000
END:STANDARD
BEGIN:DAYLIGHT
TZOFFSETFROM:+0000
TZOFFSETTO:+0100
TZNAME:BST
DTSTART:20190331T010000
END:DAYLIGHT
BEGIN:STANDARD
TZOFFSETFROM:+0100
TZOFFSETTO:+0000
TZNAME:GMT
DTSTART:20191027T010000
END:STANDARD
BEGIN:DAYLIGHT
TZOFFSETFROM:+0000
TZOFFSETTO:+0100
TZNAME:BST
DTSTART:20200329T010000
END:DAYLIGHT
BEGIN:STANDARD
TZOFFSETFROM:+0100
TZOFFSETTO:+0000
TZNAME:GMT
DTSTART:20201025T010000
END:STANDARD
BEGIN:DAYLIGHT
TZOFFSETFROM:+0000
TZOFFSETTO:+0100
TZNAME:BST
DTSTART:20210328T010000
END:DAYLIGHT
BEGIN:STANDARD
TZOFFSETFROM:+0100
TZOFFSETTO:+0000
TZNAME:GMT
DTSTART:20211031T010000
END:STANDARD
BEGIN:DAYLIGHT
TZOFFSETFROM:+0000
TZOFFSETTO:+0100
TZNAME:BST
DTSTART:20220327T010000
END:DAYLIGHT
BEGIN:STANDARD
TZOFFSETFROM:+0100
TZOFFSETTO:+0000
TZNAME:GMT
DTSTART:20221030T010000
END:STANDARD
END:VTIMEZONE
BEGIN:VEVENT
DTSTART;TZID=Europe/London:20211118T200000
DTEND;TZID=Europe/London:20211118T220000
DTSTAMP:20260422T135920
CREATED:20210826T134123Z
LAST-MODIFIED:20210826T134528Z
UID:4219-1637265600-1637272800@brentwood-theatre.co.uk
SUMMARY:The Wisdom of Eve
DESCRIPTION:Kytes Theatre Group presents\nThe Wisdom of Eve\nKytes’ 40th year +1 show\, delayed by 12 months\, by kind permission of Josef Weinberger Limited\, began life as a short story written in the 1940s\, won the Best Picture Oscar in 1950\, along with 5 other Oscars\, starred Bette Davis\, and spawned the stage play that was first performed in 1979\, and was subsequently the basis for the hit musical Applause. More recently\, the play was revived in London’s West End in 2019\, with Gillian Anderson as Margo and Lily James as Eve. \nIn Kytes’ 40th year +1 show\, Margo is played by Tori Till (The Rise and Fall of Little Voice and Piaf)\, and Eve by Romy Brooks (Arms and the Man and The Thrill of Love). Other cast members include founder Kytes members Josie Bruty and Patrick Stevens\, and long time member Paul Sparrowham. \nThe play is a revealing “inside” story of the New York theatre world\, told in terms of an unscrupulous ingenue’s rise to Broadway stardom\, by lying\, cheating and blackmail. Eve leaves the wreckage of her friends’ trust behind her\, in what has been described as “a strong and gripping play”. \n  \n 
URL:https://brentwood-theatre.co.uk/event/the-wisdom-of-eve/2021-11-18/
LOCATION:Brentwood Theatre\, 15 Shenfield Road\, Brentwood\, Essex\, CM15 8AG\, United Kingdom
CATEGORIES:Drama,Theatre
ATTACH;FMTTYPE=image/jpeg:https://brentwood-theatre.co.uk/wp-content/uploads/2021/08/All-About-Eve-PS.jpg
GEO:51.6220985;0.3067854
X-APPLE-STRUCTURED-LOCATION;VALUE=URI;X-ADDRESS=Brentwood Theatre 15 Shenfield Road Brentwood Essex CM15 8AG United Kingdom;X-APPLE-RADIUS=500;X-TITLE=15 Shenfield Road:geo:0.3067854,51.6220985
END:VEVENT
BEGIN:VEVENT
DTSTART;TZID=Europe/London:20181025T200000
DTEND;TZID=Europe/London:20181027T200000
DTSTAMP:20260422T135920
CREATED:20180802T100335Z
LAST-MODIFIED:20180802T100335Z
UID:1913-1540497600-1540670400@brentwood-theatre.co.uk
SUMMARY:The Lady in the Van
DESCRIPTION:Kytes Theatre Group presents\nAlan Bennett’s hilarious autobiographical play about Miss Shepherd who parked her van on his driveway for a couple of nights and stayed for fifteen years.
URL:https://brentwood-theatre.co.uk/event/the-lady-in-the-van/
LOCATION:Brentwood Theatre\, 15 Shenfield Road\, Brentwood\, Essex\, CM15 8AG\, United Kingdom
CATEGORIES:Comedy,Drama,Theatre
ATTACH;FMTTYPE=image/jpeg:https://brentwood-theatre.co.uk/wp-content/uploads/2018/08/Lady-in-Van-thumbnail.jpg
GEO:51.6220985;0.3067854
X-APPLE-STRUCTURED-LOCATION;VALUE=URI;X-ADDRESS=Brentwood Theatre 15 Shenfield Road Brentwood Essex CM15 8AG United Kingdom;X-APPLE-RADIUS=500;X-TITLE=15 Shenfield Road:geo:0.3067854,51.6220985
END:VEVENT
END:VCALENDAR