BEGIN:VCALENDAR
VERSION:2.0
PRODID:-//Brentwood Theatre - ECPv6.15.13//NONSGML v1.0//EN
CALSCALE:GREGORIAN
METHOD:PUBLISH
X-ORIGINAL-URL:https://brentwood-theatre.co.uk
X-WR-CALDESC:Events for Brentwood Theatre
REFRESH-INTERVAL;VALUE=DURATION:PT1H
X-Robots-Tag:noindex
X-PUBLISHED-TTL:PT1H
BEGIN:VTIMEZONE
TZID:Europe/London
BEGIN:DAYLIGHT
TZOFFSETFROM:+0000
TZOFFSETTO:+0100
TZNAME:BST
DTSTART:20210328T010000
END:DAYLIGHT
BEGIN:STANDARD
TZOFFSETFROM:+0100
TZOFFSETTO:+0000
TZNAME:GMT
DTSTART:20211031T010000
END:STANDARD
BEGIN:DAYLIGHT
TZOFFSETFROM:+0000
TZOFFSETTO:+0100
TZNAME:BST
DTSTART:20220327T010000
END:DAYLIGHT
BEGIN:STANDARD
TZOFFSETFROM:+0100
TZOFFSETTO:+0000
TZNAME:GMT
DTSTART:20221030T010000
END:STANDARD
BEGIN:DAYLIGHT
TZOFFSETFROM:+0000
TZOFFSETTO:+0100
TZNAME:BST
DTSTART:20230326T010000
END:DAYLIGHT
BEGIN:STANDARD
TZOFFSETFROM:+0100
TZOFFSETTO:+0000
TZNAME:GMT
DTSTART:20231029T010000
END:STANDARD
BEGIN:DAYLIGHT
TZOFFSETFROM:+0000
TZOFFSETTO:+0100
TZNAME:BST
DTSTART:20240331T010000
END:DAYLIGHT
BEGIN:STANDARD
TZOFFSETFROM:+0100
TZOFFSETTO:+0000
TZNAME:GMT
DTSTART:20241027T010000
END:STANDARD
BEGIN:DAYLIGHT
TZOFFSETFROM:+0000
TZOFFSETTO:+0100
TZNAME:BST
DTSTART:20250330T010000
END:DAYLIGHT
BEGIN:STANDARD
TZOFFSETFROM:+0100
TZOFFSETTO:+0000
TZNAME:GMT
DTSTART:20251026T010000
END:STANDARD
BEGIN:DAYLIGHT
TZOFFSETFROM:+0000
TZOFFSETTO:+0100
TZNAME:BST
DTSTART:20260329T010000
END:DAYLIGHT
BEGIN:STANDARD
TZOFFSETFROM:+0100
TZOFFSETTO:+0000
TZNAME:GMT
DTSTART:20261025T010000
END:STANDARD
END:VTIMEZONE
BEGIN:VEVENT
DTSTART;TZID=Europe/London:20250705T193000
DTEND;TZID=Europe/London:20250705T220000
DTSTAMP:20260419T175056
CREATED:20250313T124507Z
LAST-MODIFIED:20250313T124507Z
UID:7546-1751743800-1751752800@brentwood-theatre.co.uk
SUMMARY:Little Shop of Horrors
DESCRIPTION:Presented by Shenfield Operatic Society\, Little Shop of Horrors is a deviously delicious Broadway and Hollywood smash musical which has devoured the hearts of theatre goers for over 30 years. Howard Ashman and Alan Menken (Disney’s The Little Mermaid\, Beauty And The Beast\, and Aladdin) are the creative geniuses behind what has become one of the most popular shows in the world. \nThe meek floral assistant Seymour Krelborn stumbles across a new breed of plant he names “Audrey II” – after his co-worker crush. This foul-mouthed\, R&B-singing carnivore promises unending fame and fortune to the down and out Krelborn as long as he keeps feeding it\, BLOOD. Over time\, though\, Seymour discovers Audrey II’s out of this world origins and intent towards global domination! \nThis production is part of the Brentwood Arts Festival. \nThis amateur production is presented by arrangement with Music Theatre International. \nApproximate running time 2.5hrs
URL:https://brentwood-theatre.co.uk/event/little-shop-of-horrors/2025-07-05/2/
LOCATION:Brentwood Theatre\, 15 Shenfield Road\, Brentwood\, Essex\, CM15 8AG\, United Kingdom
CATEGORIES:Community,Musical,Theatre
ATTACH;FMTTYPE=image/jpeg:https://brentwood-theatre.co.uk/wp-content/uploads/2025/03/LSOH.jpg
GEO:51.6220985;0.3067854
X-APPLE-STRUCTURED-LOCATION;VALUE=URI;X-ADDRESS=Brentwood Theatre 15 Shenfield Road Brentwood Essex CM15 8AG United Kingdom;X-APPLE-RADIUS=500;X-TITLE=15 Shenfield Road:geo:0.3067854,51.6220985
END:VEVENT
BEGIN:VEVENT
DTSTART;TZID=Europe/London:20240615T193000
DTEND;TZID=Europe/London:20240615T220000
DTSTAMP:20260419T175056
CREATED:20240305T114132Z
LAST-MODIFIED:20240305T114646Z
UID:6450-1718479800-1718488800@brentwood-theatre.co.uk
SUMMARY:The Melody Lingers On
DESCRIPTION:Shenfield Operatic Society presents…\nThe Melody Lingers On\nIn a life that spanned more than 100 years\, and with a creative output of over 1\,000 songs\, Irving Berlin epitomized Jerome Kern’s famous adage that “Irving Berlin has no place in American music. He is American music.” Over a period of five decades\, Berlin’s outpouring of ballads\, dance numbers\, novelty tunes and love songs defined American popular music. This revue was developed at the distinguished Trinity School in New York City and introduced hundreds of high school kids to the work of a man whose name was only familiar to some as the composer of “God Bless America.” As this new generation learned the story of the Russian Immigrant who started as a singing waiter at a saloon on the Bowery\, they became increasingly exhilarated with the discovery of each new song. They also found in Berlin’s marriage a compelling\, contemporary love story. From Tin Pan Alley to Broadway\, from Hollywood to tours of duty throughout Europe and the Pacific\, the story of Irving Berlin is the story of this American century.\nDialogue taken from the book “Irving Berlin: A Daughter’s Memoir” by Mary Ellin Barrett\nScript Continuity by Tom Briggs\nOrchestrations and Vocal Arrangements by Donald Johnston\nConceived by Karen Baker  \nThis amateur production of THE MELODY LINGERS ON is presented by arrangement with Concord Theatricals Ltd. www.concordtheatricals.co.uk \napprox running time 2.5hrs
URL:https://brentwood-theatre.co.uk/event/the-melody-lingers-on/2024-06-15/2/
LOCATION:Brentwood Theatre\, 15 Shenfield Road\, Brentwood\, Essex\, CM15 8AG\, United Kingdom
CATEGORIES:Community,Musical,Theatre
ATTACH;FMTTYPE=image/jpeg:https://brentwood-theatre.co.uk/wp-content/uploads/2024/03/SOS_Melody_Flyer.jpg
GEO:51.6220985;0.3067854
X-APPLE-STRUCTURED-LOCATION;VALUE=URI;X-ADDRESS=Brentwood Theatre 15 Shenfield Road Brentwood Essex CM15 8AG United Kingdom;X-APPLE-RADIUS=500;X-TITLE=15 Shenfield Road:geo:0.3067854,51.6220985
END:VEVENT
BEGIN:VEVENT
DTSTART;TZID=Europe/London:20220125T193000
DTEND;TZID=Europe/London:20220125T220000
DTSTAMP:20260419T175056
CREATED:20211008T190056Z
LAST-MODIFIED:20211008T123814Z
UID:4320-1643139000-1643148000@brentwood-theatre.co.uk
SUMMARY:Carousel
DESCRIPTION:Shenfield Operatic Society presents\nCarousel\nThis American classic features some of Rodgers and Hammerstein’s most iconic pieces\, including If I Loved You\, Mister Snow\, June is Bustin’ Out All Over and the iconic You’ll Never Walk Alone. Carousel was Rodgers and Hammerstein’s second collaboration and was adapted from Ferenc Molnar’s 1909 play Liliom. They transferred the Budapest setting of Liliom to the New England coastline\, where Carousel takes place. The story tells of roguish carnival barker Billy Bigelow and mill worker Julie Jordan\, both loners\, who meet and fall in love. Their marriage ends up costing them both their jobs\, and things go downhill from there. \nBilly’s desperation makes him violent against those he loves most and drives him to commit crimes in order to provide for his family. When Billy falls in with conman Jigger Craigin\, he ends up getting caught in the midst of an armed robbery and takes his own life. Billy is allowed to return to earth for one day fifteen years later\, and he encounters the daughter he never knew. Louise is a lonely\, friendless teenager\, her father’s reputation having haunted her throughout her young life. Yet Billy is able to instil in both the child and her mother a sense of hope. \nVoted the best musical of the 20th century by Time magazine\, Rodgers and Hammerstein’s Carousel is the classic American musical\, spanning heaven and earth in its exploration of human frailty\, resilience\, and the power of forgiveness. \nThere are gunshot/gunshot effects during this event\nAdult content – there are aspects of this event which may be unsuitable for all ages and therefore parental guidance is advised
URL:https://brentwood-theatre.co.uk/event/carousel/2022-01-25/
LOCATION:Brentwood Theatre\, 15 Shenfield Road\, Brentwood\, Essex\, CM15 8AG\, United Kingdom
CATEGORIES:Musical,Theatre
ATTACH;FMTTYPE=image/jpeg:https://brentwood-theatre.co.uk/wp-content/uploads/2021/10/Carousel.jpg
GEO:51.6220985;0.3067854
X-APPLE-STRUCTURED-LOCATION;VALUE=URI;X-ADDRESS=Brentwood Theatre 15 Shenfield Road Brentwood Essex CM15 8AG United Kingdom;X-APPLE-RADIUS=500;X-TITLE=15 Shenfield Road:geo:0.3067854,51.6220985
END:VEVENT
END:VCALENDAR