BEGIN:VCALENDAR
VERSION:2.0
PRODID:-//Brentwood Theatre - ECPv6.15.13//NONSGML v1.0//EN
CALSCALE:GREGORIAN
METHOD:PUBLISH
X-WR-CALNAME:Brentwood Theatre
X-ORIGINAL-URL:https://brentwood-theatre.co.uk
X-WR-CALDESC:Events for Brentwood Theatre
REFRESH-INTERVAL;VALUE=DURATION:PT1H
X-Robots-Tag:noindex
X-PUBLISHED-TTL:PT1H
BEGIN:VTIMEZONE
TZID:Europe/London
BEGIN:DAYLIGHT
TZOFFSETFROM:+0000
TZOFFSETTO:+0100
TZNAME:BST
DTSTART:20200329T010000
END:DAYLIGHT
BEGIN:STANDARD
TZOFFSETFROM:+0100
TZOFFSETTO:+0000
TZNAME:GMT
DTSTART:20201025T010000
END:STANDARD
BEGIN:DAYLIGHT
TZOFFSETFROM:+0000
TZOFFSETTO:+0100
TZNAME:BST
DTSTART:20210328T010000
END:DAYLIGHT
BEGIN:STANDARD
TZOFFSETFROM:+0100
TZOFFSETTO:+0000
TZNAME:GMT
DTSTART:20211031T010000
END:STANDARD
BEGIN:DAYLIGHT
TZOFFSETFROM:+0000
TZOFFSETTO:+0100
TZNAME:BST
DTSTART:20220327T010000
END:DAYLIGHT
BEGIN:STANDARD
TZOFFSETFROM:+0100
TZOFFSETTO:+0000
TZNAME:GMT
DTSTART:20221030T010000
END:STANDARD
END:VTIMEZONE
BEGIN:VEVENT
DTSTART;TZID=Europe/London:20210724T140000
DTEND;TZID=Europe/London:20210724T160000
DTSTAMP:20260421T180621
CREATED:20210609T105536Z
LAST-MODIFIED:20210609T105619Z
UID:4012-1627135200-1627142400@brentwood-theatre.co.uk
SUMMARY:Wonderland
DESCRIPTION:Sophisticated Entertainment Proudly Presents \nWonderland\nTaking you and your family on a magical journey from the second you leave the outside world to the moment you enter into the dream world that we call Wonderland! This show will be enhanced by our talented production cast of singers\, dancers & actors as they take you on a musical journey through Wonderland! \nGive your family the special treat they deserve. Join the Mad Hatter at his incredibly mad tea party\, take part in our super speedy caucus race\, join the ever so silly Tweedle Dum & Tweedle Dee as they create mischief throughout Wonderland and so much more! Not forgetting some amazing surprises on the way! \nAnd remember….. Nothing is quite as it seems here in the splendid\, yet fascinating world of Wonderland! \nRunning time: 110 minutes including an interval
URL:https://brentwood-theatre.co.uk/event/wonderland/2021-07-24/
LOCATION:Brentwood Theatre\, 15 Shenfield Road\, Brentwood\, Essex\, CM15 8AG\, United Kingdom
CATEGORIES:Children's Theatre,Family,Family Musical,Get into ARTS!,Musical,Storytelling,Theatre
ATTACH;FMTTYPE=image/jpeg:https://brentwood-theatre.co.uk/wp-content/uploads/2021/06/195426775_324893342566049_4544367781385360445_n.jpg
ORGANIZER;CN="Sophistictaed Entertainment":MAILTO:info@sophisticatedentertainment.com
GEO:51.6220985;0.3067854
X-APPLE-STRUCTURED-LOCATION;VALUE=URI;X-ADDRESS=Brentwood Theatre 15 Shenfield Road Brentwood Essex CM15 8AG United Kingdom;X-APPLE-RADIUS=500;X-TITLE=15 Shenfield Road:geo:0.3067854,51.6220985
END:VEVENT
END:VCALENDAR