BEGIN:VCALENDAR
VERSION:2.0
PRODID:-//Brentwood Theatre - ECPv6.15.13//NONSGML v1.0//EN
CALSCALE:GREGORIAN
METHOD:PUBLISH
X-WR-CALNAME:Brentwood Theatre
X-ORIGINAL-URL:https://brentwood-theatre.co.uk
X-WR-CALDESC:Events for Brentwood Theatre
REFRESH-INTERVAL;VALUE=DURATION:PT1H
X-Robots-Tag:noindex
X-PUBLISHED-TTL:PT1H
BEGIN:VTIMEZONE
TZID:Europe/London
BEGIN:DAYLIGHT
TZOFFSETFROM:+0000
TZOFFSETTO:+0100
TZNAME:BST
DTSTART:20210328T010000
END:DAYLIGHT
BEGIN:STANDARD
TZOFFSETFROM:+0100
TZOFFSETTO:+0000
TZNAME:GMT
DTSTART:20211031T010000
END:STANDARD
BEGIN:DAYLIGHT
TZOFFSETFROM:+0000
TZOFFSETTO:+0100
TZNAME:BST
DTSTART:20220327T010000
END:DAYLIGHT
BEGIN:STANDARD
TZOFFSETFROM:+0100
TZOFFSETTO:+0000
TZNAME:GMT
DTSTART:20221030T010000
END:STANDARD
BEGIN:DAYLIGHT
TZOFFSETFROM:+0000
TZOFFSETTO:+0100
TZNAME:BST
DTSTART:20230326T010000
END:DAYLIGHT
BEGIN:STANDARD
TZOFFSETFROM:+0100
TZOFFSETTO:+0000
TZNAME:GMT
DTSTART:20231029T010000
END:STANDARD
END:VTIMEZONE
BEGIN:VEVENT
DTSTART;TZID=Europe/London:20221206T193000
DTEND;TZID=Europe/London:20221206T220000
DTSTAMP:20260421T195929
CREATED:20220902T123044Z
LAST-MODIFIED:20220901T123446Z
UID:5203-1670355000-1670364000@brentwood-theatre.co.uk
SUMMARY:The Addams Family
DESCRIPTION:SPRINGERS AODS presents\nThe Addams Family\nWe follow the Addams family on one “normal” night for their annual gathering of all ancestors. Uncle Fester states that they will not be allowed to return to their graves until love prevails because Wednesday\, who is now 18\, is in love with a boy named Lucas Beineke. Wednesday confesses her love of Lucas to dad Gomez but also makes him promise not to disclose her secret to mum Morticia until the two families have met for dinner later that night. When the dinner causes secrets and confessions to be revealed after Pugsley slips a truth telling potion\, all hell breaks loose between the families. Fester\, trying to be helpful\, instructs the Ancestors to create a sudden storm trapping everyone in the mansion for the night to reconcile their differences. Eventually all couples realise their love and reunite once again\, and Pugsley is congratulated on his potion mishap as it brought everyone together. \nThe running time for this event is approximately 2.5 hours. \nThe Saturday Matinee performance will be translated by an onstage BSL interpreter
URL:https://brentwood-theatre.co.uk/event/the-addams-family/2022-12-06/
LOCATION:Brentwood Theatre\, 15 Shenfield Road\, Brentwood\, Essex\, CM15 8AG\, United Kingdom
CATEGORIES:Musical
ATTACH;FMTTYPE=image/png:https://brentwood-theatre.co.uk/wp-content/uploads/2022/08/ICON-ADDAMS.png
GEO:51.6220985;0.3067854
X-APPLE-STRUCTURED-LOCATION;VALUE=URI;X-ADDRESS=Brentwood Theatre 15 Shenfield Road Brentwood Essex CM15 8AG United Kingdom;X-APPLE-RADIUS=500;X-TITLE=15 Shenfield Road:geo:0.3067854,51.6220985
END:VEVENT
END:VCALENDAR