BEGIN:VCALENDAR
VERSION:2.0
PRODID:-//Brentwood Theatre - ECPv6.15.13//NONSGML v1.0//EN
CALSCALE:GREGORIAN
METHOD:PUBLISH
X-ORIGINAL-URL:https://brentwood-theatre.co.uk
X-WR-CALDESC:Events for Brentwood Theatre
REFRESH-INTERVAL;VALUE=DURATION:PT1H
X-Robots-Tag:noindex
X-PUBLISHED-TTL:PT1H
BEGIN:VTIMEZONE
TZID:Europe/London
BEGIN:DAYLIGHT
TZOFFSETFROM:+0000
TZOFFSETTO:+0100
TZNAME:BST
DTSTART:20230326T010000
END:DAYLIGHT
BEGIN:STANDARD
TZOFFSETFROM:+0100
TZOFFSETTO:+0000
TZNAME:GMT
DTSTART:20231029T010000
END:STANDARD
BEGIN:DAYLIGHT
TZOFFSETFROM:+0000
TZOFFSETTO:+0100
TZNAME:BST
DTSTART:20240331T010000
END:DAYLIGHT
BEGIN:STANDARD
TZOFFSETFROM:+0100
TZOFFSETTO:+0000
TZNAME:GMT
DTSTART:20241027T010000
END:STANDARD
BEGIN:DAYLIGHT
TZOFFSETFROM:+0000
TZOFFSETTO:+0100
TZNAME:BST
DTSTART:20250330T010000
END:DAYLIGHT
BEGIN:STANDARD
TZOFFSETFROM:+0100
TZOFFSETTO:+0000
TZNAME:GMT
DTSTART:20251026T010000
END:STANDARD
BEGIN:DAYLIGHT
TZOFFSETFROM:+0000
TZOFFSETTO:+0100
TZNAME:BST
DTSTART:20260329T010000
END:DAYLIGHT
BEGIN:STANDARD
TZOFFSETFROM:+0100
TZOFFSETTO:+0000
TZNAME:GMT
DTSTART:20261025T010000
END:STANDARD
END:VTIMEZONE
BEGIN:VEVENT
DTSTART;TZID=Europe/London:20250712T140000
DTEND;TZID=Europe/London:20250712T171000
DTSTAMP:20260423T043936
CREATED:20250605T111222Z
LAST-MODIFIED:20250605T111222Z
UID:7759-1752328800-1752340200@brentwood-theatre.co.uk
SUMMARY:Trinity Stage School: Musical Madness
DESCRIPTION:Trinity Stage School presents\nMusical Madness\nMusicals\, musicals and more musicals! \nTrinity Stage School present an afternoon of dance and singing with songs from some of our favourite musicals. With routines from Newsies to Hamilton\, from Footlloose to Kinky boots\, in dance genres modern jazz\, acrobatics\, lyrical\, tap and ballet\, the kids are excited to showcase their best skills to their favourite musical tunes! \nApproximate running time 190mins (including interval)
URL:https://brentwood-theatre.co.uk/event/trinity-stage-school-musical-madness/
LOCATION:Brentwood Theatre\, 15 Shenfield Road\, Brentwood\, Essex\, CM15 8AG\, United Kingdom
CATEGORIES:Community,Dance,Musical
ATTACH;FMTTYPE=image/png:https://brentwood-theatre.co.uk/wp-content/uploads/2024/05/Trinity.png
GEO:51.6220985;0.3067854
X-APPLE-STRUCTURED-LOCATION;VALUE=URI;X-ADDRESS=Brentwood Theatre 15 Shenfield Road Brentwood Essex CM15 8AG United Kingdom;X-APPLE-RADIUS=500;X-TITLE=15 Shenfield Road:geo:0.3067854,51.6220985
END:VEVENT
BEGIN:VEVENT
DTSTART;TZID=Europe/London:20240727T160000
DTEND;TZID=Europe/London:20240727T183000
DTSTAMP:20260423T043936
CREATED:20240531T131347Z
LAST-MODIFIED:20240531T131415Z
UID:6872-1722096000-1722105000@brentwood-theatre.co.uk
SUMMARY:Trinity Stage School - Heroes & Villains
DESCRIPTION:Trinity Stage School is a local Dance School based in Vange\, Basildon with students ranging from the age of 2-16\, who will be performing their annual showcase for friends and family! The students have been working on routines in Acrobatics\, Ballet\, Tap\, Modern Jazz\, Lyrical and Musical Theatre to put together this show and demonstrate how amazing they all are! \nApprox running time 2.5hrs (including interval)
URL:https://brentwood-theatre.co.uk/event/trinity-stage-school-heroes-villains/2024-07-27/2/
LOCATION:Brentwood Theatre\, 15 Shenfield Road\, Brentwood\, Essex\, CM15 8AG\, United Kingdom
CATEGORIES:Community,Dance
ATTACH;FMTTYPE=image/png:https://brentwood-theatre.co.uk/wp-content/uploads/2024/05/Trinity.png
GEO:51.6220985;0.3067854
X-APPLE-STRUCTURED-LOCATION;VALUE=URI;X-ADDRESS=Brentwood Theatre 15 Shenfield Road Brentwood Essex CM15 8AG United Kingdom;X-APPLE-RADIUS=500;X-TITLE=15 Shenfield Road:geo:0.3067854,51.6220985
END:VEVENT
END:VCALENDAR