BEGIN:VCALENDAR
VERSION:2.0
PRODID:-//Brentwood Theatre - ECPv6.15.13//NONSGML v1.0//EN
CALSCALE:GREGORIAN
METHOD:PUBLISH
X-WR-CALNAME:Brentwood Theatre
X-ORIGINAL-URL:https://brentwood-theatre.co.uk
X-WR-CALDESC:Events for Brentwood Theatre
REFRESH-INTERVAL;VALUE=DURATION:PT1H
X-Robots-Tag:noindex
X-PUBLISHED-TTL:PT1H
BEGIN:VTIMEZONE
TZID:Europe/London
BEGIN:DAYLIGHT
TZOFFSETFROM:+0000
TZOFFSETTO:+0100
TZNAME:BST
DTSTART:20170326T010000
END:DAYLIGHT
BEGIN:STANDARD
TZOFFSETFROM:+0100
TZOFFSETTO:+0000
TZNAME:GMT
DTSTART:20171029T010000
END:STANDARD
BEGIN:DAYLIGHT
TZOFFSETFROM:+0000
TZOFFSETTO:+0100
TZNAME:BST
DTSTART:20180325T010000
END:DAYLIGHT
BEGIN:STANDARD
TZOFFSETFROM:+0100
TZOFFSETTO:+0000
TZNAME:GMT
DTSTART:20181028T010000
END:STANDARD
BEGIN:DAYLIGHT
TZOFFSETFROM:+0000
TZOFFSETTO:+0100
TZNAME:BST
DTSTART:20190331T010000
END:DAYLIGHT
BEGIN:STANDARD
TZOFFSETFROM:+0100
TZOFFSETTO:+0000
TZNAME:GMT
DTSTART:20191027T010000
END:STANDARD
END:VTIMEZONE
BEGIN:VEVENT
DTSTART;TZID=Europe/London:20180203T193000
DTEND;TZID=Europe/London:20180203T214500
DTSTAMP:20260423T182700
CREATED:20170927T105340Z
LAST-MODIFIED:20171011T140645Z
UID:883-1517686200-1517694300@brentwood-theatre.co.uk
SUMMARY:Bob Drury's VIVA NEIL DIAMOND
DESCRIPTION:A celebration of over 50 years of hits from the legendary singer/songwriter Neil Diamond.\n  \nWhilst performing in Las Vegas two years ago Bob Drury was described  “one of the world’s finest vocal tributes to Neil Diamond” and he never fails to deliver a brilliant performance.  Bob Drury’s one-man show is an absolute ‘must-see’ for any Diamond fans.  Prepare to be blown away by his vocal likeness which has been delighting audiences around the world.  This year’s show includes all of the favourites such as Cracklin’ Rosie\, America\, Love on the Rocks\, Play Me\, Hello Again\, Forever in Blue Jeans\, Beautiful Noise\, I’m a Believer\, Red Red Wine and of course Sweet Caroline\, plus Neil Diamond’s UK hit Pretty Amazing Grace and a few lesser known songs that are sure to become your favourites by the end of the evening.  A fantastic evening guaranteed! \n  \n“an uncanny resemblance to Neil Diamond’s voice. That sent tingles down my spine Bob!”  Debbie McGee\, BBC Radio Berkshire \n“Bob\, it was great hearing you last night and I was totally blown away by your level of musicianship on guitar” Mark LeVang\, keyboard player with Neil Diamond’s band  \n“Bob is well established as one of the world’s finest vocal tributes to Neil Diamond” Steve Tatone\, Film Producer\, Midnight Pass Productions\, USA \n“If I didn’t know better I’d have said that was Neil Diamond singing” Pat Marsh\, BBC Radio Kent \n“Without doubt\, the best Neil Diamond tribute in the UK. The vocal accuracy is astonishing!” – Chris Neilson (Artistic Director) First & Foremost Entertainment Ltd \n“….oozing class” Nolan Dean\, Cruise Director\, M/V Island Star \n“Neil Diamond fans will be delighted with the sound-alike quality and the nifty guitar work” UK Cabaret Magazine \n  \nTo visit their Facebook please click here \nTo visit their Website please click here
URL:https://brentwood-theatre.co.uk/event/bob-drurys-viva-neil-diamond/
LOCATION:Brentwood Theatre\, 15 Shenfield Road\, Brentwood\, Essex\, CM15 8AG\, United Kingdom
CATEGORIES:Live Music
ATTACH;FMTTYPE=image/jpeg:https://brentwood-theatre.co.uk/wp-content/uploads/2017/09/VND-Brentwood-Web-Poster.jpg
GEO:51.6220985;0.3067854
X-APPLE-STRUCTURED-LOCATION;VALUE=URI;X-ADDRESS=Brentwood Theatre 15 Shenfield Road Brentwood Essex CM15 8AG United Kingdom;X-APPLE-RADIUS=500;X-TITLE=15 Shenfield Road:geo:0.3067854,51.6220985
END:VEVENT
END:VCALENDAR