BEGIN:VCALENDAR
VERSION:2.0
PRODID:-//Brentwood Theatre - ECPv6.15.13//NONSGML v1.0//EN
CALSCALE:GREGORIAN
METHOD:PUBLISH
X-ORIGINAL-URL:https://brentwood-theatre.co.uk
X-WR-CALDESC:Events for Brentwood Theatre
REFRESH-INTERVAL;VALUE=DURATION:PT1H
X-Robots-Tag:noindex
X-PUBLISHED-TTL:PT1H
BEGIN:VTIMEZONE
TZID:Europe/London
BEGIN:DAYLIGHT
TZOFFSETFROM:+0000
TZOFFSETTO:+0100
TZNAME:BST
DTSTART:20250330T010000
END:DAYLIGHT
BEGIN:STANDARD
TZOFFSETFROM:+0100
TZOFFSETTO:+0000
TZNAME:GMT
DTSTART:20251026T010000
END:STANDARD
BEGIN:DAYLIGHT
TZOFFSETFROM:+0000
TZOFFSETTO:+0100
TZNAME:BST
DTSTART:20260329T010000
END:DAYLIGHT
BEGIN:STANDARD
TZOFFSETFROM:+0100
TZOFFSETTO:+0000
TZNAME:GMT
DTSTART:20261025T010000
END:STANDARD
BEGIN:DAYLIGHT
TZOFFSETFROM:+0000
TZOFFSETTO:+0100
TZNAME:BST
DTSTART:20270328T010000
END:DAYLIGHT
BEGIN:STANDARD
TZOFFSETFROM:+0100
TZOFFSETTO:+0000
TZNAME:GMT
DTSTART:20271031T010000
END:STANDARD
END:VTIMEZONE
BEGIN:VEVENT
DTSTART;TZID=Europe/London:20260801T140000
DTEND;TZID=Europe/London:20260801T150000
DTSTAMP:20260423T094710
CREATED:20260422T123021Z
LAST-MODIFIED:20260422T145758Z
UID:105902-1785592800-1785596400@brentwood-theatre.co.uk
SUMMARY:Allan Swan Chicken Man's Juggleitall Show
DESCRIPTION:Magic\, juggling\, bubbles\, a human slinky\, a spinning cube\, and a giant balloon all come together in one unforgettable experience! Fresh from his appearance on Britain’s Got Talent\, this lively\, high-energy show blends visual spectacle with playful comedy to keep audiences of all ages entertained from start to finish. Perfect for the whole family\, it’s a colourful celebration of skill\, creativity\, and pure fun that will leave everyone smiling long after the final act. \nAprox Running Time – 1 hour
URL:https://brentwood-theatre.co.uk/event/allan-swan-chicken-mans-juggleitall-show/
LOCATION:Brentwood Theatre\, 15 Shenfield Road\, Brentwood\, Essex\, CM15 8AG\, United Kingdom
CATEGORIES:Children's Theatre,Circus,Family,Theatre
ATTACH;FMTTYPE=image/png:https://brentwood-theatre.co.uk/wp-content/uploads/2026/04/01.08.26-Allan-Swan-Poster-Design.png
GEO:51.6220985;0.3067854
X-APPLE-STRUCTURED-LOCATION;VALUE=URI;X-ADDRESS=Brentwood Theatre 15 Shenfield Road Brentwood Essex CM15 8AG United Kingdom;X-APPLE-RADIUS=500;X-TITLE=15 Shenfield Road:geo:0.3067854,51.6220985
END:VEVENT
BEGIN:VEVENT
DTSTART;TZID=Europe/London:20261101T130000
DTEND;TZID=Europe/London:20261101T160000
DTSTAMP:20260423T094710
CREATED:20251209T151410Z
LAST-MODIFIED:20251209T152206Z
UID:8250-1793538000-1793548800@brentwood-theatre.co.uk
SUMMARY:Cartoon Circus Live
DESCRIPTION:The one hour Half Term holiday family show features some of Britain’s funniest clowns\, traditional slapstick comedy\, illusions\, the amazing girl in the spinning bottle\, magic\, a huge giant dancing bear\, cartoon characters\, an acrobatic human slinky\, puppets\, prizes and surprises. \nApprox Running Time – 1 Hour (No Interval) \nhttps://cartooncircuslive.co.uk\n@lemonjellycreative
URL:https://brentwood-theatre.co.uk/event/cartoon-circus-live/2026-11-01/
LOCATION:Brentwood Theatre\, 15 Shenfield Road\, Brentwood\, Essex\, CM15 8AG\, United Kingdom
CATEGORIES:Children's Theatre,Circus,Family
ATTACH;FMTTYPE=image/jpeg:https://brentwood-theatre.co.uk/wp-content/uploads/2025/12/Brentwood-Leaflet-FRONT-4-copy-scaled.jpg
GEO:51.6220985;0.3067854
X-APPLE-STRUCTURED-LOCATION;VALUE=URI;X-ADDRESS=Brentwood Theatre 15 Shenfield Road Brentwood Essex CM15 8AG United Kingdom;X-APPLE-RADIUS=500;X-TITLE=15 Shenfield Road:geo:0.3067854,51.6220985
END:VEVENT
END:VCALENDAR