BEGIN:VCALENDAR
VERSION:2.0
PRODID:-//Brentwood Theatre - ECPv6.15.13//NONSGML v1.0//EN
CALSCALE:GREGORIAN
METHOD:PUBLISH
X-WR-CALNAME:Brentwood Theatre
X-ORIGINAL-URL:https://brentwood-theatre.co.uk
X-WR-CALDESC:Events for Brentwood Theatre
REFRESH-INTERVAL;VALUE=DURATION:PT1H
X-Robots-Tag:noindex
X-PUBLISHED-TTL:PT1H
BEGIN:VTIMEZONE
TZID:Europe/London
BEGIN:DAYLIGHT
TZOFFSETFROM:+0000
TZOFFSETTO:+0100
TZNAME:BST
DTSTART:20170326T010000
END:DAYLIGHT
BEGIN:STANDARD
TZOFFSETFROM:+0100
TZOFFSETTO:+0000
TZNAME:GMT
DTSTART:20171029T010000
END:STANDARD
BEGIN:DAYLIGHT
TZOFFSETFROM:+0000
TZOFFSETTO:+0100
TZNAME:BST
DTSTART:20180325T010000
END:DAYLIGHT
BEGIN:STANDARD
TZOFFSETFROM:+0100
TZOFFSETTO:+0000
TZNAME:GMT
DTSTART:20181028T010000
END:STANDARD
BEGIN:DAYLIGHT
TZOFFSETFROM:+0000
TZOFFSETTO:+0100
TZNAME:BST
DTSTART:20190331T010000
END:DAYLIGHT
BEGIN:STANDARD
TZOFFSETFROM:+0100
TZOFFSETTO:+0000
TZNAME:GMT
DTSTART:20191027T010000
END:STANDARD
BEGIN:DAYLIGHT
TZOFFSETFROM:+0000
TZOFFSETTO:+0100
TZNAME:BST
DTSTART:20200329T010000
END:DAYLIGHT
BEGIN:STANDARD
TZOFFSETFROM:+0100
TZOFFSETTO:+0000
TZNAME:GMT
DTSTART:20201025T010000
END:STANDARD
BEGIN:DAYLIGHT
TZOFFSETFROM:+0000
TZOFFSETTO:+0100
TZNAME:BST
DTSTART:20210328T010000
END:DAYLIGHT
BEGIN:STANDARD
TZOFFSETFROM:+0100
TZOFFSETTO:+0000
TZNAME:GMT
DTSTART:20211031T010000
END:STANDARD
BEGIN:DAYLIGHT
TZOFFSETFROM:+0000
TZOFFSETTO:+0100
TZNAME:BST
DTSTART:20220327T010000
END:DAYLIGHT
BEGIN:STANDARD
TZOFFSETFROM:+0100
TZOFFSETTO:+0000
TZNAME:GMT
DTSTART:20221030T010000
END:STANDARD
BEGIN:DAYLIGHT
TZOFFSETFROM:+0000
TZOFFSETTO:+0100
TZNAME:BST
DTSTART:20230326T010000
END:DAYLIGHT
BEGIN:STANDARD
TZOFFSETFROM:+0100
TZOFFSETTO:+0000
TZNAME:GMT
DTSTART:20231029T010000
END:STANDARD
BEGIN:DAYLIGHT
TZOFFSETFROM:+0000
TZOFFSETTO:+0100
TZNAME:BST
DTSTART:20240331T010000
END:DAYLIGHT
BEGIN:STANDARD
TZOFFSETFROM:+0100
TZOFFSETTO:+0000
TZNAME:GMT
DTSTART:20241027T010000
END:STANDARD
BEGIN:DAYLIGHT
TZOFFSETFROM:+0000
TZOFFSETTO:+0100
TZNAME:BST
DTSTART:20250330T010000
END:DAYLIGHT
BEGIN:STANDARD
TZOFFSETFROM:+0100
TZOFFSETTO:+0000
TZNAME:GMT
DTSTART:20251026T010000
END:STANDARD
BEGIN:DAYLIGHT
TZOFFSETFROM:+0000
TZOFFSETTO:+0100
TZNAME:BST
DTSTART:20260329T010000
END:DAYLIGHT
BEGIN:STANDARD
TZOFFSETFROM:+0100
TZOFFSETTO:+0000
TZNAME:GMT
DTSTART:20261025T010000
END:STANDARD
BEGIN:DAYLIGHT
TZOFFSETFROM:+0000
TZOFFSETTO:+0100
TZNAME:BST
DTSTART:20270328T010000
END:DAYLIGHT
BEGIN:STANDARD
TZOFFSETFROM:+0100
TZOFFSETTO:+0000
TZNAME:GMT
DTSTART:20271031T010000
END:STANDARD
END:VTIMEZONE
BEGIN:VEVENT
DTSTART;TZID=Europe/London:20260329T170000
DTEND;TZID=Europe/London:20260329T190000
DTSTAMP:20260421T092922
CREATED:20260303T091122Z
LAST-MODIFIED:20260303T091404Z
UID:60952-1774803600-1774810800@brentwood-theatre.co.uk
SUMMARY:Voices from Beyond: An Evening of Mediumship
DESCRIPTION:Join three highly respected international mediums for an unforgettable early evening of mediumship and spirit communication.Through detailed and evidential information that often includes names\, relationships and shared memories\, they reconnect members of the audience with loved ones in spirit\, offering comfort and reassurance of their continued presence beyond this life. \nIn a gentle and uplifting atmosphere\, Leona\, Jeremy and Rosemary each work in their own unique way\, with integrity and compassion. As connections unfold\, moments from the past may gently rise into awareness\, allowing the love once shared to be experienced again — a reminder that these bonds are never truly lost. \nWhilst not every audience member will receive a personal message\, there is always something within each connection for all who attend — whether a sense of peace\, a feeling of recognition\, or simply the powerful atmosphere created as others receive their messages. \nDue to recent legislation\, this mediumship event is billed as entertainment. \nBook now for this uplifting and heart-warming early-evening in the presence of loved ones in spirit. \nAware of spirit from an early age\, Jeremy developed his abilities through extensive training in the UK. He now works internationally as an evidential medium – sharing detailed and heartfelt messages from those in spirit. He also serves as a tutor at the College of Psychic Studies in London. \nHaving had encounters with spirit her whole life\, Leona began doing evidential mediumship readings after being seriously ill\, and losing two loved ones\, all within the space of 10 months. It brings her a great deal of happiness to be able to bring through evidence and healing to a client\, to help them to realise that death is only a transition and not the end. \nFeeling truly honoured and blessed\, Rosemary’s soul’s mission is to bring joy and healing into the hearts and souls of both spirit and the loved ones with whom they wish to connect. Her honesty and integrity shine through as she communicates with those in spirit. She believes we are always developing\, always learning\, always growing. \nApprox 2 Hours (Including 20 Min Interval)
URL:https://brentwood-theatre.co.uk/event/voices-from-beyond-an-evening-of-mediumship/
LOCATION:Brentwood Theatre\, 15 Shenfield Road\, Brentwood\, Essex\, CM15 8AG\, United Kingdom
CATEGORIES:Live Mediumship
ATTACH;FMTTYPE=image/png:https://brentwood-theatre.co.uk/wp-content/uploads/2026/03/A0-841-x-1189-mm-scaled.png
GEO:51.6220985;0.3067854
X-APPLE-STRUCTURED-LOCATION;VALUE=URI;X-ADDRESS=Brentwood Theatre 15 Shenfield Road Brentwood Essex CM15 8AG United Kingdom;X-APPLE-RADIUS=500;X-TITLE=15 Shenfield Road:geo:0.3067854,51.6220985
END:VEVENT
BEGIN:VEVENT
DTSTART;TZID=Europe/London:20260203T193000
DTEND;TZID=Europe/London:20260203T193000
DTSTAMP:20260421T092922
CREATED:20250823T151324Z
LAST-MODIFIED:20250823T151324Z
UID:7955-1770147000-1770147000@brentwood-theatre.co.uk
SUMMARY:An Evening of Mediumship with Psychic Tony Stockwell
DESCRIPTION:Remarkably compelling\, amazingly detailed\, and always humorous \nThe popular star of TV’s Street Psychic\, Psychic Private Eyes and Psychic Academy\, Tony Stockwell has a long-established credibility as one of the top Intuitive Mediums. Tony demonstrates his belief that those who have passed can communicate with their loved ones with detailed messages frequently including names\, dates\, and locations and all delivered with emotion\, sensitivity\, and empathy. The evening may include psychometry\, photograph readings and psychic prediction. \nRecent legislative guidelines insist that any Evening of Mediumship should be billed ‘for entertainment purposes’. Tony certainly uses his natural wit\, showmanship\, and Cockney charisma to entertain but more important\, Mediumship has the potential to change someone’s life and instil in them a sense of peace\, comfort\, and purpose. \nWe hope that nobody can fail to come away untouched by the experience. \nApprox running time – 2hrs Including Interval\nPlease note there may be some aspects of this performance not suitable for a younger audience. \n 
URL:https://brentwood-theatre.co.uk/event/an-evening-of-mediumship-with-psychic-tony-stockwell/
LOCATION:Brentwood Theatre\, 15 Shenfield Road\, Brentwood\, Essex\, CM15 8AG\, United Kingdom
CATEGORIES:Live Mediumship
ATTACH;FMTTYPE=image/jpeg:https://brentwood-theatre.co.uk/wp-content/uploads/2025/08/Stockwell.jpg
GEO:51.6220985;0.3067854
X-APPLE-STRUCTURED-LOCATION;VALUE=URI;X-ADDRESS=Brentwood Theatre 15 Shenfield Road Brentwood Essex CM15 8AG United Kingdom;X-APPLE-RADIUS=500;X-TITLE=15 Shenfield Road:geo:0.3067854,51.6220985
END:VEVENT
BEGIN:VEVENT
DTSTART;TZID=Europe/London:20250918T193000
DTEND;TZID=Europe/London:20250918T220000
DTSTAMP:20260421T092922
CREATED:20250513T103755Z
LAST-MODIFIED:20250515T103127Z
UID:7680-1758223800-1758232800@brentwood-theatre.co.uk
SUMMARY:An Evening of Mediumship
DESCRIPTION:An Evening of Mediumship\nAn Evening of Mediumship with International Medium Lynne O’Brien. Lynne will connect with spirit and receive and deliver messages and evidence\, from our loved ones\, proving there is life after life.
URL:https://brentwood-theatre.co.uk/event/an-evening-of-mediumship-3/
LOCATION:Brentwood Theatre\, 15 Shenfield Road\, Brentwood\, Essex\, CM15 8AG\, United Kingdom
CATEGORIES:Live Mediumship
ATTACH;FMTTYPE=image/png:https://brentwood-theatre.co.uk/wp-content/uploads/2025/05/Poster-Brentwood-with-Banner-25.png
GEO:51.6220985;0.3067854
X-APPLE-STRUCTURED-LOCATION;VALUE=URI;X-ADDRESS=Brentwood Theatre 15 Shenfield Road Brentwood Essex CM15 8AG United Kingdom;X-APPLE-RADIUS=500;X-TITLE=15 Shenfield Road:geo:0.3067854,51.6220985
END:VEVENT
BEGIN:VEVENT
DTSTART;TZID=Europe/London:20240919T193000
DTEND;TZID=Europe/London:20240919T220000
DTSTAMP:20260421T092922
CREATED:20240221T145848Z
LAST-MODIFIED:20240910T112004Z
UID:6437-1726774200-1726783200@brentwood-theatre.co.uk
SUMMARY:An Evening of Mediumship
DESCRIPTION:An evening of Mediumship with International Medium Lynne O’Brien\nAn Evening of Mediumship with International Medium Lynne O’Brien. Lynne will connect with spirit and receive and deliver messages and evidence\, from our loved ones\, proving there is life after life. \nRunning time: 2 hours and 30 minutes (including 30 minute interval)
URL:https://brentwood-theatre.co.uk/event/an-evening-of-mediumship-2/
LOCATION:Brentwood Theatre\, 15 Shenfield Road\, Brentwood\, Essex\, CM15 8AG\, United Kingdom
CATEGORIES:Live Mediumship
ATTACH;FMTTYPE=image/png:https://brentwood-theatre.co.uk/wp-content/uploads/2024/02/Sandra-Doyle-Sold-Out.png
GEO:51.6220985;0.3067854
X-APPLE-STRUCTURED-LOCATION;VALUE=URI;X-ADDRESS=Brentwood Theatre 15 Shenfield Road Brentwood Essex CM15 8AG United Kingdom;X-APPLE-RADIUS=500;X-TITLE=15 Shenfield Road:geo:0.3067854,51.6220985
END:VEVENT
BEGIN:VEVENT
DTSTART;TZID=Europe/London:20230914T193000
DTEND;TZID=Europe/London:20230914T220000
DTSTAMP:20260421T092922
CREATED:20230320T150046Z
LAST-MODIFIED:20230318T145428Z
UID:5750-1694719800-1694728800@brentwood-theatre.co.uk
SUMMARY:An evening of Mediumship
DESCRIPTION:An evening of Mediumship with International Medium Lynne O’Brien \nAn evening  of Mediumship with International Medium Lynne O’Brien. The Between Two Worlds Tour\, where Lynne will receive messages and evidence from our loved and prove that there is life after life.
URL:https://brentwood-theatre.co.uk/event/an-evening-of-mediumship/
LOCATION:Brentwood Theatre\, 15 Shenfield Road\, Brentwood\, Essex\, CM15 8AG\, United Kingdom
CATEGORIES:Live Mediumship
ATTACH;FMTTYPE=image/jpeg:https://brentwood-theatre.co.uk/wp-content/uploads/2023/03/Poster-Brentwood.jpg
GEO:51.6220985;0.3067854
X-APPLE-STRUCTURED-LOCATION;VALUE=URI;X-ADDRESS=Brentwood Theatre 15 Shenfield Road Brentwood Essex CM15 8AG United Kingdom;X-APPLE-RADIUS=500;X-TITLE=15 Shenfield Road:geo:0.3067854,51.6220985
END:VEVENT
BEGIN:VEVENT
DTSTART;TZID=Europe/London:20180622T193000
DTEND;TZID=Europe/London:20180622T220000
DTSTAMP:20260421T092922
CREATED:20180305T123139Z
LAST-MODIFIED:20180305T134651Z
UID:1316-1529695800-1529704800@brentwood-theatre.co.uk
SUMMARY:An evening with Ryan Gooding\, The international Modern Medium
DESCRIPTION:An evening with Ryan Gooding\, The International Modern Medium. \nAn evening of Mediumship with the International Modern Medium Ryan Gooding\, recently stared on TV Show Celebrity Haunted Mansion. \n  \nThis event is for over 18s only. ID may be required 
URL:https://brentwood-theatre.co.uk/event/an-evening-with-ryan-gooding-the-international-modern-medium/
LOCATION:Brentwood Theatre\, 15 Shenfield Road\, Brentwood\, Essex\, CM15 8AG\, United Kingdom
CATEGORIES:Live Mediumship
ATTACH;FMTTYPE=image/jpeg:https://brentwood-theatre.co.uk/wp-content/uploads/2018/03/Ryan-Gooding-simply-skate-smaller.jpg
GEO:51.6220985;0.3067854
X-APPLE-STRUCTURED-LOCATION;VALUE=URI;X-ADDRESS=Brentwood Theatre 15 Shenfield Road Brentwood Essex CM15 8AG United Kingdom;X-APPLE-RADIUS=500;X-TITLE=15 Shenfield Road:geo:0.3067854,51.6220985
END:VEVENT
END:VCALENDAR