BEGIN:VCALENDAR
VERSION:2.0
PRODID:-//Brentwood Theatre - ECPv6.15.13//NONSGML v1.0//EN
CALSCALE:GREGORIAN
METHOD:PUBLISH
X-ORIGINAL-URL:https://brentwood-theatre.co.uk
X-WR-CALDESC:Events for Brentwood Theatre
REFRESH-INTERVAL;VALUE=DURATION:PT1H
X-Robots-Tag:noindex
X-PUBLISHED-TTL:PT1H
BEGIN:VTIMEZONE
TZID:Europe/London
BEGIN:DAYLIGHT
TZOFFSETFROM:+0000
TZOFFSETTO:+0100
TZNAME:BST
DTSTART:20170326T010000
END:DAYLIGHT
BEGIN:STANDARD
TZOFFSETFROM:+0100
TZOFFSETTO:+0000
TZNAME:GMT
DTSTART:20171029T010000
END:STANDARD
BEGIN:DAYLIGHT
TZOFFSETFROM:+0000
TZOFFSETTO:+0100
TZNAME:BST
DTSTART:20180325T010000
END:DAYLIGHT
BEGIN:STANDARD
TZOFFSETFROM:+0100
TZOFFSETTO:+0000
TZNAME:GMT
DTSTART:20181028T010000
END:STANDARD
BEGIN:DAYLIGHT
TZOFFSETFROM:+0000
TZOFFSETTO:+0100
TZNAME:BST
DTSTART:20190331T010000
END:DAYLIGHT
BEGIN:STANDARD
TZOFFSETFROM:+0100
TZOFFSETTO:+0000
TZNAME:GMT
DTSTART:20191027T010000
END:STANDARD
END:VTIMEZONE
BEGIN:VEVENT
DTSTART;TZID=Europe/London:20180723T200000
DTEND;TZID=Europe/London:20180723T213000
DTSTAMP:20260422T135757
CREATED:20180514T160526Z
LAST-MODIFIED:20180618T152525Z
UID:1540-1532376000-1532381400@brentwood-theatre.co.uk
SUMMARY:The Time Machine
DESCRIPTION:Dyad Productions \n  \n  \nCan we change the future?  Or has the end already begun?\nFrom the creators of Jane Eyre: An Autobiography\, Austen’s Women\, Christmas Gothic\, Dalloway\, I\, Elizabeth\, The Unremarkable Death of Marilyn Monroe\, and Female Gothic. \nA philosophical journey\, a nightmare adventure\, a cautionary tale – this is the story of us all. \n2018: In this age of uncertainty\, where the shadows of tyranny\, intolerance and war darken the path into tomorrow\, how much time do we have left? If civilisation falls today\, what will become of us? \nIn Rebecca Vaughan and Elton Townend Jones’ radical new interpretation of the HG Wells classic\, a Victorian time traveller transcends across the ages from 1900 to our own far future – from the fall of man to the end of the world. \nCan we change the future?  Or has the end already begun? \n★★★★★ ‘Outstanding… Amazing… Magic’ (Edinburgh Southside Advertiser) \n★★★★ ‘Terrific… grips the imagination… ideas spit off the narrative like sparks from a welder’s torch’ (Quentin Letts\, Daily Mail) \n★★★★ ‘Brilliant… Captivates and amazes’ (British Theatre Guide) \nWebsite: www.dyadproductions.com \nFacebook: https://www.facebook.com/DyadProductions \nTwitter: https://twitter.com/dyadproductions   
URL:https://brentwood-theatre.co.uk/event/the-time-machine/
LOCATION:Brentwood Theatre\, 15 Shenfield Road\, Brentwood\, Essex\, CM15 8AG\, United Kingdom
CATEGORIES:Drama,Theatre
ATTACH;FMTTYPE=image/jpeg:https://brentwood-theatre.co.uk/wp-content/uploads/2018/05/The-Time-Machine-MAIN-Image-portrait.jpg
GEO:51.6220985;0.3067854
X-APPLE-STRUCTURED-LOCATION;VALUE=URI;X-ADDRESS=Brentwood Theatre 15 Shenfield Road Brentwood Essex CM15 8AG United Kingdom;X-APPLE-RADIUS=500;X-TITLE=15 Shenfield Road:geo:0.3067854,51.6220985
END:VEVENT
END:VCALENDAR