BEGIN:VCALENDAR
VERSION:2.0
PRODID:-//Brentwood Theatre - ECPv6.15.13//NONSGML v1.0//EN
CALSCALE:GREGORIAN
METHOD:PUBLISH
X-ORIGINAL-URL:https://brentwood-theatre.co.uk
X-WR-CALDESC:Events for Brentwood Theatre
REFRESH-INTERVAL;VALUE=DURATION:PT1H
X-Robots-Tag:noindex
X-PUBLISHED-TTL:PT1H
BEGIN:VTIMEZONE
TZID:Europe/London
BEGIN:DAYLIGHT
TZOFFSETFROM:+0000
TZOFFSETTO:+0100
TZNAME:BST
DTSTART:20230326T010000
END:DAYLIGHT
BEGIN:STANDARD
TZOFFSETFROM:+0100
TZOFFSETTO:+0000
TZNAME:GMT
DTSTART:20231029T010000
END:STANDARD
BEGIN:DAYLIGHT
TZOFFSETFROM:+0000
TZOFFSETTO:+0100
TZNAME:BST
DTSTART:20240331T010000
END:DAYLIGHT
BEGIN:STANDARD
TZOFFSETFROM:+0100
TZOFFSETTO:+0000
TZNAME:GMT
DTSTART:20241027T010000
END:STANDARD
BEGIN:DAYLIGHT
TZOFFSETFROM:+0000
TZOFFSETTO:+0100
TZNAME:BST
DTSTART:20250330T010000
END:DAYLIGHT
BEGIN:STANDARD
TZOFFSETFROM:+0100
TZOFFSETTO:+0000
TZNAME:GMT
DTSTART:20251026T010000
END:STANDARD
BEGIN:DAYLIGHT
TZOFFSETFROM:+0000
TZOFFSETTO:+0100
TZNAME:BST
DTSTART:20260329T010000
END:DAYLIGHT
BEGIN:STANDARD
TZOFFSETFROM:+0100
TZOFFSETTO:+0000
TZNAME:GMT
DTSTART:20261025T010000
END:STANDARD
END:VTIMEZONE
BEGIN:VEVENT
DTSTART;TZID=Europe/London:20250118T210000
DTEND;TZID=Europe/London:20250118T230000
DTSTAMP:20260423T044403
CREATED:20240910T135905Z
LAST-MODIFIED:20240910T135905Z
UID:7369-1737234000-1737241200@brentwood-theatre.co.uk
SUMMARY:Alice in Bumbleland: An Adult Panto
DESCRIPTION:Strictly over 18s \nSophisticated Entertainment devilishly present Alice in Bumbleland\, A take on the traditional family Pantomime Alice in Wonderland but with a modern twist\, this time there is no fairy tale\, just the harsh realities of the modern dating world in all its glory\, all beautifully mixed together with hilarious adult humour and naughty innuendos\, be sure to leave your kids at home as this show is strictly for over 18s! Grab a wine from the bar\, laugh and get involved with our incredibly wicked adult pantomime! \nAn all singing\, all dancing\, comedy show at its finest! Oh and remember…If you’re easily offended\, stay at home! \nRecommended age: 18+ \nApproximate running time: 2hrs 30mins \n*This pantomime is not endorsed by Bumble
URL:https://brentwood-theatre.co.uk/event/alice-in-bumble-land-an-adult-panto/2025-01-18/2/
LOCATION:Brentwood Theatre\, 15 Shenfield Road\, Brentwood\, Essex\, CM15 8AG\, United Kingdom
CATEGORIES:Comedy,Pantomime,Professional,Theatre
ATTACH;FMTTYPE=image/png:https://brentwood-theatre.co.uk/wp-content/uploads/2024/09/Alice-in-Bumble-land-ad-2-2.png
ORGANIZER;CN="Sophisticated Entertainment":MAILTO:info@sophisticatedentertainment.com
GEO:51.6220985;0.3067854
X-APPLE-STRUCTURED-LOCATION;VALUE=URI;X-ADDRESS=Brentwood Theatre 15 Shenfield Road Brentwood Essex CM15 8AG United Kingdom;X-APPLE-RADIUS=500;X-TITLE=15 Shenfield Road:geo:0.3067854,51.6220985
END:VEVENT
BEGIN:VEVENT
DTSTART;TZID=Europe/London:20240405T180000
DTEND;TZID=Europe/London:20240405T200000
DTSTAMP:20260423T044403
CREATED:20240131T150732Z
LAST-MODIFIED:20240131T150732Z
UID:6397-1712340000-1712347200@brentwood-theatre.co.uk
SUMMARY:Aladdin
DESCRIPTION:Sophisticated Entertainment presents…\nAladdin\nJoin Sophisticated Entertainment on a magical carpet ride this Easter at Brentwood Theatre as we journey across the Arabian magical kingdom in this family pantomime! \nMeet Aladdin\, Princess Jasmine\, Widow Twankey\, Wishy Washy\, The Genie of the lamp and many more mystical characters as we embark on this adventure! Watch out for the evil Abanazar as we journey on our flying carpet extravaganza! A family friendly pantomime…after all\, who said Pantomime was just for Christmas!\nProudly presented to you by Sophisticated Entertainment Ltd who are delighted to be returning to The Brentwood Theatre after their sell out Pantomimes & Production shows!
URL:https://brentwood-theatre.co.uk/event/aladdin-4/2024-04-05/
LOCATION:Brentwood Theatre\, 15 Shenfield Road\, Brentwood\, Essex\, CM15 8AG\, United Kingdom
CATEGORIES:Children's Theatre,Comedy,Community,Family,Get into ARTS!,Pantomime,Theatre
ATTACH;FMTTYPE=image/png:https://brentwood-theatre.co.uk/wp-content/uploads/2024/01/Aladdin.png
ORGANIZER;CN="Sophisticated Entertainment":MAILTO:info@sophisticatedentertainment.com
GEO:51.6220985;0.3067854
X-APPLE-STRUCTURED-LOCATION;VALUE=URI;X-ADDRESS=Brentwood Theatre 15 Shenfield Road Brentwood Essex CM15 8AG United Kingdom;X-APPLE-RADIUS=500;X-TITLE=15 Shenfield Road:geo:0.3067854,51.6220985
END:VEVENT
END:VCALENDAR