BEGIN:VCALENDAR
VERSION:2.0
PRODID:-//Brentwood Theatre - ECPv6.15.13//NONSGML v1.0//EN
CALSCALE:GREGORIAN
METHOD:PUBLISH
X-WR-CALNAME:Brentwood Theatre
X-ORIGINAL-URL:https://brentwood-theatre.co.uk
X-WR-CALDESC:Events for Brentwood Theatre
REFRESH-INTERVAL;VALUE=DURATION:PT1H
X-Robots-Tag:noindex
X-PUBLISHED-TTL:PT1H
BEGIN:VTIMEZONE
TZID:Europe/London
BEGIN:DAYLIGHT
TZOFFSETFROM:+0000
TZOFFSETTO:+0100
TZNAME:BST
DTSTART:20250330T010000
END:DAYLIGHT
BEGIN:STANDARD
TZOFFSETFROM:+0100
TZOFFSETTO:+0000
TZNAME:GMT
DTSTART:20251026T010000
END:STANDARD
BEGIN:DAYLIGHT
TZOFFSETFROM:+0000
TZOFFSETTO:+0100
TZNAME:BST
DTSTART:20260329T010000
END:DAYLIGHT
BEGIN:STANDARD
TZOFFSETFROM:+0100
TZOFFSETTO:+0000
TZNAME:GMT
DTSTART:20261025T010000
END:STANDARD
BEGIN:DAYLIGHT
TZOFFSETFROM:+0000
TZOFFSETTO:+0100
TZNAME:BST
DTSTART:20270328T010000
END:DAYLIGHT
BEGIN:STANDARD
TZOFFSETFROM:+0100
TZOFFSETTO:+0000
TZNAME:GMT
DTSTART:20271031T010000
END:STANDARD
END:VTIMEZONE
BEGIN:VEVENT
DTSTART;TZID=Europe/London:20260519T193000
DTEND;TZID=Europe/London:20260523T220000
DTSTAMP:20260423T170303
CREATED:20251209T112424Z
LAST-MODIFIED:20251209T121240Z
UID:8237-1779219000-1779573600@brentwood-theatre.co.uk
SUMMARY:Brentwood Musical Theatre Society Presents Evita
DESCRIPTION:Discover the electrifying rise of Argentina’s most captivating icon in ‘Evita’\, the Tony Award–winning musical by Andrew Lloyd Webber and Tim Rice. ‘Evita’ tells the story of Eva Perón\, the wife of Argentine president Juan Perón\, tracing her rise from poverty to becoming one of the most powerful – and controversial – women in Argentina. \nThrough dazzling choreography\, powerful vocals\, and an emotionally charged narrative\, ‘Evita’ brings to life Eva’s fierce determination\, political ascent\, and lasting impact on a nation in turmoil. Guided by the sharp-eyed narrator Che\, the story unfolds with passion\, spectacle\, and the irresistible charisma that made Eva such a legend. \nThe show transports you to 1940s Argentina and features timeless classics such as ‘Don’t Cry For Me Argentina’. The show boasts an eclectic mix of Latin-infused and rock music styles with plenty of diverse choreography to match. \nBold\, passionate and unforgettable\, ‘Evita’ is a theatrical experience that continues to move audiences worldwide\, having recently taken London’s West End by storm in 2025. Book your tickets now for this iconic and simply unmissable show at Brentwood Theatre – 19-23rd May 2026. \nApprox Running Time – 2Hrs 30 Mins (Including 20 Min Interval)\nStrobe Lighting Will Be Used Throughout The Show
URL:https://brentwood-theatre.co.uk/event/brentwood-musical-theatre-society-presents-evita/2026-05-19/
LOCATION:Brentwood Theatre\, 15 Shenfield Road\, Brentwood\, Essex\, CM15 8AG\, United Kingdom
CATEGORIES:Musical
ATTACH;FMTTYPE=image/jpeg:https://brentwood-theatre.co.uk/wp-content/uploads/2025/12/BMTS-Evita-Initial-Poster-design-BANNER.jpg
GEO:51.6220985;0.3067854
X-APPLE-STRUCTURED-LOCATION;VALUE=URI;X-ADDRESS=Brentwood Theatre 15 Shenfield Road Brentwood Essex CM15 8AG United Kingdom;X-APPLE-RADIUS=500;X-TITLE=15 Shenfield Road:geo:0.3067854,51.6220985
END:VEVENT
BEGIN:VEVENT
DTSTART;TZID=Europe/London:20260709T183000
DTEND;TZID=Europe/London:20260711T200000
DTSTAMP:20260423T170303
CREATED:20251203T125555Z
LAST-MODIFIED:20260409T141842Z
UID:8221-1783621800-1783800000@brentwood-theatre.co.uk
SUMMARY:Essex Dance Theatre Presents Dance Canvas
DESCRIPTION:Essex Dance Theatre (Brentwood) will be sharing dance pieces  prepared throughout the year –  a wide variety of dance styles and music with something to suit everyone.(Saturday Matinee will be a shorter performance to suit parents of/with younger children – incorporating highlights from the Main Evening Shows – there will be no interval)\nBeginners & Primary Classes will only perform in the Saturday Matinee Show\nGrade 1 and above will perform in all performances \nApprox Running Time – 2hrs (Including 20 min Interval
URL:https://brentwood-theatre.co.uk/event/essex-dance-theatre-presents-dance-canvas/2026-07-09/
LOCATION:Brentwood Theatre\, 15 Shenfield Road\, Brentwood\, Essex\, CM15 8AG\, United Kingdom
ATTACH;FMTTYPE=image/png:https://brentwood-theatre.co.uk/wp-content/uploads/2025/12/Instep2.png
GEO:51.6220985;0.3067854
X-APPLE-STRUCTURED-LOCATION;VALUE=URI;X-ADDRESS=Brentwood Theatre 15 Shenfield Road Brentwood Essex CM15 8AG United Kingdom;X-APPLE-RADIUS=500;X-TITLE=15 Shenfield Road:geo:0.3067854,51.6220985
END:VEVENT
BEGIN:VEVENT
DTSTART;TZID=Europe/London:20261101T130000
DTEND;TZID=Europe/London:20261101T160000
DTSTAMP:20260423T170303
CREATED:20251209T151410Z
LAST-MODIFIED:20251209T152206Z
UID:8250-1793538000-1793548800@brentwood-theatre.co.uk
SUMMARY:Cartoon Circus Live
DESCRIPTION:The one hour Half Term holiday family show features some of Britain’s funniest clowns\, traditional slapstick comedy\, illusions\, the amazing girl in the spinning bottle\, magic\, a huge giant dancing bear\, cartoon characters\, an acrobatic human slinky\, puppets\, prizes and surprises. \nApprox Running Time – 1 Hour (No Interval) \nhttps://cartooncircuslive.co.uk\n@lemonjellycreative
URL:https://brentwood-theatre.co.uk/event/cartoon-circus-live/2026-11-01/
LOCATION:Brentwood Theatre\, 15 Shenfield Road\, Brentwood\, Essex\, CM15 8AG\, United Kingdom
CATEGORIES:Children's Theatre,Circus,Family
ATTACH;FMTTYPE=image/jpeg:https://brentwood-theatre.co.uk/wp-content/uploads/2025/12/Brentwood-Leaflet-FRONT-4-copy-scaled.jpg
GEO:51.6220985;0.3067854
X-APPLE-STRUCTURED-LOCATION;VALUE=URI;X-ADDRESS=Brentwood Theatre 15 Shenfield Road Brentwood Essex CM15 8AG United Kingdom;X-APPLE-RADIUS=500;X-TITLE=15 Shenfield Road:geo:0.3067854,51.6220985
END:VEVENT
END:VCALENDAR