BEGIN:VCALENDAR
VERSION:2.0
PRODID:-//Brentwood Theatre - ECPv6.15.13//NONSGML v1.0//EN
CALSCALE:GREGORIAN
METHOD:PUBLISH
X-ORIGINAL-URL:https://brentwood-theatre.co.uk
X-WR-CALDESC:Events for Brentwood Theatre
REFRESH-INTERVAL;VALUE=DURATION:PT1H
X-Robots-Tag:noindex
X-PUBLISHED-TTL:PT1H
BEGIN:VTIMEZONE
TZID:Europe/London
BEGIN:DAYLIGHT
TZOFFSETFROM:+0000
TZOFFSETTO:+0100
TZNAME:BST
DTSTART:20180325T010000
END:DAYLIGHT
BEGIN:STANDARD
TZOFFSETFROM:+0100
TZOFFSETTO:+0000
TZNAME:GMT
DTSTART:20181028T010000
END:STANDARD
BEGIN:DAYLIGHT
TZOFFSETFROM:+0000
TZOFFSETTO:+0100
TZNAME:BST
DTSTART:20190331T010000
END:DAYLIGHT
BEGIN:STANDARD
TZOFFSETFROM:+0100
TZOFFSETTO:+0000
TZNAME:GMT
DTSTART:20191027T010000
END:STANDARD
BEGIN:DAYLIGHT
TZOFFSETFROM:+0000
TZOFFSETTO:+0100
TZNAME:BST
DTSTART:20200329T010000
END:DAYLIGHT
BEGIN:STANDARD
TZOFFSETFROM:+0100
TZOFFSETTO:+0000
TZNAME:GMT
DTSTART:20201025T010000
END:STANDARD
END:VTIMEZONE
BEGIN:VEVENT
DTSTART;TZID=Europe/London:20190126T193000
DTEND;TZID=Europe/London:20190126T220000
DTSTAMP:20260421T075152
CREATED:20181129T130137Z
LAST-MODIFIED:20181129T130137Z
UID:2143-1548531000-1548540000@brentwood-theatre.co.uk
SUMMARY:Brentwood Theatre at 25 - A Celebration!
DESCRIPTION:You only turn 25 once!\nYou’re invited to join us as we celebrate the 25th birthday of Brentwood Theatre with a special evening of music\, drama and comedy performed by some of the best local actors\, singers and musicians Brentwood has to offer!
URL:https://brentwood-theatre.co.uk/event/brentwood-theatre-at-25-a-celebration/
LOCATION:Brentwood Theatre\, 15 Shenfield Road\, Brentwood\, Essex\, CM15 8AG\, United Kingdom
CATEGORIES:Comedy,Drama,Live Music,Musical,Theatre
ATTACH;FMTTYPE=image/png:https://brentwood-theatre.co.uk/wp-content/uploads/2018/11/25.png
GEO:51.6220985;0.3067854
X-APPLE-STRUCTURED-LOCATION;VALUE=URI;X-ADDRESS=Brentwood Theatre 15 Shenfield Road Brentwood Essex CM15 8AG United Kingdom;X-APPLE-RADIUS=500;X-TITLE=15 Shenfield Road:geo:0.3067854,51.6220985
END:VEVENT
BEGIN:VEVENT
DTSTART;TZID=Europe/London:20190117T200000
DTEND;TZID=Europe/London:20190119T220000
DTSTAMP:20260421T075152
CREATED:20180917T120016Z
LAST-MODIFIED:20180913T143000Z
UID:2021-1547755200-1547935200@brentwood-theatre.co.uk
SUMMARY:Charley's Aunt - Brentwood Theatre @ 25
DESCRIPTION:Celebrating Brentwood Theatre’s 25th Anniversary\nwe are proud to present this special production of the very first play ever produced at the theatre – Charley’s Aunt.\nCharley’s rich Aunt\, Donna Lucia\, is visiting from Brazil and the timing couldn’t be better. Her presence as a chaperone will allow him and his friend Jack to ask their respective true loves\, Amy and Kitty\, for their hands in marriage. But time is ticking\, so where is Charley’s Aunt? On learning she will be delayed by several days\, they blackmail their eccentric friend\, Lord Fancourt Babberley\, to save their romantic plans and pose as Donna Lucia….and then Charley’s real Aunt arrives… \nSaturday evening will feature a post-show\, 25th Anniversary party
URL:https://brentwood-theatre.co.uk/event/charleys-aunt-brentwood-theatre-25/
LOCATION:Brentwood Theatre\, 15 Shenfield Road\, Brentwood\, Essex\, CM15 8AG\, United Kingdom
CATEGORIES:Comedy,Drama,Theatre
ATTACH;FMTTYPE=image/jpeg:https://brentwood-theatre.co.uk/wp-content/uploads/2018/09/Charleys-Aunt.jpg
GEO:51.6220985;0.3067854
X-APPLE-STRUCTURED-LOCATION;VALUE=URI;X-ADDRESS=Brentwood Theatre 15 Shenfield Road Brentwood Essex CM15 8AG United Kingdom;X-APPLE-RADIUS=500;X-TITLE=15 Shenfield Road:geo:0.3067854,51.6220985
END:VEVENT
BEGIN:VEVENT
DTSTART;TZID=Europe/London:20190112T100000
DTEND;TZID=Europe/London:20190112T180000
DTSTAMP:20260421T075152
CREATED:20181129T134347Z
LAST-MODIFIED:20181129T135531Z
UID:2152-1547287200-1547316000@brentwood-theatre.co.uk
SUMMARY:Brentwood Theatre at 25 - Open Day 'Theatre Tours'
DESCRIPTION:As part of our celebratory open day take a behind-the-scenes tour backstage and technical demonstration led by our experienced Technical Supervisor! See what happens behind the curtain and up on our technical gallery\, with the opportunity to get hands on and perhaps even try on a costume or two… \nAttendance on the tours is free but booking in advance is essential as there are limited spaces per tour.
URL:https://brentwood-theatre.co.uk/event/brentwood-theatre-at-25-open-day-theatre-tours/
LOCATION:Brentwood Theatre\, 15 Shenfield Road\, Brentwood\, Essex\, CM15 8AG\, United Kingdom
CATEGORIES:Children's Theatre,Family,Theatre
ATTACH;FMTTYPE=image/png:https://brentwood-theatre.co.uk/wp-content/uploads/2018/11/Open-Day-small.png
GEO:51.6220985;0.3067854
X-APPLE-STRUCTURED-LOCATION;VALUE=URI;X-ADDRESS=Brentwood Theatre 15 Shenfield Road Brentwood Essex CM15 8AG United Kingdom;X-APPLE-RADIUS=500;X-TITLE=15 Shenfield Road:geo:0.3067854,51.6220985
END:VEVENT
BEGIN:VEVENT
DTSTART;TZID=Europe/London:20190112T100000
DTEND;TZID=Europe/London:20190112T180000
DTSTAMP:20260421T075152
CREATED:20181129T133905Z
LAST-MODIFIED:20181129T134011Z
UID:2147-1547287200-1547316000@brentwood-theatre.co.uk
SUMMARY:Brentwood Theatre at 25 - Open Day
DESCRIPTION:You only turn 25 once!\nWe’re celebrating in style throughout January 2019\, starting by throwing our doors open to anyone and everyone who wants to come and visit us to see who we are and what we do! \nJoin us for: \n\nTheatre Tours (free to attend but please book on in advance)\nStorytelling\nWorkshops\nExhibitions\nDemonstrations\nPerformances\n\nPLUS meet the many local performing arts groups that call Brentwood Theatre home and learn how you can get involved. \nThe open day is FREE to attend and we’d be delighted to see you to celebrate with us!
URL:https://brentwood-theatre.co.uk/event/brentwood-theatre-at-25-open-day/
LOCATION:Brentwood Theatre\, 15 Shenfield Road\, Brentwood\, Essex\, CM15 8AG\, United Kingdom
CATEGORIES:Children's Theatre,Dance,Drama,Family,Get into ARTS!,Live Music,Musical,Storytelling,Theatre,Workshop
ATTACH;FMTTYPE=image/png:https://brentwood-theatre.co.uk/wp-content/uploads/2018/11/Open-Day-small.png
GEO:51.6220985;0.3067854
X-APPLE-STRUCTURED-LOCATION;VALUE=URI;X-ADDRESS=Brentwood Theatre 15 Shenfield Road Brentwood Essex CM15 8AG United Kingdom;X-APPLE-RADIUS=500;X-TITLE=15 Shenfield Road:geo:0.3067854,51.6220985
END:VEVENT
END:VCALENDAR