BEGIN:VCALENDAR
VERSION:2.0
PRODID:-//Brentwood Theatre - ECPv6.15.13//NONSGML v1.0//EN
CALSCALE:GREGORIAN
METHOD:PUBLISH
X-ORIGINAL-URL:https://brentwood-theatre.co.uk
X-WR-CALDESC:Events for Brentwood Theatre
REFRESH-INTERVAL;VALUE=DURATION:PT1H
X-Robots-Tag:noindex
X-PUBLISHED-TTL:PT1H
BEGIN:VTIMEZONE
TZID:Europe/London
BEGIN:DAYLIGHT
TZOFFSETFROM:+0000
TZOFFSETTO:+0100
TZNAME:BST
DTSTART:20170326T010000
END:DAYLIGHT
BEGIN:STANDARD
TZOFFSETFROM:+0100
TZOFFSETTO:+0000
TZNAME:GMT
DTSTART:20171029T010000
END:STANDARD
BEGIN:DAYLIGHT
TZOFFSETFROM:+0000
TZOFFSETTO:+0100
TZNAME:BST
DTSTART:20180325T010000
END:DAYLIGHT
BEGIN:STANDARD
TZOFFSETFROM:+0100
TZOFFSETTO:+0000
TZNAME:GMT
DTSTART:20181028T010000
END:STANDARD
BEGIN:DAYLIGHT
TZOFFSETFROM:+0000
TZOFFSETTO:+0100
TZNAME:BST
DTSTART:20190331T010000
END:DAYLIGHT
BEGIN:STANDARD
TZOFFSETFROM:+0100
TZOFFSETTO:+0000
TZNAME:GMT
DTSTART:20191027T010000
END:STANDARD
END:VTIMEZONE
BEGIN:VEVENT
DTSTART;TZID=Europe/London:20180127T193000
DTEND;TZID=Europe/London:20180127T210000
DTSTAMP:20260423T135344
CREATED:20180108T152743Z
LAST-MODIFIED:20180126T132535Z
UID:1219-1517081400-1517086800@brentwood-theatre.co.uk
SUMMARY:Muppet Treasure Island
DESCRIPTION:This event has been cancelled. \n\nWalt Disney’s The Muppets  \nBrought to you by Brentwood Theatre. \n  \nAhoy\, matey! Get ready for hilarity on the high seas with Kermit the Frog\, Miss Piggy and all the Muppets in this exciting action-adventure\, inspired by Robert Louis Stevenson’s classic pirate tale. \nWhen young Jim Hawkins inherits a long-lost treasure map\, he hires the great ship Hispaniola to seek his fortune. With the good Captain Smollett (Kermit the Frog) at the helm – and greedy Long John Silver (Tim Curry) at the heart of dastardly plot – they set sail for adventure only to discover danger at every turn! \nShown by arrangement with Filmbankmedia. \nUnder 16’s must be accompanied by an adult. \nBabes in arms must have a ticket (free for under 2s). \nPlease note that carrycots\, pushchairs\, prams and booster cushions are not allowed in the Auditorium.  They can be left in the foyer at owners risk. \n  \nCertificate U  \nRuntime: 95 minutes
URL:https://brentwood-theatre.co.uk/event/muppet-treasure-island/
LOCATION:Brentwood Theatre\, 15 Shenfield Road\, Brentwood\, Essex\, CM15 8AG\, United Kingdom
CATEGORIES:Cinema,Family
ATTACH;FMTTYPE=image/jpeg:https://brentwood-theatre.co.uk/wp-content/uploads/2018/01/Muppet-CANCELLED.jpg
GEO:51.6220985;0.3067854
X-APPLE-STRUCTURED-LOCATION;VALUE=URI;X-ADDRESS=Brentwood Theatre 15 Shenfield Road Brentwood Essex CM15 8AG United Kingdom;X-APPLE-RADIUS=500;X-TITLE=15 Shenfield Road:geo:0.3067854,51.6220985
END:VEVENT
END:VCALENDAR