BEGIN:VCALENDAR
VERSION:2.0
PRODID:-//Brentwood Theatre - ECPv6.15.13//NONSGML v1.0//EN
CALSCALE:GREGORIAN
METHOD:PUBLISH
X-ORIGINAL-URL:https://brentwood-theatre.co.uk
X-WR-CALDESC:Events for Brentwood Theatre
REFRESH-INTERVAL;VALUE=DURATION:PT1H
X-Robots-Tag:noindex
X-PUBLISHED-TTL:PT1H
BEGIN:VTIMEZONE
TZID:Europe/London
BEGIN:DAYLIGHT
TZOFFSETFROM:+0000
TZOFFSETTO:+0100
TZNAME:BST
DTSTART:20230326T010000
END:DAYLIGHT
BEGIN:STANDARD
TZOFFSETFROM:+0100
TZOFFSETTO:+0000
TZNAME:GMT
DTSTART:20231029T010000
END:STANDARD
BEGIN:DAYLIGHT
TZOFFSETFROM:+0000
TZOFFSETTO:+0100
TZNAME:BST
DTSTART:20240331T010000
END:DAYLIGHT
BEGIN:STANDARD
TZOFFSETFROM:+0100
TZOFFSETTO:+0000
TZNAME:GMT
DTSTART:20241027T010000
END:STANDARD
BEGIN:DAYLIGHT
TZOFFSETFROM:+0000
TZOFFSETTO:+0100
TZNAME:BST
DTSTART:20250330T010000
END:DAYLIGHT
BEGIN:STANDARD
TZOFFSETFROM:+0100
TZOFFSETTO:+0000
TZNAME:GMT
DTSTART:20251026T010000
END:STANDARD
END:VTIMEZONE
BEGIN:VEVENT
DTSTART;TZID=Europe/London:20241224T120000
DTEND;TZID=Europe/London:20241224T130000
DTSTAMP:20260423T124110
CREATED:20240606T161507Z
LAST-MODIFIED:20240606T161507Z
UID:7343-1735041600-1735045200@brentwood-theatre.co.uk
SUMMARY:The Night Before Christmas
DESCRIPTION:Brentwood Theatre presents\nThe Night Before Christmas\nan original family musical\n‘Twas the night before Christmas\, and all through the house\, not a creature was stirring…except for a child sneaking out of her bedroom to try and catch a glimpse of Santa! Little does she know the adventure that’s in store when she encounters Humbug\, the friendly mouse of the house\, and when Santa gets stuck in the chimney they’ll need to work together\, with the help of the Sugar Plum Fairy and Rudolph\, to save Christmas for everyone! \nThe sell-out musical for the whole family returns to Brentwood Theatre this December to enchant audiences once again as our two actors take the stage to tell the quintessential Christmas story using puppetry and a little touch of Christmas magic! \nAdapted from the poem The Night Before Christmas by Clement Clarke Moore. \nRecommended for ages 3+ \nApprox. running time 55 mins
URL:https://brentwood-theatre.co.uk/event/the-night-before-christmas-3/2024-12-24/10/
LOCATION:Brentwood Theatre\, 15 Shenfield Road\, Brentwood\, Essex\, CM15 8AG\, United Kingdom
CATEGORIES:Children's Theatre,Community,Family,Family Musical,Get into ARTS!,Musical,Pantomime,Theatre
ATTACH;FMTTYPE=image/png:https://brentwood-theatre.co.uk/wp-content/uploads/2024/05/The-night-before-xmas-poster_2024_v3_LR-e1715337256257.png
GEO:51.6220985;0.3067854
X-APPLE-STRUCTURED-LOCATION;VALUE=URI;X-ADDRESS=Brentwood Theatre 15 Shenfield Road Brentwood Essex CM15 8AG United Kingdom;X-APPLE-RADIUS=500;X-TITLE=15 Shenfield Road:geo:0.3067854,51.6220985
END:VEVENT
BEGIN:VEVENT
DTSTART;TZID=Europe/London:20241220T193000
DTEND;TZID=Europe/London:20241220T213000
DTSTAMP:20260423T124110
CREATED:20241023T150133Z
LAST-MODIFIED:20241220T120825Z
UID:7201-1734723000-1734730200@brentwood-theatre.co.uk
SUMMARY:Christmas Sing-A-Long
DESCRIPTION:Start your Christmas off right and join us for our Christmas Sing-a-long featuring all your favourite festive songs and carols. The sing-a-long will be led live on piano by Brentwood Theatre manager and the musical director of our Christmas show ‘The Night Before Christmas’\, Ian Southgate\, and the theatre bar will be open offering hot chocolate…with a dash of Baileys perhaps\, mince pies (as well as our usual full range of drinks)! \nThis event is free to attend but we would appreciate a small donation on the door
URL:https://brentwood-theatre.co.uk/event/christmas-sing-a-long-3/
LOCATION:Brentwood Theatre\, 15 Shenfield Road\, Brentwood\, Essex\, CM15 8AG\, United Kingdom
CATEGORIES:Community,Live Music
ATTACH;FMTTYPE=image/png:https://brentwood-theatre.co.uk/wp-content/uploads/2024/10/Christmas-Sing-a-long.png
GEO:51.6220985;0.3067854
X-APPLE-STRUCTURED-LOCATION;VALUE=URI;X-ADDRESS=Brentwood Theatre 15 Shenfield Road Brentwood Essex CM15 8AG United Kingdom;X-APPLE-RADIUS=500;X-TITLE=15 Shenfield Road:geo:0.3067854,51.6220985
END:VEVENT
BEGIN:VEVENT
DTSTART;TZID=Europe/London:20241217T173000
DTEND;TZID=Europe/London:20241217T183000
DTSTAMP:20260423T124110
CREATED:20241206T163538Z
LAST-MODIFIED:20241206T163538Z
UID:7273-1734456600-1734460200@brentwood-theatre.co.uk
SUMMARY:The Night Before Christmas (Pay What You Can)
DESCRIPTION:Here at Brentwood Theatre\, we believe that everyone should have access to theatre. Therefore\, we’re thrilled to be able to support two special ‘Pay What You Can’ performances of our Christmas family musical The Night Before Christmas!\nThese performances will be on Monday 16th December at 6pm and Tuesday 17th December at 5.30pm only.\n\n‘Twas the night before Christmas\, and all through the house\, not a creature was stirring…except for a child sneaking out of her bedroom to try and catch a glimpse of Santa! Little does she know the adventure that’s in store when she encounters Humbug\, the friendly mouse of the house\, and when Santa gets stuck in the chimney they’ll need to work together\, with the help of the Sugar Plum Fairy and Rudolph\, to save Christmas for everyone! \nThe sell-out musical for the whole family returns to Brentwood Theatre this December to enchant audiences once again as our two actors take the stage to tell the quintessential Christmas story using puppetry and a little touch of Christmas magic! \nAdapted from the poem The Night Before Christmas by Clement Clarke Moore. \nRecommended for ages 3+ \nApprox. running time 60 mins
URL:https://brentwood-theatre.co.uk/event/the-night-before-christmas-pay-what-you-can-2/
LOCATION:Brentwood Theatre\, 15 Shenfield Road\, Brentwood\, Essex\, CM15 8AG\, United Kingdom
ATTACH;FMTTYPE=image/png:https://brentwood-theatre.co.uk/wp-content/uploads/2024/12/PWYC-1.png
GEO:51.6220985;0.3067854
X-APPLE-STRUCTURED-LOCATION;VALUE=URI;X-ADDRESS=Brentwood Theatre 15 Shenfield Road Brentwood Essex CM15 8AG United Kingdom;X-APPLE-RADIUS=500;X-TITLE=15 Shenfield Road:geo:0.3067854,51.6220985
END:VEVENT
BEGIN:VEVENT
DTSTART;TZID=Europe/London:20241216T180000
DTEND;TZID=Europe/London:20241216T190000
DTSTAMP:20260423T124110
CREATED:20241206T163318Z
LAST-MODIFIED:20241206T163318Z
UID:7270-1734372000-1734375600@brentwood-theatre.co.uk
SUMMARY:The Night Before Christmas (Pay What You Can)
DESCRIPTION:Here at Brentwood Theatre\, we believe that everyone should have access to theatre. Therefore\, we’re thrilled to be able to support two special ‘Pay What You Can’ performances of our Christmas family musical The Night Before Christmas!\nThese performances will be on Monday 16th December at 6pm and Tuesday 17th December at 5.30pm only.\n\n‘Twas the night before Christmas\, and all through the house\, not a creature was stirring…except for a child sneaking out of her bedroom to try and catch a glimpse of Santa! Little does she know the adventure that’s in store when she encounters Humbug\, the friendly mouse of the house\, and when Santa gets stuck in the chimney they’ll need to work together\, with the help of the Sugar Plum Fairy and Rudolph\, to save Christmas for everyone! \nThe sell-out musical for the whole family returns to Brentwood Theatre this December to enchant audiences once again as our two actors take the stage to tell the quintessential Christmas story using puppetry and a little touch of Christmas magic! \nAdapted from the poem The Night Before Christmas by Clement Clarke Moore. \nRecommended for ages 3+ \nApprox. running time 60 mins
URL:https://brentwood-theatre.co.uk/event/the-night-before-christmas-pay-what-you-can/
LOCATION:Brentwood Theatre\, 15 Shenfield Road\, Brentwood\, Essex\, CM15 8AG\, United Kingdom
ATTACH;FMTTYPE=image/png:https://brentwood-theatre.co.uk/wp-content/uploads/2024/12/PWYC-1.png
GEO:51.6220985;0.3067854
X-APPLE-STRUCTURED-LOCATION;VALUE=URI;X-ADDRESS=Brentwood Theatre 15 Shenfield Road Brentwood Essex CM15 8AG United Kingdom;X-APPLE-RADIUS=500;X-TITLE=15 Shenfield Road:geo:0.3067854,51.6220985
END:VEVENT
END:VCALENDAR