BEGIN:VCALENDAR
VERSION:2.0
PRODID:-//Brentwood Theatre - ECPv6.15.13//NONSGML v1.0//EN
CALSCALE:GREGORIAN
METHOD:PUBLISH
X-ORIGINAL-URL:https://brentwood-theatre.co.uk
X-WR-CALDESC:Events for Brentwood Theatre
REFRESH-INTERVAL;VALUE=DURATION:PT1H
X-Robots-Tag:noindex
X-PUBLISHED-TTL:PT1H
BEGIN:VTIMEZONE
TZID:Europe/London
BEGIN:DAYLIGHT
TZOFFSETFROM:+0000
TZOFFSETTO:+0100
TZNAME:BST
DTSTART:20240331T010000
END:DAYLIGHT
BEGIN:STANDARD
TZOFFSETFROM:+0100
TZOFFSETTO:+0000
TZNAME:GMT
DTSTART:20241027T010000
END:STANDARD
BEGIN:DAYLIGHT
TZOFFSETFROM:+0000
TZOFFSETTO:+0100
TZNAME:BST
DTSTART:20250330T010000
END:DAYLIGHT
BEGIN:STANDARD
TZOFFSETFROM:+0100
TZOFFSETTO:+0000
TZNAME:GMT
DTSTART:20251026T010000
END:STANDARD
BEGIN:DAYLIGHT
TZOFFSETFROM:+0000
TZOFFSETTO:+0100
TZNAME:BST
DTSTART:20260329T010000
END:DAYLIGHT
BEGIN:STANDARD
TZOFFSETFROM:+0100
TZOFFSETTO:+0000
TZNAME:GMT
DTSTART:20261025T010000
END:STANDARD
BEGIN:DAYLIGHT
TZOFFSETFROM:+0000
TZOFFSETTO:+0100
TZNAME:BST
DTSTART:20270328T010000
END:DAYLIGHT
BEGIN:STANDARD
TZOFFSETFROM:+0100
TZOFFSETTO:+0000
TZNAME:GMT
DTSTART:20271031T010000
END:STANDARD
END:VTIMEZONE
BEGIN:VEVENT
DTSTART;TZID=Europe/London:20260403T190000
DTEND;TZID=Europe/London:20260403T223000
DTSTAMP:20260422T141814
CREATED:20260226T161718Z
LAST-MODIFIED:20260226T161718Z
UID:56564-1775242800-1775255400@brentwood-theatre.co.uk
SUMMARY:LDN Wrestling - Live & Unleashed 2026 Tour
DESCRIPTION:Get ready\, wrestling fans – LDN Wrestling is back in town and bigger than ever! \nThis 2026 tour brings you an all-new\, action-packed show featuring the very best in British wrestling entertainment. Expect high-octane drama\, jaw-dropping athleticism and the kind of hard-hitting excitement that only LDN can deliver. \nJoin us for an evening of non-stop thrills as the top stars of the ring go head-to-head in an all-out battle for glory. From bone-crunching piledrivers to body-slamming showdowns\, every bout promises to keep you on the edge of your seat. \nWhether you’re a lifelong fan or brand new to the spectacle\, this is an unmissable evening of family-friendly entertainment that guarantees cheers\, laughs and pure adrenaline from bell to bell. \nDon’t miss your chance to witness the LDN Wrestling 2026 Tour – a live experience like no other. Grab your tickets now\, feel the energy and be part of the action when the stars of British wrestling collide for the ultimate showdown! \nApprox Running Time – 2hrs 20 Mins (Including 20Min Interval)
URL:https://brentwood-theatre.co.uk/event/ldn-wrestling-live-unleashed-2026-tour/
LOCATION:Brentwood Theatre\, 15 Shenfield Road\, Brentwood\, Essex\, CM15 8AG\, United Kingdom
CATEGORIES:Wrestling
ATTACH;FMTTYPE=image/jpeg:https://brentwood-theatre.co.uk/wp-content/uploads/2026/02/Poster-scaled.jpg
GEO:51.6220985;0.3067854
X-APPLE-STRUCTURED-LOCATION;VALUE=URI;X-ADDRESS=Brentwood Theatre 15 Shenfield Road Brentwood Essex CM15 8AG United Kingdom;X-APPLE-RADIUS=500;X-TITLE=15 Shenfield Road:geo:0.3067854,51.6220985
END:VEVENT
BEGIN:VEVENT
DTSTART;TZID=Europe/London:20251107T190000
DTEND;TZID=Europe/London:20251107T210000
DTSTAMP:20260422T141814
CREATED:20251020T104608Z
LAST-MODIFIED:20251020T105526Z
UID:8090-1762542000-1762549200@brentwood-theatre.co.uk
SUMMARY:LDN Wrestling
DESCRIPTION:Back for a brand new 2025 show\, the superstars of LDN Wrestling are coming for an evening of rip-roaring\, non-stop action when all of your favourite heroes and villains of LDN get into the ring at the Brentwood Theatre! \nIt’s every man for himself. Friend against friend and foe against foe. \nAnything goes as the wrestlers battle for supremacy. One thing is for sure\, it will be sensational!\nSuitable for the entire family\, book in advance for guaranteed tickets! \nDoors 630pm\, bell time 7pm
URL:https://brentwood-theatre.co.uk/event/ldn-wrestling-9/
LOCATION:Brentwood Theatre\, 15 Shenfield Road\, Brentwood\, Essex\, CM15 8AG\, United Kingdom
CATEGORIES:Wrestling
ATTACH;FMTTYPE=image/jpeg:https://brentwood-theatre.co.uk/wp-content/uploads/2025/10/ldn-wrestling-banner-Recovered1-scaled-e1760957125607.jpg
GEO:51.6220985;0.3067854
X-APPLE-STRUCTURED-LOCATION;VALUE=URI;X-ADDRESS=Brentwood Theatre 15 Shenfield Road Brentwood Essex CM15 8AG United Kingdom;X-APPLE-RADIUS=500;X-TITLE=15 Shenfield Road:geo:0.3067854,51.6220985
END:VEVENT
BEGIN:VEVENT
DTSTART;TZID=Europe/London:20250525T150000
DTEND;TZID=Europe/London:20250525T170000
DTSTAMP:20260422T141814
CREATED:20250409T095133Z
LAST-MODIFIED:20250409T095731Z
UID:7626-1748185200-1748192400@brentwood-theatre.co.uk
SUMMARY:LDN Wrestling 2025
DESCRIPTION:The superstars of LDN Wrestling are coming for an evening of rip roaring action!  \nIt promises to be an evening of non-stop action when all of your favourite heroes and villains of LDN Wrestling! It’s every man for himself. Friend against friend and foe against foe. Anything goes as the wrestlers battle for supremacy. One thing is for sure\, it will be sensational! \nSuitable for the entire family\, book in advance for guaranteed tickets! \nApproximate running time 2hrs
URL:https://brentwood-theatre.co.uk/event/ldn-wrestling-2025-2/
LOCATION:Brentwood Theatre\, 15 Shenfield Road\, Brentwood\, Essex\, CM15 8AG\, United Kingdom
CATEGORIES:Community,Professional,Wrestling
ATTACH;FMTTYPE=image/jpeg:https://brentwood-theatre.co.uk/wp-content/uploads/2022/12/LDN.jpg
GEO:51.6220985;0.3067854
X-APPLE-STRUCTURED-LOCATION;VALUE=URI;X-ADDRESS=Brentwood Theatre 15 Shenfield Road Brentwood Essex CM15 8AG United Kingdom;X-APPLE-RADIUS=500;X-TITLE=15 Shenfield Road:geo:0.3067854,51.6220985
END:VEVENT
BEGIN:VEVENT
DTSTART;TZID=Europe/London:20250308T190000
DTEND;TZID=Europe/London:20250308T213000
DTSTAMP:20260422T141814
CREATED:20250114T165101Z
LAST-MODIFIED:20250114T165101Z
UID:7352-1741460400-1741469400@brentwood-theatre.co.uk
SUMMARY:LDN Wrestling 2025
DESCRIPTION:The superstars of LDN Wrestling are coming for an evening of rip roaring action!  \nIt promises to be an evening of non-stop action when all of your favourite heroes and villains of LDN Wrestling! It’s every man for himself. Friend against friend and foe against foe. Anything goes as the wrestlers battle for supremacy. One thing is for sure\, it will be sensational! \nSuitable for the entire family\, book in advance for guaranteed tickets! \nApproximate running time 2hrs
URL:https://brentwood-theatre.co.uk/event/ldn-wrestling-2025/
LOCATION:Brentwood Theatre\, 15 Shenfield Road\, Brentwood\, Essex\, CM15 8AG\, United Kingdom
CATEGORIES:Community,Family,Get into ARTS!,Professional,Wrestling
ATTACH;FMTTYPE=image/jpeg:https://brentwood-theatre.co.uk/wp-content/uploads/2022/12/LDN.jpg
GEO:51.6220985;0.3067854
X-APPLE-STRUCTURED-LOCATION;VALUE=URI;X-ADDRESS=Brentwood Theatre 15 Shenfield Road Brentwood Essex CM15 8AG United Kingdom;X-APPLE-RADIUS=500;X-TITLE=15 Shenfield Road:geo:0.3067854,51.6220985
END:VEVENT
END:VCALENDAR