BEGIN:VCALENDAR
VERSION:2.0
PRODID:-//Brentwood Theatre - ECPv6.15.13//NONSGML v1.0//EN
CALSCALE:GREGORIAN
METHOD:PUBLISH
X-ORIGINAL-URL:https://brentwood-theatre.co.uk
X-WR-CALDESC:Events for Brentwood Theatre
REFRESH-INTERVAL;VALUE=DURATION:PT1H
X-Robots-Tag:noindex
X-PUBLISHED-TTL:PT1H
BEGIN:VTIMEZONE
TZID:Europe/London
BEGIN:DAYLIGHT
TZOFFSETFROM:+0000
TZOFFSETTO:+0100
TZNAME:BST
DTSTART:20210328T010000
END:DAYLIGHT
BEGIN:STANDARD
TZOFFSETFROM:+0100
TZOFFSETTO:+0000
TZNAME:GMT
DTSTART:20211031T010000
END:STANDARD
BEGIN:DAYLIGHT
TZOFFSETFROM:+0000
TZOFFSETTO:+0100
TZNAME:BST
DTSTART:20220327T010000
END:DAYLIGHT
BEGIN:STANDARD
TZOFFSETFROM:+0100
TZOFFSETTO:+0000
TZNAME:GMT
DTSTART:20221030T010000
END:STANDARD
BEGIN:DAYLIGHT
TZOFFSETFROM:+0000
TZOFFSETTO:+0100
TZNAME:BST
DTSTART:20230326T010000
END:DAYLIGHT
BEGIN:STANDARD
TZOFFSETFROM:+0100
TZOFFSETTO:+0000
TZNAME:GMT
DTSTART:20231029T010000
END:STANDARD
END:VTIMEZONE
BEGIN:VEVENT
DTSTART;TZID=Europe/London:20220709T150000
DTEND;TZID=Europe/London:20220709T173000
DTSTAMP:20260425T200526
CREATED:20220520T141351Z
LAST-MODIFIED:20220520T151303Z
UID:4786-1657378800-1657387800@brentwood-theatre.co.uk
SUMMARY:Afternoon Tea at Ingatestone Hall
DESCRIPTION:Brentwood Theatre invites you to an\nAfternoon Tea at Ingatestone Hall\nJoin us for an afternoon tea with live music in the stunning setting of  Ingatestone Hall. \nEnjoy a delicious selection of freshly prepared sandwiches with scones\, clotted cream\, preserve and a variety of cakes along with a classic selection of teas in the summer parlour of Ingatestone Hall and for that extra special touch you’ll get a glass of prosecco included with your ticket. \nWhile you enjoy your sumptuous afternoon tea you’ll also be able to tap your toe along to music from our live band – you can even have a little dance if the mood takes you! \nAfter you’ve had your fill of tea\, sandwiches and cakes and enjoyed the musical entertainment you will be free to wander and explore the beautiful enclosed gardens of Ingatestone Hall comprising lawns\, walled gardens and pond. \nIngatestone Hall stands in open countryside\, one mile from the village of Ingatestone and substantially retains its original Tudor form and appearance with its mullioned windows\, high chimneys\, crow-step gables and oak-panelled rooms. The Hall remains primarily a private family residence – and\, no doubt because of this\, many visitors have commented on its friendly\, welcoming atmosphere. \nBrentwood Theatre is very grateful to be able to host this fundraising event at Ingatestone Hall and we hope you will be able to join us\, all profits from this event will go towards helping Brentwood Theatre continue to deliver community events and future projects.
URL:https://brentwood-theatre.co.uk/event/afternoon-tea-at-ingatestone-hall-2/
LOCATION:Ingatestone Hall\, Hall Lane\, Ingatestone\, Essex\, CM4 9NR\, United Kingdom
CATEGORIES:Live Music,Theatre
ATTACH;FMTTYPE=image/png:https://brentwood-theatre.co.uk/wp-content/uploads/2022/05/Afternoon-Tea-Insta.png
END:VEVENT
BEGIN:VEVENT
DTSTART;TZID=Europe/London:20220612T190000
DTEND;TZID=Europe/London:20220612T210000
DTSTAMP:20260425T200526
CREATED:20220408T151612Z
LAST-MODIFIED:20220408T151852Z
UID:4688-1655060400-1655067600@brentwood-theatre.co.uk
SUMMARY:An Audience With Kenneth Cranham
DESCRIPTION:Brentwood Theatre presents\nAn Audience With Kenneth Cranham\nAfter being rescheduled twice we’re thrilled to announce the return of the Brentwood Boy turned star of the stage\, film and television! \nKnown for his roles in films such as Made in Dagenham\, Maleficent\, Oliver!\, Valkyrie and Layer Cake for one night only Olivier Award winning actor Kenneth Cranham will grace the Brentwood Theatre stage to be interviewed about his journey from growing up in Brentwood to the stage of The National Theatre and beyond in an intimate evening where you will even get the chance to ask the questions. \nKenneth Cranham has been a major theatre\, TV\, radio and film actor for more than 50 years. In his early career after graduating from RADA he worked and became friends with the playwright Joe Orton as he did later on with Harold Pinter\, appearing in a number of his plays including The Caretaker and The Homecoming on stage and on TV with Pinter himself in The Birthday Party. In the 1980’s Ken became known to a wider audience in the TV series of Shine on Harvey Moon which is still enjoyed to this day being available on DVD. In the early 90’s Ken appeared in the ground breaking National Theatre production of An Inspector Calls which subsequently enjoyed great success in the West End and on tour in America. In 2015 Ken achieved his first Olivier award for Best Actor in The Father in which he movingly portrayed a man with Alzheimer’s disease. \nOn film Ken has appeared in such iconic films as Layer Cake\, Made in Dagenham\, Chocolat\, Valkyrie\, Gangster No 1 and the musical film of Oliver! \nOn TV he recently appeared in the drama Hatton Garden. He is currently filming Finding Alice which is currently due to air on TV later this year. \nKen is married with 2 children and lives in North London. \nAll profits from this event will go to Brentwood Theatre Trust
URL:https://brentwood-theatre.co.uk/event/an-audience-with-kenneth-cranham/
LOCATION:Brentwood Theatre\, 15 Shenfield Road\, Brentwood\, Essex\, CM15 8AG\, United Kingdom
CATEGORIES:Drama,Theatre
ATTACH;FMTTYPE=image/png:https://brentwood-theatre.co.uk/wp-content/uploads/2022/04/An-Evening-with.png
GEO:51.6220985;0.3067854
X-APPLE-STRUCTURED-LOCATION;VALUE=URI;X-ADDRESS=Brentwood Theatre 15 Shenfield Road Brentwood Essex CM15 8AG United Kingdom;X-APPLE-RADIUS=500;X-TITLE=15 Shenfield Road:geo:0.3067854,51.6220985
END:VEVENT
END:VCALENDAR