BEGIN:VCALENDAR
VERSION:2.0
PRODID:-//Brentwood Theatre - ECPv6.15.13//NONSGML v1.0//EN
CALSCALE:GREGORIAN
METHOD:PUBLISH
X-ORIGINAL-URL:https://brentwood-theatre.co.uk
X-WR-CALDESC:Events for Brentwood Theatre
REFRESH-INTERVAL;VALUE=DURATION:PT1H
X-Robots-Tag:noindex
X-PUBLISHED-TTL:PT1H
BEGIN:VTIMEZONE
TZID:Europe/London
BEGIN:DAYLIGHT
TZOFFSETFROM:+0000
TZOFFSETTO:+0100
TZNAME:BST
DTSTART:20230326T010000
END:DAYLIGHT
BEGIN:STANDARD
TZOFFSETFROM:+0100
TZOFFSETTO:+0000
TZNAME:GMT
DTSTART:20231029T010000
END:STANDARD
BEGIN:DAYLIGHT
TZOFFSETFROM:+0000
TZOFFSETTO:+0100
TZNAME:BST
DTSTART:20240331T010000
END:DAYLIGHT
BEGIN:STANDARD
TZOFFSETFROM:+0100
TZOFFSETTO:+0000
TZNAME:GMT
DTSTART:20241027T010000
END:STANDARD
BEGIN:DAYLIGHT
TZOFFSETFROM:+0000
TZOFFSETTO:+0100
TZNAME:BST
DTSTART:20250330T010000
END:DAYLIGHT
BEGIN:STANDARD
TZOFFSETFROM:+0100
TZOFFSETTO:+0000
TZNAME:GMT
DTSTART:20251026T010000
END:STANDARD
BEGIN:DAYLIGHT
TZOFFSETFROM:+0000
TZOFFSETTO:+0100
TZNAME:BST
DTSTART:20260329T010000
END:DAYLIGHT
BEGIN:STANDARD
TZOFFSETFROM:+0100
TZOFFSETTO:+0000
TZNAME:GMT
DTSTART:20261025T010000
END:STANDARD
END:VTIMEZONE
BEGIN:VEVENT
DTSTART;TZID=Europe/London:20250220T190000
DTEND;TZID=Europe/London:20250220T220000
DTSTAMP:20260423T135451
CREATED:20241013T090047Z
LAST-MODIFIED:20241217T123921Z
UID:7142-1740078000-1740088800@brentwood-theatre.co.uk
SUMMARY:National Theatre Live: The Importance of Being Earnest
DESCRIPTION:National Theatre Live brings the best of live theatre to Brentwood Community Cinema! Whether you show up for serious drama\, romcoms or sold-out award-winning hits\, National Theatre Live will bring you unmissable theatre\, filmed live from Britain’s most exciting stages. \nThree-time Olivier Award-winner Sharon D Clarke is joined by Ncuti Gatwa (Doctor Who; Sex Education) in this joyful reimagining of Oscar Wilde’s most celebrated comedy. \nWhile assuming the role of a dutiful guardian in the country\, Jack lets loose in town under a false identity. Meanwhile\, his friend Algy adopts a similar facade. Hoping to impress two eligible ladies\, the gentlemen find themselves caught in a web of lies they must carefully navigate. \nMax Webster (Life of Pi) directs this hilarious story of identity\, impersonation and romance\, filmed live from the National Theatre in London. \nApprox. running time: 3hrs (including interval)
URL:https://brentwood-theatre.co.uk/event/national-theatre-live-the-importance-of-being-earnest/
LOCATION:Brentwood Theatre\, 15 Shenfield Road\, Brentwood\, Essex\, CM15 8AG\, United Kingdom
CATEGORIES:Cinema,Comedy,Drama,NT Live,Theatre
ATTACH;FMTTYPE=image/jpeg:https://brentwood-theatre.co.uk/wp-content/uploads/2024/10/NTL-2025-The-Importance-of-Being-Earnest-Listing-Image-Portrait.jpg
GEO:51.6220985;0.3067854
X-APPLE-STRUCTURED-LOCATION;VALUE=URI;X-ADDRESS=Brentwood Theatre 15 Shenfield Road Brentwood Essex CM15 8AG United Kingdom;X-APPLE-RADIUS=500;X-TITLE=15 Shenfield Road:geo:0.3067854,51.6220985
END:VEVENT
BEGIN:VEVENT
DTSTART;TZID=Europe/London:20240906T193000
DTEND;TZID=Europe/London:20240906T220000
DTSTAMP:20260423T135451
CREATED:20240510T114658Z
LAST-MODIFIED:20240510T114658Z
UID:6786-1725651000-1725660000@brentwood-theatre.co.uk
SUMMARY:An Ideal Husband
DESCRIPTION:DOT Productions returns with The Oscar Wilde Classic ‘An Ideal Husband’. \nSir Robert Chiltern’s dinner party takes a drastic turn when Mrs Cheveley makes a surprise announcement that reveals her true motive for attending. Forced to choose between his family’s disappointment and his career\, Sir Robert turns to his friend Lord Goring for help. \nLady Chiltern makes it clear she expects her husband to be a model of perfection\, but when she expects foul play\, she makes it clear Sir Robert must do the right thing if their marriage is to survive. \nJoin us for this wonderfully witty Wilde play about public and private honour.
URL:https://brentwood-theatre.co.uk/event/an-ideal-husband/
LOCATION:Brentwood Theatre\, 15 Shenfield Road\, Brentwood\, Essex\, CM15 8AG\, United Kingdom
CATEGORIES:Comedy,Drama,Professional,Theatre
ATTACH;FMTTYPE=image/jpeg:https://brentwood-theatre.co.uk/wp-content/uploads/2024/05/Web-with-words.jpg
GEO:51.6220985;0.3067854
X-APPLE-STRUCTURED-LOCATION;VALUE=URI;X-ADDRESS=Brentwood Theatre 15 Shenfield Road Brentwood Essex CM15 8AG United Kingdom;X-APPLE-RADIUS=500;X-TITLE=15 Shenfield Road:geo:0.3067854,51.6220985
END:VEVENT
END:VCALENDAR