BEGIN:VCALENDAR
VERSION:2.0
PRODID:-//Brentwood Theatre - ECPv6.15.13//NONSGML v1.0//EN
CALSCALE:GREGORIAN
METHOD:PUBLISH
X-ORIGINAL-URL:https://brentwood-theatre.co.uk
X-WR-CALDESC:Events for Brentwood Theatre
REFRESH-INTERVAL;VALUE=DURATION:PT1H
X-Robots-Tag:noindex
X-PUBLISHED-TTL:PT1H
BEGIN:VTIMEZONE
TZID:Europe/London
BEGIN:DAYLIGHT
TZOFFSETFROM:+0000
TZOFFSETTO:+0100
TZNAME:BST
DTSTART:20220327T010000
END:DAYLIGHT
BEGIN:STANDARD
TZOFFSETFROM:+0100
TZOFFSETTO:+0000
TZNAME:GMT
DTSTART:20221030T010000
END:STANDARD
BEGIN:DAYLIGHT
TZOFFSETFROM:+0000
TZOFFSETTO:+0100
TZNAME:BST
DTSTART:20230326T010000
END:DAYLIGHT
BEGIN:STANDARD
TZOFFSETFROM:+0100
TZOFFSETTO:+0000
TZNAME:GMT
DTSTART:20231029T010000
END:STANDARD
BEGIN:DAYLIGHT
TZOFFSETFROM:+0000
TZOFFSETTO:+0100
TZNAME:BST
DTSTART:20240331T010000
END:DAYLIGHT
BEGIN:STANDARD
TZOFFSETFROM:+0100
TZOFFSETTO:+0000
TZNAME:GMT
DTSTART:20241027T010000
END:STANDARD
BEGIN:DAYLIGHT
TZOFFSETFROM:+0000
TZOFFSETTO:+0100
TZNAME:BST
DTSTART:20250330T010000
END:DAYLIGHT
BEGIN:STANDARD
TZOFFSETFROM:+0100
TZOFFSETTO:+0000
TZNAME:GMT
DTSTART:20251026T010000
END:STANDARD
END:VTIMEZONE
BEGIN:VEVENT
DTSTART;TZID=Europe/London:20241220T193000
DTEND;TZID=Europe/London:20241220T213000
DTSTAMP:20260422T131357
CREATED:20241023T150133Z
LAST-MODIFIED:20241220T120825Z
UID:7201-1734723000-1734730200@brentwood-theatre.co.uk
SUMMARY:Christmas Sing-A-Long
DESCRIPTION:Start your Christmas off right and join us for our Christmas Sing-a-long featuring all your favourite festive songs and carols. The sing-a-long will be led live on piano by Brentwood Theatre manager and the musical director of our Christmas show ‘The Night Before Christmas’\, Ian Southgate\, and the theatre bar will be open offering hot chocolate…with a dash of Baileys perhaps\, mince pies (as well as our usual full range of drinks)! \nThis event is free to attend but we would appreciate a small donation on the door
URL:https://brentwood-theatre.co.uk/event/christmas-sing-a-long-3/
LOCATION:Brentwood Theatre\, 15 Shenfield Road\, Brentwood\, Essex\, CM15 8AG\, United Kingdom
CATEGORIES:Community,Live Music
ATTACH;FMTTYPE=image/png:https://brentwood-theatre.co.uk/wp-content/uploads/2024/10/Christmas-Sing-a-long.png
GEO:51.6220985;0.3067854
X-APPLE-STRUCTURED-LOCATION;VALUE=URI;X-ADDRESS=Brentwood Theatre 15 Shenfield Road Brentwood Essex CM15 8AG United Kingdom;X-APPLE-RADIUS=500;X-TITLE=15 Shenfield Road:geo:0.3067854,51.6220985
END:VEVENT
BEGIN:VEVENT
DTSTART;TZID=Europe/London:20231223T193000
DTEND;TZID=Europe/London:20231223T213000
DTSTAMP:20260422T131357
CREATED:20231101T110057Z
LAST-MODIFIED:20231101T110124Z
UID:6156-1703359800-1703367000@brentwood-theatre.co.uk
SUMMARY:Christmas Sing-a-Long
DESCRIPTION:Start your Christmas off right and join us for our Christmas Sing-a-long featuring all your favourite festive songs and carols. The sing-a-long will be led live on piano by Brentwood Theatre manager and the musical director of our Christmas show ‘Let It Snow’\, Ian Southgate\, and the theatre bar will be open offering mulled wine and mince pies (as well as our usual full range of drinks)! \nThis event is free to attend but we would appreciate a small donation on the door.
URL:https://brentwood-theatre.co.uk/event/christmas-sing-a-long-2/
LOCATION:Brentwood Theatre\, 15 Shenfield Road\, Brentwood\, Essex\, CM15 8AG\, United Kingdom
CATEGORIES:Community,Get into ARTS!,Live Music,Theatre
ATTACH;FMTTYPE=image/png:https://brentwood-theatre.co.uk/wp-content/uploads/2023/11/Christmas-Sing-a-long.png
GEO:51.6220985;0.3067854
X-APPLE-STRUCTURED-LOCATION;VALUE=URI;X-ADDRESS=Brentwood Theatre 15 Shenfield Road Brentwood Essex CM15 8AG United Kingdom;X-APPLE-RADIUS=500;X-TITLE=15 Shenfield Road:geo:0.3067854,51.6220985
END:VEVENT
END:VCALENDAR