BEGIN:VCALENDAR
VERSION:2.0
PRODID:-//Brentwood Theatre - ECPv6.15.13//NONSGML v1.0//EN
CALSCALE:GREGORIAN
METHOD:PUBLISH
X-ORIGINAL-URL:https://brentwood-theatre.co.uk
X-WR-CALDESC:Events for Brentwood Theatre
REFRESH-INTERVAL;VALUE=DURATION:PT1H
X-Robots-Tag:noindex
X-PUBLISHED-TTL:PT1H
BEGIN:VTIMEZONE
TZID:Europe/London
BEGIN:DAYLIGHT
TZOFFSETFROM:+0000
TZOFFSETTO:+0100
TZNAME:BST
DTSTART:20210328T010000
END:DAYLIGHT
BEGIN:STANDARD
TZOFFSETFROM:+0100
TZOFFSETTO:+0000
TZNAME:GMT
DTSTART:20211031T010000
END:STANDARD
BEGIN:DAYLIGHT
TZOFFSETFROM:+0000
TZOFFSETTO:+0100
TZNAME:BST
DTSTART:20220327T010000
END:DAYLIGHT
BEGIN:STANDARD
TZOFFSETFROM:+0100
TZOFFSETTO:+0000
TZNAME:GMT
DTSTART:20221030T010000
END:STANDARD
BEGIN:DAYLIGHT
TZOFFSETFROM:+0000
TZOFFSETTO:+0100
TZNAME:BST
DTSTART:20230326T010000
END:DAYLIGHT
BEGIN:STANDARD
TZOFFSETFROM:+0100
TZOFFSETTO:+0000
TZNAME:GMT
DTSTART:20231029T010000
END:STANDARD
BEGIN:DAYLIGHT
TZOFFSETFROM:+0000
TZOFFSETTO:+0100
TZNAME:BST
DTSTART:20240331T010000
END:DAYLIGHT
BEGIN:STANDARD
TZOFFSETFROM:+0100
TZOFFSETTO:+0000
TZNAME:GMT
DTSTART:20241027T010000
END:STANDARD
END:VTIMEZONE
BEGIN:VEVENT
DTSTART;TZID=Europe/London:20231010T110000
DTEND;TZID=Europe/London:20231010T120000
DTSTAMP:20260420T163102
CREATED:20230505T080002Z
LAST-MODIFIED:20230504T160353Z
UID:5808-1696935600-1696939200@brentwood-theatre.co.uk
SUMMARY:The Bar at the Edge of Time
DESCRIPTION:Frozen Light present \nThe Bar at the Edge of Time\nThe glasses are polished\, the lights are low\, and time will be hopping. \nThe Bar at the Edge of Time waits only for you\, so what are you waiting for? \nLeave the hours\, minutes\, and seconds behind\, step across the threshold and meet the bar’s maestro mixologists\, crooners\, and hosts. But a mystery lies at the heart of this place\, a mystery hidden even from them. One that can only be solved when we spend our time together. \nA multi-sensory spectacular for audiences with profound and multiple learning disabilities. \nRecommended for ages 16+ with PMLD. Suitable for Adults and young adults.  \nWhy is this show suitable for adults with PMLD? \n\nThe show is multi-sensory\nSmall audiences of six people with PMLD plus their companions\nLots of 1:1 interaction with the audience\nNo raked seating\, fully accessible space\nHighly trained performers with years of experience working with people with learning disabilities\nThe audience doesn’t have to sit still and can make noise\n\nThe development and tour of The Bar at the Edge of Time is supported using public funding by the National Lottery through Arts Council England. \nApproximate run time 60mins \n 
URL:https://brentwood-theatre.co.uk/event/the-bar-at-the-edge-of-time/2023-10-10/
LOCATION:Brentwood Theatre\, 15 Shenfield Road\, Brentwood\, Essex\, CM15 8AG\, United Kingdom
ATTACH;FMTTYPE=image/png:https://brentwood-theatre.co.uk/wp-content/uploads/2023/05/THE-BAR-Marketing-Pack-1.png
GEO:51.6220985;0.3067854
X-APPLE-STRUCTURED-LOCATION;VALUE=URI;X-ADDRESS=Brentwood Theatre 15 Shenfield Road Brentwood Essex CM15 8AG United Kingdom;X-APPLE-RADIUS=500;X-TITLE=15 Shenfield Road:geo:0.3067854,51.6220985
END:VEVENT
BEGIN:VEVENT
DTSTART;TZID=Europe/London:20220916T110000
DTEND;TZID=Europe/London:20220916T120000
DTSTAMP:20260420T163102
CREATED:20220808T103742Z
LAST-MODIFIED:20220808T104624Z
UID:5164-1663326000-1663329600@brentwood-theatre.co.uk
SUMMARY:2065
DESCRIPTION:Frozen Light present\n2065\nThe year is 2065; the people are stifled under an oppressive regime made up of all-powerful corporations. We follow a group of rebels who live outside the system and believe things can change for the better. How can they remind people of a time when things were different? When they hoped not only to survive but to thrive? Can they bring music back to a city where it is needed more than ever? \n2065 is a futuristic sensory extravaganza for audiences with profound and multiple learning disabilities. Frozen Light are specialists in making sensory theatre for adult audiences with PMLD and this is their fifth touring production. \nPLEASE CALL THE BOX OFFICE TO BOOK – 01277 200305 \n“The way the show is so carefully tailored to the audience’s needs provides a vital reminder that theatre can accommodate everyone.” The Stage **** \nRecommended for ages 13+ with PMLD. Suitable for Adults and young adults. \nWhy is this show suitable for adults with PMLD? \n\n\n\nThe show is multi-sensory\nSmall audiences of six people with PMLD plus their companions\nLots of 1:1 interaction with the audience\nNo raked seating\, fully accessible space\nHighly trained performers with years of experience working with people with learning disabilities\nThe audience doesn’t have to sit still and can make noise\n\n\n\nSupported using public funding by the National Lottery through Arts Council England \nApproximate run time 60mins \nYou can download the VISUAL STORY for this production HERE
URL:https://brentwood-theatre.co.uk/event/2065/2022-09-16/
LOCATION:Brentwood Theatre\, 15 Shenfield Road\, Brentwood\, Essex\, CM15 8AG\, United Kingdom
CATEGORIES:Community,Professional,Theatre
ATTACH;FMTTYPE=image/jpeg:https://brentwood-theatre.co.uk/wp-content/uploads/2022/08/2065.jpg
GEO:51.6220985;0.3067854
X-APPLE-STRUCTURED-LOCATION;VALUE=URI;X-ADDRESS=Brentwood Theatre 15 Shenfield Road Brentwood Essex CM15 8AG United Kingdom;X-APPLE-RADIUS=500;X-TITLE=15 Shenfield Road:geo:0.3067854,51.6220985
END:VEVENT
END:VCALENDAR