BEGIN:VCALENDAR
VERSION:2.0
PRODID:-//Brentwood Theatre - ECPv6.15.13//NONSGML v1.0//EN
CALSCALE:GREGORIAN
METHOD:PUBLISH
X-ORIGINAL-URL:https://brentwood-theatre.co.uk
X-WR-CALDESC:Events for Brentwood Theatre
REFRESH-INTERVAL;VALUE=DURATION:PT1H
X-Robots-Tag:noindex
X-PUBLISHED-TTL:PT1H
BEGIN:VTIMEZONE
TZID:Europe/London
BEGIN:DAYLIGHT
TZOFFSETFROM:+0000
TZOFFSETTO:+0100
TZNAME:BST
DTSTART:20220327T010000
END:DAYLIGHT
BEGIN:STANDARD
TZOFFSETFROM:+0100
TZOFFSETTO:+0000
TZNAME:GMT
DTSTART:20221030T010000
END:STANDARD
BEGIN:DAYLIGHT
TZOFFSETFROM:+0000
TZOFFSETTO:+0100
TZNAME:BST
DTSTART:20230326T010000
END:DAYLIGHT
BEGIN:STANDARD
TZOFFSETFROM:+0100
TZOFFSETTO:+0000
TZNAME:GMT
DTSTART:20231029T010000
END:STANDARD
BEGIN:DAYLIGHT
TZOFFSETFROM:+0000
TZOFFSETTO:+0100
TZNAME:BST
DTSTART:20240331T010000
END:DAYLIGHT
BEGIN:STANDARD
TZOFFSETFROM:+0100
TZOFFSETTO:+0000
TZNAME:GMT
DTSTART:20241027T010000
END:STANDARD
END:VTIMEZONE
BEGIN:VEVENT
DTSTART;TZID=Europe/London:20231127T130000
DTEND;TZID=Europe/London:20231127T143000
DTSTAMP:20260426T000748
CREATED:20230607T110839Z
LAST-MODIFIED:20230607T110839Z
UID:5876-1701090000-1701095400@brentwood-theatre.co.uk
SUMMARY:A Christmas Carol
DESCRIPTION:Dickens Theatre Company are back at Brentwood Theatre with their joyously authentic staging of this Victorian classic. \nTwo of Dickens’ closest theatrical companions find themselves trapped in the footlights’ glare. With the rest of the cast stuck on a train\, actress Frances Ternan and Dickens’ faithful tour manager George Dolby take on the daunting challenge of portraying over 30 characters. But\, who will play Scrooge? \n***** ‘Simply stunning’ Morning Star \nRecommended for PRIMARY & SECONDARY SCHOOL STUDENTS aged 8+ \n**Special schools booking rate available – please contact the Brentwood Theatre box office directly for information** \nAdapted & Directed by Ryan Philpott\nMusic by Paul Higgs\nwww.dickenstheatrecompany.co.uk
URL:https://brentwood-theatre.co.uk/event/a-christmas-carol-2/2023-11-27/
LOCATION:Brentwood Theatre\, 15 Shenfield Road\, Brentwood\, Essex\, CM15 8AG\, United Kingdom
CATEGORIES:Drama,Professional,Theatre
ATTACH;FMTTYPE=image/png:https://brentwood-theatre.co.uk/wp-content/uploads/2023/06/ACC-generic-2023-1920-x-1080-1.png
GEO:51.6220985;0.3067854
X-APPLE-STRUCTURED-LOCATION;VALUE=URI;X-ADDRESS=Brentwood Theatre 15 Shenfield Road Brentwood Essex CM15 8AG United Kingdom;X-APPLE-RADIUS=500;X-TITLE=15 Shenfield Road:geo:0.3067854,51.6220985
END:VEVENT
BEGIN:VEVENT
DTSTART;TZID=Europe/London:20231002T130000
DTEND;TZID=Europe/London:20231002T143000
DTSTAMP:20260426T000748
CREATED:20230607T110441Z
LAST-MODIFIED:20230918T102433Z
UID:5868-1696251600-1696257000@brentwood-theatre.co.uk
SUMMARY:Romeo & Juliet
DESCRIPTION:Spoiler Alert: Romeo and Juliet are dead. And they’re not the only ones. But how did this happen and why? \nDickens Theatre Company are back at Brentwood Theatre this October\, doing what they do best\, putting their unique stamp on another classic GCSE English literature text. \nAfter the success of Macbeth\, A Christmas Carol and Dr Jekyll & Mr Hyde\, DTC return with a fresh Shakespearian adaptation from writer/ director Ryan Philpott. \nRomeo & Juliet is presented as part of DTC’s “Revision on Tour” and breathes new life and wit into Shakespeare’s classic tale of “two star-crossed lovers”. \n“A masterful adaptation from DTC. The perfect introduction to Shakespeare.” Lynn Walsh\, Morning Star \nRecommended for PRIMARY & SECONDARY SCHOOL STUDENTS aged 8+. \n**Special schools booking rate available – please contact the Brentwood Theatre box office directly for information** \nAdapted & Directed by Ryan Philpott\nMusic by Paul Higgs\nwww.dickenstheatrecompany.co.uk
URL:https://brentwood-theatre.co.uk/event/romeo-juliet/2023-10-02/
LOCATION:Brentwood Theatre\, 15 Shenfield Road\, Brentwood\, Essex\, CM15 8AG\, United Kingdom
CATEGORIES:Drama,Family,Professional,Theatre
ATTACH;FMTTYPE=image/png:https://brentwood-theatre.co.uk/wp-content/uploads/2023/06/RJ.png
GEO:51.6220985;0.3067854
X-APPLE-STRUCTURED-LOCATION;VALUE=URI;X-ADDRESS=Brentwood Theatre 15 Shenfield Road Brentwood Essex CM15 8AG United Kingdom;X-APPLE-RADIUS=500;X-TITLE=15 Shenfield Road:geo:0.3067854,51.6220985
END:VEVENT
BEGIN:VEVENT
DTSTART;TZID=Europe/London:20230924T190000
DTEND;TZID=Europe/London:20230924T210000
DTSTAMP:20260426T000748
CREATED:20230518T090043Z
LAST-MODIFIED:20230517T121107Z
UID:5765-1695582000-1695589200@brentwood-theatre.co.uk
SUMMARY:An Audience With John Heffernan
DESCRIPTION:Join us for an intimate conversation with star of The National Theatre and RSC – and local boy – John Heffernan. \nBorn just down the road in Billericay\, John  started his acting career at the Brentwood Theatre\, appearing in plays with The Hutton Players and the Brentwood Shakespeare Company; for playing Florizel in The Winters Tale he won a local Best Actor Award. \nJohn has worked with the English Touring Theatre\, The Royal Shakespeare Company and the National Theatre\, taking the lead roles of Edward II at the National and Oppenheimer with the RSC which transferred to the West End. \nHe has appeared on screen in a number of roles\, including Henry Lascelles in the BBC adaptation of the novel Jonathan Strange & Mr Norrell\, Jaggers in Dickensian and Steven Rose in the fourth series of Luther. In 2017 he played John Grigg in an episode of the Netflix series The Crown. In film he was recently seen in The Duke playing alongside Jim Broadbent. \nJohn returned to the National Theatre in 2022 to play the co-lead opposite Katherine Parkinson in a new production of Much Ado About Nothing directed by Simon Godwin.
URL:https://brentwood-theatre.co.uk/event/an-audience-with-john-heffernan/
LOCATION:Brentwood Theatre\, 15 Shenfield Road\, Brentwood\, Essex\, CM15 8AG\, United Kingdom
CATEGORIES:Community,Drama,Get into ARTS!,Professional,Theatre
ATTACH;FMTTYPE=image/png:https://brentwood-theatre.co.uk/wp-content/uploads/2023/03/John-Heffernan-Insta.png
GEO:51.6220985;0.3067854
X-APPLE-STRUCTURED-LOCATION;VALUE=URI;X-ADDRESS=Brentwood Theatre 15 Shenfield Road Brentwood Essex CM15 8AG United Kingdom;X-APPLE-RADIUS=500;X-TITLE=15 Shenfield Road:geo:0.3067854,51.6220985
END:VEVENT
END:VCALENDAR