BEGIN:VCALENDAR
VERSION:2.0
PRODID:-//Brentwood Theatre - ECPv6.15.13//NONSGML v1.0//EN
CALSCALE:GREGORIAN
METHOD:PUBLISH
X-WR-CALNAME:Brentwood Theatre
X-ORIGINAL-URL:https://brentwood-theatre.co.uk
X-WR-CALDESC:Events for Brentwood Theatre
REFRESH-INTERVAL;VALUE=DURATION:PT1H
X-Robots-Tag:noindex
X-PUBLISHED-TTL:PT1H
BEGIN:VTIMEZONE
TZID:Europe/London
BEGIN:DAYLIGHT
TZOFFSETFROM:+0000
TZOFFSETTO:+0100
TZNAME:BST
DTSTART:20250330T010000
END:DAYLIGHT
BEGIN:STANDARD
TZOFFSETFROM:+0100
TZOFFSETTO:+0000
TZNAME:GMT
DTSTART:20251026T010000
END:STANDARD
BEGIN:DAYLIGHT
TZOFFSETFROM:+0000
TZOFFSETTO:+0100
TZNAME:BST
DTSTART:20260329T010000
END:DAYLIGHT
BEGIN:STANDARD
TZOFFSETFROM:+0100
TZOFFSETTO:+0000
TZNAME:GMT
DTSTART:20261025T010000
END:STANDARD
BEGIN:DAYLIGHT
TZOFFSETFROM:+0000
TZOFFSETTO:+0100
TZNAME:BST
DTSTART:20270328T010000
END:DAYLIGHT
BEGIN:STANDARD
TZOFFSETFROM:+0100
TZOFFSETTO:+0000
TZNAME:GMT
DTSTART:20271031T010000
END:STANDARD
END:VTIMEZONE
BEGIN:VEVENT
DTSTART;TZID=Europe/London:20260529T190000
DTEND;TZID=Europe/London:20260529T220000
DTSTAMP:20260424T063821
CREATED:20250918T161956Z
LAST-MODIFIED:20260320T140452Z
UID:8035-1780081200-1780092000@brentwood-theatre.co.uk
SUMMARY:Brentwood Theatre Quiz Night
DESCRIPTION:Think you’ve got what it takes to be the ultimate quiz champions? Gather your dream team\, put those heads together\, and join us for a night of laughter\, friendly competition\, and brain-teasing fun at Brentwood Theatre! \nWith a mix of categories covering everything from the weird and wonderful to the classics you think you know\, you’ll need to choose your teammates wisely—because you never know what’s coming next. Will it be music\, movies\, history\, sport… or something completely unexpected? \nExpect high energy\, plenty of surprises\, and that unbeatable buzz when your team clinches the winning answer. It’s all about teamwork\, quick thinking\, and maybe a little bit of luck! \nSo\, rally your crew\, sharpen your wits\, and get ready to battle it out for bragging rights (and maybe even some prizes). Who will rise to the top and be crowned Brentwood’s Quiz Night Champions?
URL:https://brentwood-theatre.co.uk/event/brentwood-theatre-quiz-night/
LOCATION:Brentwood Theatre\, 15 Shenfield Road\, Brentwood\, Essex\, CM15 8AG\, United Kingdom
CATEGORIES:Fundraiser
ATTACH;FMTTYPE=image/jpeg:https://brentwood-theatre.co.uk/wp-content/uploads/2025/09/Quiz-NIGHT-1080-x-1920-px-2.jpg
GEO:51.6220985;0.3067854
X-APPLE-STRUCTURED-LOCATION;VALUE=URI;X-ADDRESS=Brentwood Theatre 15 Shenfield Road Brentwood Essex CM15 8AG United Kingdom;X-APPLE-RADIUS=500;X-TITLE=15 Shenfield Road:geo:0.3067854,51.6220985
END:VEVENT
END:VCALENDAR