BEGIN:VCALENDAR
VERSION:2.0
PRODID:-//Brentwood Theatre - ECPv6.15.13//NONSGML v1.0//EN
CALSCALE:GREGORIAN
METHOD:PUBLISH
X-ORIGINAL-URL:https://brentwood-theatre.co.uk
X-WR-CALDESC:Events for Brentwood Theatre
REFRESH-INTERVAL;VALUE=DURATION:PT1H
X-Robots-Tag:noindex
X-PUBLISHED-TTL:PT1H
BEGIN:VTIMEZONE
TZID:Europe/London
BEGIN:DAYLIGHT
TZOFFSETFROM:+0000
TZOFFSETTO:+0100
TZNAME:BST
DTSTART:20250330T010000
END:DAYLIGHT
BEGIN:STANDARD
TZOFFSETFROM:+0100
TZOFFSETTO:+0000
TZNAME:GMT
DTSTART:20251026T010000
END:STANDARD
BEGIN:DAYLIGHT
TZOFFSETFROM:+0000
TZOFFSETTO:+0100
TZNAME:BST
DTSTART:20260329T010000
END:DAYLIGHT
BEGIN:STANDARD
TZOFFSETFROM:+0100
TZOFFSETTO:+0000
TZNAME:GMT
DTSTART:20261025T010000
END:STANDARD
BEGIN:DAYLIGHT
TZOFFSETFROM:+0000
TZOFFSETTO:+0100
TZNAME:BST
DTSTART:20270328T010000
END:DAYLIGHT
BEGIN:STANDARD
TZOFFSETFROM:+0100
TZOFFSETTO:+0000
TZNAME:GMT
DTSTART:20271031T010000
END:STANDARD
END:VTIMEZONE
BEGIN:VEVENT
DTSTART;TZID=Europe/London:20260124T160000
DTEND;TZID=Europe/London:20260124T173000
DTSTAMP:20260423T235900
CREATED:20251202T111127Z
LAST-MODIFIED:20251202T113112Z
UID:8196-1769270400-1769275800@brentwood-theatre.co.uk
SUMMARY:South East Ballet Scholars presents Nutcracker
DESCRIPTION:South East Ballet Scholars (SEBS) presents a magical production of Tchaikovsky’s beloved classic\, The Nutcracker. This enchanting performance is elevated by its stellar cast\, featuring junior stars direct from the West End production at the London Coliseum. They are brilliantly complemented by talented dancers from South East Ballet Scholars and the Adagio School of Dance. Audiences will be swept away by the timeless tale of Clara\, the heroic Nutcracker Prince\, and the Sugar Plum Fairy\, all set to an iconic score. Prepare for a spectacular festive treat\, filled with dazzling dance and wonder for the entire family. \nApprox Running Time – 85 Minutes (Including 20 Minute Interval)
URL:https://brentwood-theatre.co.uk/event/south-east-ballet-scholars-presents-nutcracker/2026-01-24/2/
LOCATION:Brentwood Theatre\, 15 Shenfield Road\, Brentwood\, Essex\, CM15 8AG\, United Kingdom
CATEGORIES:Dance
ATTACH;FMTTYPE=image/png:https://brentwood-theatre.co.uk/wp-content/uploads/2025/12/Nutcracker-2026.png
GEO:51.6220985;0.3067854
X-APPLE-STRUCTURED-LOCATION;VALUE=URI;X-ADDRESS=Brentwood Theatre 15 Shenfield Road Brentwood Essex CM15 8AG United Kingdom;X-APPLE-RADIUS=500;X-TITLE=15 Shenfield Road:geo:0.3067854,51.6220985
END:VEVENT
END:VCALENDAR