BEGIN:VCALENDAR
VERSION:2.0
PRODID:-//Brentwood Theatre - ECPv6.15.13//NONSGML v1.0//EN
CALSCALE:GREGORIAN
METHOD:PUBLISH
X-WR-CALNAME:Brentwood Theatre
X-ORIGINAL-URL:https://brentwood-theatre.co.uk
X-WR-CALDESC:Events for Brentwood Theatre
REFRESH-INTERVAL;VALUE=DURATION:PT1H
X-Robots-Tag:noindex
X-PUBLISHED-TTL:PT1H
BEGIN:VTIMEZONE
TZID:Europe/London
BEGIN:DAYLIGHT
TZOFFSETFROM:+0000
TZOFFSETTO:+0100
TZNAME:BST
DTSTART:20250330T010000
END:DAYLIGHT
BEGIN:STANDARD
TZOFFSETFROM:+0100
TZOFFSETTO:+0000
TZNAME:GMT
DTSTART:20251026T010000
END:STANDARD
BEGIN:DAYLIGHT
TZOFFSETFROM:+0000
TZOFFSETTO:+0100
TZNAME:BST
DTSTART:20260329T010000
END:DAYLIGHT
BEGIN:STANDARD
TZOFFSETFROM:+0100
TZOFFSETTO:+0000
TZNAME:GMT
DTSTART:20261025T010000
END:STANDARD
BEGIN:DAYLIGHT
TZOFFSETFROM:+0000
TZOFFSETTO:+0100
TZNAME:BST
DTSTART:20270328T010000
END:DAYLIGHT
BEGIN:STANDARD
TZOFFSETFROM:+0100
TZOFFSETTO:+0000
TZNAME:GMT
DTSTART:20271031T010000
END:STANDARD
END:VTIMEZONE
BEGIN:VEVENT
DTSTART;TZID=Europe/London:20261003T193000
DTEND;TZID=Europe/London:20261003T220000
DTSTAMP:20260419T174735
CREATED:20251212T133958Z
LAST-MODIFIED:20251212T133958Z
UID:8301-1791055800-1791064800@brentwood-theatre.co.uk
SUMMARY:The Spice Party - Celebrating 30 Years Of The Spice Girls
DESCRIPTION:THE SPICE PARTY – CELEBRATING 30 YEARS OF THE SPICE GIRLS\nGet ready to Spice Up Your Life! It’s time to celebrate three decades of Girl Power with The Spice Party – the ultimate live concert experience dedicated to the music\, style\, and unstoppable energy of the world’s biggest girl group\, the Spice Girls! \nFrom Wannabe to Stop\, Say You’ll Be There to Viva Forever\, this spectacular show brings all the hits\, all the attitude\, and all the fun that defined a generation. Bursting with iconic choreography\, dazzling costumes\, and powerhouse vocals\, The Spice Party is an electrifying journey through 30 years of friendship\, empowerment\, and pop magic. \nJoin Baby\, Sporty\, Scary\, Ginger and Posh for a night of nostalgia\, laughter\, and pure 90s joy as they\nremind us why “friendship never ends. ”Whether you’re reliving your youth or discovering the Spice Girls for the first time\, The Spice Party is a\nfeel-good celebration for all ages — a glitter-filled\, singalong spectacular that will have you dancing in the aisles and shouting\, “Girl Power!” \nThe Spice Party – Celebrating 30 Years of the Spice Girls. Because the party never ends when you’re a Spice Girl. \n​Approx Running Time – 2hrs 10Mins (With 20 Minute Interval)\nThis is a standing Concert event with limited chairs
URL:https://brentwood-theatre.co.uk/event/the-spice-party-celebrating-30-years-of-the-spice-girls/
LOCATION:Brentwood Theatre\, 15 Shenfield Road\, Brentwood\, Essex\, CM15 8AG\, United Kingdom
CATEGORIES:Live Music,Tributes
ATTACH;FMTTYPE=image/jpeg:https://brentwood-theatre.co.uk/wp-content/uploads/2025/12/THE-SPICE-PARTY-POST-1080X1920.jpg
GEO:51.6220985;0.3067854
X-APPLE-STRUCTURED-LOCATION;VALUE=URI;X-ADDRESS=Brentwood Theatre 15 Shenfield Road Brentwood Essex CM15 8AG United Kingdom;X-APPLE-RADIUS=500;X-TITLE=15 Shenfield Road:geo:0.3067854,51.6220985
END:VEVENT
END:VCALENDAR