BEGIN:VCALENDAR
VERSION:2.0
PRODID:-//Brentwood Theatre - ECPv6.15.13//NONSGML v1.0//EN
CALSCALE:GREGORIAN
METHOD:PUBLISH
X-ORIGINAL-URL:https://brentwood-theatre.co.uk
X-WR-CALDESC:Events for Brentwood Theatre
REFRESH-INTERVAL;VALUE=DURATION:PT1H
X-Robots-Tag:noindex
X-PUBLISHED-TTL:PT1H
BEGIN:VTIMEZONE
TZID:Europe/London
BEGIN:DAYLIGHT
TZOFFSETFROM:+0000
TZOFFSETTO:+0100
TZNAME:BST
DTSTART:20240331T010000
END:DAYLIGHT
BEGIN:STANDARD
TZOFFSETFROM:+0100
TZOFFSETTO:+0000
TZNAME:GMT
DTSTART:20241027T010000
END:STANDARD
BEGIN:DAYLIGHT
TZOFFSETFROM:+0000
TZOFFSETTO:+0100
TZNAME:BST
DTSTART:20250330T010000
END:DAYLIGHT
BEGIN:STANDARD
TZOFFSETFROM:+0100
TZOFFSETTO:+0000
TZNAME:GMT
DTSTART:20251026T010000
END:STANDARD
BEGIN:DAYLIGHT
TZOFFSETFROM:+0000
TZOFFSETTO:+0100
TZNAME:BST
DTSTART:20260329T010000
END:DAYLIGHT
BEGIN:STANDARD
TZOFFSETFROM:+0100
TZOFFSETTO:+0000
TZNAME:GMT
DTSTART:20261025T010000
END:STANDARD
END:VTIMEZONE
BEGIN:VEVENT
DTSTART;TZID=Europe/London:20251110T133000
DTEND;TZID=Europe/London:20251110T150000
DTSTAMP:20260419T140634
CREATED:20250725T114715Z
LAST-MODIFIED:20250725T114744Z
UID:7886-1762781400-1762786800@brentwood-theatre.co.uk
SUMMARY:The Phoenician Scheme (Monday Matinee Movie)
DESCRIPTION:Brentwood Community Cinema Monday Matinee \nThe Phoenician Scheme\nThe Phoenician Scheme is a 2025 espionage black comedy film produced\, written and directed by Wes Anderson from a story he conceived with Roman Coppola. Featuring an all-star ensemble cast including Benicio del Toro\, Mia Threapleton\, Michael Cera\, Riz Ahmed\, Tom Hanks\, Bryan Cranston\, Mathieu Amalric\, Richard Ayoade\, Jeffrey Wright\, Scarlett Johansson\, Benedict Cumberbatch\, Rupert Friend\, Hope Davis\, F. Murray Abraham\, Charlotte Gainsbourg\, Willem Dafoe\, and Bill Murray. \nWealthy businessman Zsa-zsa Korda appoints his only daughter\, a nun\, as sole heir to his estate. As Korda embarks on a new enterprise\, they soon become the target of scheming tycoons\, foreign terrorists and determined assassins. \nRating: 15 (injury detail) \nRunning time: 97m \nEach ticket includes a free tea or americano coffee at the Theatre Café Bar (upgrade to a cappuccino/latte/hot chocolate etc. for just £1.50 more on the day)
URL:https://brentwood-theatre.co.uk/event/the-phoenician-scheme-monday-matinee-movie/
LOCATION:Brentwood Theatre\, 15 Shenfield Road\, Brentwood\, Essex\, CM15 8AG\, United Kingdom
CATEGORIES:Cinema,Comedy,Drama
ATTACH;FMTTYPE=image/jpeg:https://brentwood-theatre.co.uk/wp-content/uploads/2025/07/The_Phoenician_Scheme_theatrical_poster.jpg
GEO:51.6220985;0.3067854
X-APPLE-STRUCTURED-LOCATION;VALUE=URI;X-ADDRESS=Brentwood Theatre 15 Shenfield Road Brentwood Essex CM15 8AG United Kingdom;X-APPLE-RADIUS=500;X-TITLE=15 Shenfield Road:geo:0.3067854,51.6220985
END:VEVENT
END:VCALENDAR