BEGIN:VCALENDAR
VERSION:2.0
PRODID:-//Brentwood Theatre - ECPv6.15.13//NONSGML v1.0//EN
CALSCALE:GREGORIAN
METHOD:PUBLISH
X-ORIGINAL-URL:https://brentwood-theatre.co.uk
X-WR-CALDESC:Events for Brentwood Theatre
REFRESH-INTERVAL;VALUE=DURATION:PT1H
X-Robots-Tag:noindex
X-PUBLISHED-TTL:PT1H
BEGIN:VTIMEZONE
TZID:Europe/London
BEGIN:DAYLIGHT
TZOFFSETFROM:+0000
TZOFFSETTO:+0100
TZNAME:BST
DTSTART:20250330T010000
END:DAYLIGHT
BEGIN:STANDARD
TZOFFSETFROM:+0100
TZOFFSETTO:+0000
TZNAME:GMT
DTSTART:20251026T010000
END:STANDARD
BEGIN:DAYLIGHT
TZOFFSETFROM:+0000
TZOFFSETTO:+0100
TZNAME:BST
DTSTART:20260329T010000
END:DAYLIGHT
BEGIN:STANDARD
TZOFFSETFROM:+0100
TZOFFSETTO:+0000
TZNAME:GMT
DTSTART:20261025T010000
END:STANDARD
BEGIN:DAYLIGHT
TZOFFSETFROM:+0000
TZOFFSETTO:+0100
TZNAME:BST
DTSTART:20270328T010000
END:DAYLIGHT
BEGIN:STANDARD
TZOFFSETFROM:+0100
TZOFFSETTO:+0000
TZNAME:GMT
DTSTART:20271031T010000
END:STANDARD
END:VTIMEZONE
BEGIN:VEVENT
DTSTART;TZID=Europe/London:20260530T094500
DTEND;TZID=Europe/London:20260531T170000
DTSTAMP:20260419T161618
CREATED:20260212T133656Z
LAST-MODIFIED:20260212T153856Z
UID:44758-1780134300-1780246800@brentwood-theatre.co.uk
SUMMARY:Razzamataz Theatre Schools Presents "ENCORE!"
DESCRIPTION:Encore is a joyful musical theatre showcase performed by our wonderful Minis & Intro to Juniors students. The show features much-loved songs and moments from musicals such as Beauty and the Beast\, Mamma Mia!\, and All Shook Up\, giving our youngest performers the chance to shine on stage. The showcase ends with a special finale\, “Firework\,” celebrating confidence\, teamwork\, and the joy of performing together. \nApprox Running Time – 50mins (This Show Has No Interval)
URL:https://brentwood-theatre.co.uk/event/razzamataz-theatre-schools-presents-encore/2026-05-30/
LOCATION:Brentwood Theatre\, 15 Shenfield Road\, Brentwood\, Essex\, CM15 8AG\, United Kingdom
CATEGORIES:Live Music
ATTACH;FMTTYPE=image/jpeg:https://brentwood-theatre.co.uk/wp-content/uploads/2026/02/Razzamataz-Logo.jpg
GEO:51.6220985;0.3067854
X-APPLE-STRUCTURED-LOCATION;VALUE=URI;X-ADDRESS=Brentwood Theatre 15 Shenfield Road Brentwood Essex CM15 8AG United Kingdom;X-APPLE-RADIUS=500;X-TITLE=15 Shenfield Road:geo:0.3067854,51.6220985
END:VEVENT
BEGIN:VEVENT
DTSTART;TZID=Europe/London:20260927T150000
DTEND;TZID=Europe/London:20260927T210000
DTSTAMP:20260419T161618
CREATED:20260320T095314Z
LAST-MODIFIED:20260320T102902Z
UID:78091-1790521200-1790542800@brentwood-theatre.co.uk
SUMMARY:The Stages- A celebration of Musicals
DESCRIPTION:Theatretrain Romford invites you to The Stages – A Celebration of Musicals! \nJoin us for our spectacular annual showcase\, where our incredible students aged 4–18 take to the stage to sing\, dance\, and act their way through the musicals we all know and love.\nThis year’s production is a vibrant\, high‑energy celebration of musical theatre\, brought to life by our talented young performers. From show‑stopping numbers to heartfelt moments\, The Stages promises an unforgettable experience filled with passion\, creativity\, and pure theatrical magic.\nWatch our rising stars shine as they bring iconic musical moments to life with their enthusiasm\, skill\, and unstoppable energy. \nDon’t miss this uplifting performance that will leave you inspired\, entertained\, and cheering for more. Book your tickets now and join us for an afternoon or evening of musical joy! \nApprox Running Time – 2 Hours Including 20 Min Interval
URL:https://brentwood-theatre.co.uk/event/the-stages-a-celebration-of-musicals/2026-09-27/
LOCATION:Brentwood Theatre\, 15 Shenfield Road\, Brentwood\, Essex\, CM15 8AG\, United Kingdom
CATEGORIES:Variety Show
ATTACH;FMTTYPE=image/png:https://brentwood-theatre.co.uk/wp-content/uploads/2026/03/Show-poster-2026-scaled.png
GEO:51.6220985;0.3067854
X-APPLE-STRUCTURED-LOCATION;VALUE=URI;X-ADDRESS=Brentwood Theatre 15 Shenfield Road Brentwood Essex CM15 8AG United Kingdom;X-APPLE-RADIUS=500;X-TITLE=15 Shenfield Road:geo:0.3067854,51.6220985
END:VEVENT
END:VCALENDAR