BEGIN:VCALENDAR
VERSION:2.0
PRODID:-//Brentwood Theatre - ECPv6.15.13//NONSGML v1.0//EN
CALSCALE:GREGORIAN
METHOD:PUBLISH
X-ORIGINAL-URL:https://brentwood-theatre.co.uk
X-WR-CALDESC:Events for Brentwood Theatre
REFRESH-INTERVAL;VALUE=DURATION:PT1H
X-Robots-Tag:noindex
X-PUBLISHED-TTL:PT1H
BEGIN:VTIMEZONE
TZID:Europe/London
BEGIN:DAYLIGHT
TZOFFSETFROM:+0000
TZOFFSETTO:+0100
TZNAME:BST
DTSTART:20250330T010000
END:DAYLIGHT
BEGIN:STANDARD
TZOFFSETFROM:+0100
TZOFFSETTO:+0000
TZNAME:GMT
DTSTART:20251026T010000
END:STANDARD
BEGIN:DAYLIGHT
TZOFFSETFROM:+0000
TZOFFSETTO:+0100
TZNAME:BST
DTSTART:20260329T010000
END:DAYLIGHT
BEGIN:STANDARD
TZOFFSETFROM:+0100
TZOFFSETTO:+0000
TZNAME:GMT
DTSTART:20261025T010000
END:STANDARD
BEGIN:DAYLIGHT
TZOFFSETFROM:+0000
TZOFFSETTO:+0100
TZNAME:BST
DTSTART:20270328T010000
END:DAYLIGHT
BEGIN:STANDARD
TZOFFSETFROM:+0100
TZOFFSETTO:+0000
TZNAME:GMT
DTSTART:20271031T010000
END:STANDARD
END:VTIMEZONE
BEGIN:VEVENT
DTSTART;TZID=Europe/London:20261016T193000
DTEND;TZID=Europe/London:20261016T213000
DTSTAMP:20260421T180724
CREATED:20260312T154425Z
LAST-MODIFIED:20260312T172756Z
UID:70726-1792179000-1792186200@brentwood-theatre.co.uk
SUMMARY:Richard Jones Presents - The Sound Of Magic
DESCRIPTION:Britain’s Got Talent Winner Richard Jones 2025 ‘The Sound of Magic’ TOUR Richard Jones\, The Military Illusionist\, captivated the nation’s heart and mind\, earning his spot as the first and only magician to conquer the stage of Britain’s Got Talent. Now\, he’s ready to raise the bar even higher. With his unparalleled talents and a bag of never-before-seen tricks up his sleeve\, Richard will have you questioning the very fabric of reality! \nWhether you’re a die-hard magic enthusiast or simply seeking an unforgetable night of wondrous entertainment\, “The Sound of Magic” promises to be an experience you will be talking about for years to come. Your Ticket is a golden key to a realm of inexplicable feats\, unbelievable illusions\, and a sense of awe that will rejuvenate your belief in the extraordinary! The show will highlight the\nspecial link between music and our imagination while taking us on an empowering feel good journey. \nThe show also oﬀers an exciting VIP Ticket option\, allowing fans the unique personal experience of mee4ng Richard Jones before the show for an exclusive 30 minutes of close-up magic\, poster signing\, a photo opportunity and a giQ.Richard says:\n“Join me on a journey where we will experience truly impossible things come to life before our eyes”. \nInstagram / Facebook / TikTok / linkedin / Youtube: @richardjonesmagic\nTwitter : @richjonesmagic \nApprox Running Time – 1hr 20 Mins\nMeet and Greet – 30 Mins Preshow – 1 Hour prior to show time at 6:30pm. \nTEASER OF THE SHOW – CLICK HERE
URL:https://brentwood-theatre.co.uk/event/richard-jones-presents-the-sound-of-magic/
LOCATION:Brentwood Theatre\, 15 Shenfield Road\, Brentwood\, Essex\, CM15 8AG\, United Kingdom
CATEGORIES:Magic
ATTACH;FMTTYPE=image/jpeg:https://brentwood-theatre.co.uk/wp-content/uploads/2026/03/Poster-Real.jpeg
GEO:51.6220985;0.3067854
X-APPLE-STRUCTURED-LOCATION;VALUE=URI;X-ADDRESS=Brentwood Theatre 15 Shenfield Road Brentwood Essex CM15 8AG United Kingdom;X-APPLE-RADIUS=500;X-TITLE=15 Shenfield Road:geo:0.3067854,51.6220985
END:VEVENT
END:VCALENDAR